{"text_format":"1","workbook":"xlsx","n_sheets":4,"sheets":["Instructions","INPUT","FREQ SHIFT","Sheet3"],"not_rendered":{"charts":4,"images":0,"macros":1,"external_links":0,"defined_names":6,"comments":0,"pivot_tables":0},"unopened":[],"bounds":{"document_bytes":16777216,"sheet_cells":100000,"rows_first":2000,"rows_last":500,"rows_between":2000,"halvings":0,"cell_chars":16384,"cell_head_chars":4096},"cells_cut":3,"cells_raw":0,"read":"whole","date_system":"1900"}

{"sheet":"Instructions","index":0,"n_rows":19,"n_cols":3,"rows_kept":19,"cut":false,"hidden":false,"merged":[]}
["Miller Solar"]
["17395 Oak Rd. Atascadero, CA 93422"]
["SUNNY ISLAND ANALYSIS TOOL"]
[]
["Last Update",null,"2023-11-12"]
[]
["Description",null,"This spreadsheet tool is constructed to allow integrators to interpret log files from SMA Sunny Island Inverters"]
["Instructions",1,"Extract log files from SI inverter per instructions in the installation manual, Section 11.3"]
[null,2,"Clear all cells on the INPUT sheet."]
[null,3,"Open .log file for date in question with a text editor."]
[null,4,"Copy and paste the entire text from text editor at cell A1 on INPUT sheet."]
[null,5,"Parse the columns using Data/Text to Columns/Semicolon delimter."]
[null,6,"View results on the subsequent pages.  Adjust graphing start and stop time to zoom into time span to be analyzed."]
[]
["Disclaimers, limitations.",null,"This spreadhswet tool is authored by William Miller.  All rigts are reserved.  "]
[null,null,"This tool is always under construction and no gurantee is offered about its accuracy."]
[null,null,"Check back on our website for updates as additonal analysisi pages will be created over time."]
[null,null,"If any cells are locked it is to prevent damage to formulas.  There is no password."]
[null,null,"Please offer any feedback to me at william(at)millersolar.com"]

{"sheet":"INPUT","index":1,"n_rows":1437,"n_cols":150,"rows_kept":562,"cut":true,"hidden":false,"merged":[],"bounds":{"rows_first":250,"rows_last":62,"rows_between":250,"halvings":3}}
["#################"]
["#"]
["# SI6048U - Log Data"]
["#"]
["#################"]
["#"]
["# SN  :  1260024230"]
["# SN1 :  1260019947"]
["# SN2 :  1260020075"]
["# SN3 :  1260023569"]
["#"]
["TimeStamp","HsTmp (Max)","HsTmpSlv1 (Max)","HsTmpSlv2 (Max)","HsTmpSlv3 (Max)","TrfTmp (Max)","TrfTmpSlv1 (Max)","TrfTmpSlv2 (Max)","TrfTmpSlv3 (Max)","BatTmp (Max)","BatSoc (Avg)","Soh (Avg)","BatSocErr (Avg)","BatVtg (Min)","BatVtg (Max)","BatVtg (Avg)","BatChrgVtg (Avg)","TotBatCur (Min)","TotBatCur (Max)","TotBatCur (Avg)","InvVtg (Min)","InvVtg (Max)","InvVtg (Avg)","InvVtgSlv1 (Min)","InvVtgSlv1 (Max)","InvVtgSlv1 (Avg)","InvVtgSlv2 (Min)","InvVtgSlv2 (Max)","InvVtgSlv2 (Avg)","InvVtgSlv3 (Min)","InvVtgSlv3 (Max)","InvVtgSlv3 (Avg)","InvFrq (Min)","InvFrq (Max)","InvFrq (Avg)","InvCur (Max)","InvCurSlv1 (Max)","InvCurSlv2 (Max)","InvCurSlv3 (Max)","InvPwrAt (Min)","InvPwrAt (Max)","InvPwrAt (Avg)","InvPwrAtSlv1 (Min)","InvPwrAtSlv1 (Max)","InvPwrAtSlv1 (Avg)","InvPwrAtSlv2 (Min)","InvPwrAtSlv2 (Max)","InvPwrAtSlv2 (Avg)","InvPwrAtSlv3 (Min)","InvPwrAtSlv3 (Max)","InvPwrAtSlv3 (Avg)","InvPwrRt (Min)","InvPwrRt (Max)","InvPwrRt (Avg)","InvPwrRtSlv1 (Min)","InvPwrRtSlv1 (Max)","InvPwrRtSlv1 (Avg)","InvPwrRtSlv2 (Min)","InvPwrRtSlv2 (Max)","InvPwrRtSlv2 (Avg)","InvPwrRtSlv3 (Min)","InvPwrRtSlv3 (Max)","InvPwrRtSlv3 (Avg)","ExtVtg (Min)","ExtVtg (Max)","ExtVtg (Avg)","ExtVtgSlv1 (Min)","ExtVtgSlv1 (Max)","ExtVtgSlv1 (Avg)","ExtVtgSlv2 (Min)","ExtVtgSlv2 (Max)","ExtVtgSlv2 (Avg)","ExtVtgSlv3 (Min)","ExtVtgSlv3 (Max)","ExtVtgSlv3 (Avg)","ExtFrq (Min)","ExtFrq (Max)","ExtFrq (Avg)","ExtCur (Min)","ExtCur (Max)","ExtCur (Avg)","ExtCurSlv1 (Min)","ExtCurSlv1 (Max)","ExtCurSlv1 (Avg)","ExtCurSlv2 (Min)","ExtCurSlv2 (Max)","ExtCurSlv2 (Avg)","ExtCurSlv3 (Min)","ExtCurSlv3 (Max)","ExtCurSlv3 (Avg)","ExtPwrAt (Min)","ExtPwrAt (Max)","ExtPwrAt (Avg)","ExtPwrAtSlv1 (Min)","ExtPwrAtSlv1 (Max)","ExtPwrAtSlv1 (Avg)","ExtPwrAtSlv2 (Min)","ExtPwrAtSlv2 (Max)","ExtPwrAtSlv2 (Avg)","ExtPwrAtSlv3 (Min)","ExtPwrAtSlv3 (Max)","ExtPwrAtSlv3 (Avg)","ExtPwrRt (Min)","ExtPwrRt (Max)","ExtPwrRt (Avg)","ExtPwrRtSlv1 (Min)","ExtPwrRtSlv1 (Max)","ExtPwrRtSlv1 (Avg)","ExtPwrRtSlv2 (Min)","ExtPwrRtSlv2 (Max)","ExtPwrRtSlv2 (Avg)","ExtPwrRtSlv3 (Min)","ExtPwrRtSlv3 (Max)","ExtPwrRtSlv3 (Avg)","GnStt","GnDmdSrc","Rly1Stt","Rly2Stt","BatChrgOp","OpStt","RmgTmEqu (Min)","RmgTmFul (Min)","AptTmRmg","AhCntOut","Sic1Err","Sic2Err","Sic3Err","Sic4Err","Sic1Stt","Sic2Stt","Sic3Stt","Sic4Stt","Sic1PvVtg (Max)","Sic1PvVtg (Avg)","Sic2PvVtg (Max)","Sic2PvVtg (Avg)","Sic3PvVtg (Max)","Sic3PvVtg (Avg)","Sic4PvVtg (Max)","Sic4PvVtg (Avg)","Sic1PvPwr (Avg)","Sic2PvPwr (Avg)","Sic3PvPwr (Avg)","Sic4PvPwr (Avg)","ExtCurNom","InvChrgCurNom","TotLodPwr (Max)","TotLodPwr (Avg)","TotMccLodPwr (Max)","TotMccLodPwr (Avg)"]
["MM/DD/YYYY hh:mm:ss","degC","degC","degC","degC","degC","degC","degC","degC","degC","%","%","%","V","V","V","V","A","A","A","V","V","V","V","V","V","V","V","V","V","V","V","Hz","Hz","Hz","A","A","A","A","kW","kW","kW","kW","kW","kW","kW","kW","kW","kW","kW","kW","kVAr","kVAr","kVAr","kVAr","kVAr","kVAr","kVAr","kVAr","kVAr","kVAr","kVAr","kVAr","V","V","V","V","V","V","V","V","V","V","V","V","Hz","Hz","Hz","A","A","A","A","A","A","A","A","A","A","A","A","kW","kW","kW","kW","kW","kW","kW","kW","kW","kW","kW","kW","kVAr","kVAr","kVAr","kVAr","kVAr","kVAr","kVAr","kVAr","kVAr","kVAr","kVAr","kVAr",null,null,null,null,null,null,"d","d","hhmmss","Ah",null,null,null,null,null,null,null,null,"V","V","V","V","V","V","V","V","W","W","W","W","A","A","kW","kW","kW","kW"]
["2023-09-27T00:00:14",29,32,29,31,39,39,39,39,21.3,70.5,100,66.099999999999994,52.9,53,52.9,54.2,25,55.7,29.9,120,120,120,120,120.2,120,119.9,120,119.9,120,120.1,120,59,59,59,2.2999999999999998,11.5,1.9,11,0.1,0.1,0.1,0.5,1.3,0.6,0.2,0.2,0.2,0.5,1.2,0.5,-0.3,-0.2,-0.2,-0.1,0.4,0,-0.1,-0.1,-0.1,0,0.5,0,0.3,0.5,0.3,0.3,0.6,0.4,0.1,0.3,0.1,0.4,0.8,0.6,0,0,0,0.2,0.3,0.3,0.3,0.4,0.3,0.3,0.3,0.3,0.5,0.5,0.5,0,0,0,0,0,0,0,0,0,0,0,0,0,0,0,0,0,0,0,0,0,0,0,0,1,1,1,2,3,1,179.7,29.7,"00:00:00",4137,0,0,0,0,0,0,0,0,0,0,0,0,0,0,0,0,0,0,0,0,30,48,2.8,1.4,0,0]
["2023-09-27T00:01:14",29,31,29,31,39,39,39,39,21.3,70.400000000000006,100,66.099999999999994,53,53.1,53,54.2,25.3,26.2,25.6,120,120,120,120,120,120,119.9,120,119.9,119.9,120,119.9,59,59,59,2.2999999999999998,4.5,1.9,4.2,0.1,0.1,0.1,0.5,0.5,0.5,0.2,0.2,0.2,0.5,0.5,0.5,-0.3,-0.2,-0.2,-0.1,0,0,-0.1,-0.1,-0.1,0,0,0,0.2,0.5,0.3,0.3,0.6,0.4,0.1,0.3,0.2,0.4,0.7,0.5,0,0,0,0.2,0.3,0.2,0.3,0.4,0.3,0.3,0.3,0.3,0.5,0.5,0.5,0,0,0,0,0,0,0,0,0,0,0,0,0,0,0,0,0,0,0,0,0,0,0,0,1,1,1,2,3,1,179.7,29.7,"00:00:00",4137,0,0,0,0,0,0,0,0,0,0,0,0,0,0,0,0,0,0,0,0,30,48,1.3,1.3,0,0]
["2023-09-27T00:02:15",29,31,29,31,39,39,39,39,21.3,70.3,100,66.099999999999994,53,53.1,53,54.2,25.8,27.7,26.7,120,120,120,120,120,120,119.9,120,119.9,119.9,120,119.9,59,59,59,2.2999999999999998,4.5999999999999996,2.1,4.3,0.1,0.1,0.1,0.5,0.5,0.5,0.2,0.2,0.2,0.5,0.5,0.5,-0.3,-0.2,-0.2,-0.1,0,0,-0.1,-0.1,-0.1,0,0,0,0.2,0.5,0.3,0.4,0.6,0.4,0.1,0.3,0.2,0.4,0.7,0.5,0,0,0,0.2,0.3,0.2,0.3,0.4,0.3,0.3,0.3,0.3,0.5,0.5,0.5,0,0,0,0,0,0,0,0,0,0,0,0,0,0,0,0,0,0,0,0,0,0,0,0,1,1,1,2,3,1,179.7,29.7,"00:00:00",4138,0,0,0,0,0,0,0,0,0,0,0,0,0,0,0,0,0,0,0,0,30,48,1.4,1.3,0,0]
["2023-09-27T00:03:16",29,31,29,31,39,39,39,38,21.3,70.3,100,66.099999999999994,52.9,53,53,54.2,27.6,39,30,120,120,120,119.8,120.1,120,119.9,120,119.9,119.8,120,120,59,59,59,2.4,10.7,2.1,10.199999999999999,0.1,0.1,0.1,0.5,1.1000000000000001,0.6,0.2,0.2,0.2,0.5,1.1000000000000001,0.6,-0.2,-0.2,-0.2,-0.1,0.4,0,-0.1,-0.1,-0.1,0,0.4,0,0.2,0.7,0.3,0.3,0.8,0.4,0.1,0.4,0.2,0.4,0.7,0.6,0,0,0,0.2,0.3,0.2,0.3,0.4,0.3,0.2,0.3,0.3,0.5,0.5,0.5,0,0,0,0,0,0,0,0,0,0,0,0,0,0,0,0,0,0,0,0,0,0,0,0,1,1,1,2,3,1,179.7,29.7,"00:00:00",4138,0,0,0,0,0,0,0,0,0,0,0,0,0,0,0,0,0,0,0,0,30,48,2.5,1.5,0,0]
["2023-09-27T00:04:16",29,31,29,31,39,39,39,39,21.3,70.2,100,66.099999999999994,53,53,53,54.2,28.1,29.5,28.6,120,120,120,120,120,120,119.9,120,119.9,119.9,120,119.9,59,59,59,2.2999999999999998,5.2,1.9,4.9000000000000004,0.1,0.1,0.1,0.6,0.6,0.6,0.2,0.2,0.2,0.5,0.6,0.6,-0.3,-0.2,-0.2,-0.1,0,0,-0.1,-0.1,-0.1,0,0,0,0.3,0.5,0.3,0.3,0.5,0.4,0.2,0.4,0.2,0.4,0.7,0.5,0,0,0,0.2,0.3,0.2,0.3,0.4,0.3,0.2,0.3,0.2,0.5,0.5,0.5,0,0,0,0,0,0,0,0,0,0,0,0,0,0,0,0,0,0,0,0,0,0,0,0,1,1,1,2,3,1,179.7,29.7,"00:00:00",4139,0,0,0,0,0,0,0,0,0,0,0,0,0,0,0,0,0,0,0,0,30,48,1.5,1.4,0,0]
["2023-09-27T00:05:17",29,31,29,31,39,39,39,39,21.2,70.099999999999994,100,66.099999999999994,53,53,53,54.2,27.4,28.5,27.7,120,120,120,120,120,120,119.9,120,119.9,119.9,120,119.9,59,59,59,2.2000000000000002,5.0999999999999996,1.9,4.8,0.1,0.1,0.1,0.6,0.6,0.6,0.1,0.2,0.1,0.5,0.6,0.5,-0.3,-0.2,-0.2,-0.1,0,0,-0.1,-0.1,-0.1,0,0,0,0.3,0.5,0.3,0.3,0.7,0.4,0.2,0.5,0.2,0.4,0.7,0.6,0,0,0,0.2,0.3,0.2,0.3,0.3,0.3,0.2,0.3,0.3,0.5,0.5,0.5,0,0,0,0,0,0,0,0,0,0,0,0,0,0,0,0,0,0,0,0,0,0,0,0,1,1,1,2,3,1,179.7,29.7,"00:00:00",4139,0,0,0,0,0,0,0,0,0,0,0,0,0,0,0,0,0,0,0,0,30,48,1.4,1.4,0,0]
["2023-09-27T00:06:18",29,31,29,31,39,39,39,38,21.3,70,100,66.099999999999994,53,53,53,54.2,26.5,28.5,27.8,120,120,120,120,120,120,119.9,120,119.9,119.9,120,119.9,59,59,59,2.2999999999999998,5.0999999999999996,1.9,4.8,0.1,0.1,0.1,0.5,0.6,0.5,0.1,0.2,0.1,0.5,0.6,0.5,-0.3,-0.2,-0.2,-0.1,0,0,-0.1,-0.1,-0.1,0,0,0,0.2,0.5,0.3,0.3,0.6,0.4,0.2,0.5,0.2,0.4,0.7,0.5,0,0,0,0.2,0.3,0.2,0.3,0.3,0.3,0.2,0.3,0.2,0.5,0.5,0.5,0,0,0,0,0,0,0,0,0,0,0,0,0,0,0,0,0,0,0,0,0,0,0,0,1,1,1,2,3,1,179.7,29.7,"00:00:00",4140,0,0,0,0,0,0,0,0,0,0,0,0,0,0,0,0,0,0,0,0,30,48,1.4,1.3,0,0]
["2023-09-27T00:07:19",28,31,29,31,39,39,39,38,21.2,70,100,66.099999999999994,53,53.1,53,54.2,24.7,26.8,25.6,120,120,120,120,120,120,119.9,120,119.9,119.9,120,119.9,59,59,59,2.4,4.5,2.1,4.2,0.1,0.1,0.1,0.5,0.5,0.5,0.2,0.2,0.2,0.4,0.5,0.4,-0.2,-0.2,-0.2,-0.1,0,0,-0.1,-0.1,-0.1,0,0,0,0.2,0.5,0.3,0.3,0.5,0.4,0.2,0.3,0.2,0.4,0.7,0.5,0,0,0,0.2,0.3,0.3,0.3,0.4,0.3,0.3,0.3,0.3,0.5,0.5,0.5,0,0,0,0,0,0,0,0,0,0,0,0,0,0,0,0,0,0,0,0,0,0,0,0,1,1,1,2,1,1,179.7,29.7,"01:00:00",4140,0,0,0,0,0,0,0,0,0,0,0,0,0,0,0,0,0,0,0,0,30,48,1.3,1.2,0,0]
["2023-09-27T00:08:20",29,31,29,31,39,39,39,38,21.3,69.900000000000006,100,66.099999999999994,53,53.1,53,54.2,26.2,28.9,27.7,120,120,120,120,120,120,119.9,120,119.9,119.9,120,119.9,59,59,59,2.2999999999999998,5,1.9,4.7,0.1,0.1,0.1,0.5,0.6,0.5,0.2,0.2,0.2,0.5,0.6,0.5,-0.3,-0.2,-0.2,-0.1,0,0,-0.1,-0.1,-0.1,0,0,0,0.2,0.6,0.3,0.4,0.6,0.4,0.2,0.4,0.2,0.4,0.7,0.5,0,0,0,0.2,0.3,0.2,0.3,0.3,0.3,0.2,0.3,0.2,0.5,0.5,0.5,0,0,0,0,0,0,0,0,0,0,0,0,0,0,0,0,0,0,0,0,0,0,0,0,1,1,1,2,1,1,179.7,29.7,"01:00:00",4141,0,0,0,0,0,0,0,0,0,0,0,0,0,0,0,0,0,0,0,0,30,48,1.4,1.3,0,0]
["2023-09-27T00:09:21",29,31,29,31,39,39,39,38,21.3,69.8,100,66.099999999999994,53,53,53,54.2,28.2,29.4,28.5,120,120,120,120,120,120,119.9,120,119.9,120,120,120,59,59,59,2.2999999999999998,5.0999999999999996,1.9,4.9000000000000004,0.1,0.1,0.1,0.6,0.6,0.6,0.2,0.2,0.2,0.6,0.6,0.6,-0.3,-0.2,-0.2,-0.1,0,0,-0.1,-0.1,-0.1,0,0,0,0.2,0.5,0.3,0.2,0.6,0.4,0.2,0.5,0.2,0.4,0.7,0.5,0,0,0,0.2,0.3,0.3,0.3,0.4,0.3,0.2,0.3,0.2,0.5,0.5,0.5,0,0,0,0,0,0,0,0,0,0,0,0,0,0,0,0,0,0,0,0,0,0,0,0,1,1,1,2,1,1,179.7,29.7,"01:00:00",4141,0,0,0,0,0,0,0,0,0,0,0,0,0,0,0,0,0,0,0,0,30,48,1.5,1.4,0,0]
["2023-09-27T00:10:21",28,31,29,31,39,39,39,38,21.2,69.8,100,66.099999999999994,53,53,53,54.2,29,30,29.4,120,120,120,120,120,120,119.9,120,119.9,120,120,120,59,59,59,2.4,5.2,2.1,4.9000000000000004,0.1,0.1,0.1,0.6,0.6,0.6,0.2,0.2,0.2,0.6,0.6,0.6,-0.3,-0.2,-0.2,-0.1,0,0,-0.1,-0.1,-0.1,0,0,0,0.2,0.5,0.3,0.3,0.6,0.4,0.2,0.4,0.2,0.4,0.7,0.5,0,0,0,0.2,0.3,0.3,0.3,0.3,0.3,0.2,0.3,0.2,0.5,0.5,0.5,0,0,0,0,0,0,0,0,0,0,0,0,0,0,0,0,0,0,0,0,0,0,0,0,1,1,1,2,1,1,179.7,29.7,"01:00:00",4141,0,0,0,0,0,0,0,0,0,0,0,0,0,0,0,0,0,0,0,0,30,48,1.5,1.5,0,0]
["2023-09-27T00:11:22",28,31,29,31,39,39,39,38,21.2,69.7,100,66.099999999999994,53,53,53,54.2,27.4,30.1,28.6,120,120,120,120,120,120,119.9,120,119.9,120,120,120,59,59,59,2.4,5,2.1,4.7,0.1,0.1,0.1,0.5,0.6,0.5,0.2,0.2,0.2,0.5,0.6,0.5,-0.3,-0.2,-0.2,-0.1,0,0,-0.1,-0.1,-0.1,0,0,0,0.2,0.6,0.3,0.3,0.6,0.4,0.1,0.4,0.2,0.4,0.7,0.5,0,0,0,0.2,0.3,0.3,0.3,0.4,0.3,0.2,0.3,0.3,0.5,0.5,0.5,0,0,0,0,0,0,0,0,0,0,0,0,0,0,0,0,0,0,0,0,0,0,0,0,1,1,1,2,1,1,179.7,29.7,"01:00:00",4142,0,0,0,0,0,0,0,0,0,0,0,0,0,0,0,0,0,0,0,0,30,48,1.5,1.4,0,0]
["2023-09-27T00:12:23",28,31,29,31,39,39,39,38,21.2,69.599999999999994,100,66.099999999999994,53,53.1,53,54.2,27.1,27.9,27.5,120,120,120,120,120,120,119.9,120,119.9,120,120,120,59,59,59,2.2999999999999998,4.8,1.9,4.5999999999999996,0.1,0.1,0.1,0.5,0.6,0.5,0.2,0.2,0.2,0.5,0.5,0.5,-0.3,-0.2,-0.2,-0.1,0,0,-0.1,-0.1,-0.1,0,0,0,0.2,0.5,0.3,0.3,0.6,0.4,0.1,0.4,0.2,0.4,0.7,0.6,0,0,0,0.2,0.3,0.3,0.3,0.4,0.3,0.2,0.3,0.3,0.5,0.5,0.5,0,0,0,0,0,0,0,0,0,0,0,0,0,0,0,0,0,0,0,0,0,0,0,0,1,1,1,2,1,1,179.7,29.7,"01:00:00",4142,0,0,0,0,0,0,0,0,0,0,0,0,0,0,0,0,0,0,0,0,30,48,1.4,1.4,0,0]
["2023-09-27T00:13:24",28,31,29,31,39,39,39,38,21.2,69.599999999999994,100,66.099999999999994,53,53.1,53,54.2,24.8,27.1,26,120,120,120,120,120,120,119.9,120,119.9,119.9,120,119.9,59,59,59,2.2999999999999998,4.7,2,4.4000000000000004,0.1,0.1,0.1,0.5,0.6,0.5,0.2,0.2,0.2,0.5,0.5,0.5,-0.3,-0.2,-0.2,-0.1,0,0,-0.1,-0.1,-0.1,0,0,0,0.2,0.5,0.3,0.4,0.6,0.4,0.2,0.4,0.2,0.4,0.7,0.5,0,0,0,0.2,0.3,0.3,0.3,0.4,0.3,0.2,0.3,0.2,0.5,0.5,0.5,0,0,0,0,0,0,0,0,0,0,0,0,0,0,0,0,0,0,0,0,0,0,0,0,1,1,1,2,1,1,179.7,29.7,"01:00:00",4143,0,0,0,0,0,0,0,0,0,0,0,0,0,0,0,0,0,0,0,0,30,48,1.4,1.2,0,0]
["2023-09-27T00:14:25",28,31,29,31,39,39,39,38,21.2,69.5,100,66.099999999999994,53,53.1,53,54.2,24.4,27.9,25.9,120,120,120,120,120,120,119.9,120,119.9,119.9,120,119.9,59,59,59,2.2999999999999998,4.9000000000000004,1.9,4.5999999999999996,0.1,0.1,0.1,0.5,0.6,0.5,0.2,0.2,0.2,0.5,0.6,0.5,-0.2,-0.2,-0.2,-0.1,-0.1,-0.1,-0.1,-0.1,-0.1,0,0,0,0.2,0.5,0.3,0.4,0.6,0.4,0.1,0.4,0.2,0.5,0.7,0.6,0,0,0,0.2,0.3,0.2,0.3,0.4,0.3,0.2,0.3,0.2,0.5,0.5,0.5,0,0,0,0,0,0,0,0,0,0,0,0,0,0,0,0,0,0,0,0,0,0,0,0,1,1,1,2,1,1,179.7,29.7,"01:00:00",4143,0,0,0,0,0,0,0,0,0,0,0,0,0,0,0,0,0,0,0,0,30,48,1.4,1.2,0,0]
["2023-09-27T00:15:26",28,31,29,31,39,39,39,38,21.2,69.400000000000006,100,66.099999999999994,53,53,53,54.2,27.6,29.6,28.6,120,120,120,120,120,120,119.9,120,119.9,119.9,120,119.9,59,59,59,2.2999999999999998,5.0999999999999996,2,4.8,0.1,0.1,0.1,0.6,0.6,0.6,0.2,0.2,0.2,0.5,0.6,0.5,-0.2,-0.2,-0.2,-0.1,0,0,-0.1,-0.1,-0.1,0,0,0,0.2,0.4,0.3,0.4,0.6,0.4,0.2,0.4,0.2,0.4,0.7,0.5,0,0,0,0.2,0.3,0.3,0.3,0.3,0.3,0.2,0.3,0.3,0.5,0.5,0.5,0,0,0,0,0,0,0,0,0,0,0,0,0,0,0,0,0,0,0,0,0,0,0,0,1,1,1,2,1,1,179.7,29.7,"01:00:00",4144,0,0,0,0,0,0,0,0,0,0,0,0,0,0,0,0,0,0,0,0,30,48,1.5,1.4,0,0]
["2023-09-27T00:16:26",28,31,29,31,39,39,39,38,21.2,69.400000000000006,100,66.099999999999994,53,53,53,54.2,28.3,29.6,29,120,120,120,120,120,120,119.9,120,119.9,119.9,120,119.9,59,59,59,2.2999999999999998,5.2,1.9,4.9000000000000004,0.1,0.1,0.1,0.6,0.6,0.6,0.2,0.2,0.2,0.6,0.6,0.6,-0.3,-0.2,-0.2,-0.1,0,0,-0.1,-0.1,-0.1,0,0,0,0.2,0.5,0.3,0.4,0.6,0.4,0.1,0.5,0.2,0.4,0.7,0.6,0,0,0,0.3,0.3,0.3,0.3,0.4,0.3,0.2,0.3,0.3,0.5,0.5,0.5,0,0,0,0,0,0,0,0,0,0,0,0,0,0,0,0,0,0,0,0,0,0,0,0,1,1,1,2,1,1,179.7,29.7,"01:00:00",4144,0,0,0,0,0,0,0,0,0,0,0,0,0,0,0,0,0,0,0,0,30,48,1.5,1.4,0,0]
["2023-09-27T00:17:28",28,31,29,31,39,39,39,38,21.2,69.3,100,66.099999999999994,53,53,53,54.2,28.7,29.4,29.1,120,120,120,120,120,120,119.9,120,119.9,119.9,120,119.9,59,59,59,2.2999999999999998,5.0999999999999996,2,4.8,0.1,0.1,0.1,0.6,0.6,0.6,0.2,0.2,0.2,0.6,0.6,0.6,-0.2,-0.2,-0.2,-0.1,0,0,-0.1,-0.1,-0.1,0,0,0,0.2,0.4,0.3,0.3,0.6,0.4,0.2,0.4,0.2,0.5,0.7,0.6,0,0,0,0.2,0.3,0.3,0.3,0.4,0.3,0.2,0.3,0.3,0.5,0.5,0.5,0,0,0,0,0,0,0,0,0,0,0,0,0,0,0,0,0,0,0,0,0,0,0,0,1,1,1,2,1,1,179.7,29.7,"01:00:00",4145,0,0,0,0,0,0,0,0,0,0,0,0,0,0,0,0,0,0,0,0,30,48,1.5,1.4,0,0]
["2023-09-27T00:18:29",28,31,29,31,39,39,39,38,21.2,69.2,100,66.099999999999994,53,53,53,54.2,27.7,29.7,28.8,120,120,120,120,120,120,119.9,120,119.9,119.9,120,119.9,59,59,59,2.2999999999999998,5.0999999999999996,2.1,4.8,0.1,0.1,0.1,0.6,0.6,0.6,0.2,0.2,0.2,0.5,0.6,0.5,-0.3,-0.2,-0.2,-0.1,0,0,-0.1,-0.1,-0.1,0,0,0,0.2,0.5,0.3,0.4,0.6,0.4,0.2,0.4,0.3,0.5,0.8,0.6,0,0,0,0.2,0.3,0.3,0.3,0.4,0.3,0.2,0.3,0.2,0.5,0.5,0.5,0,0,0,0,0,0,0,0,0,0,0,0,0,0,0,0,0,0,0,0,0,0,0,0,1,1,1,2,1,1,179.7,29.7,"01:00:00",4145,0,0,0,0,0,0,0,0,0,0,0,0,0,0,0,0,0,0,0,0,30,48,1.5,1.4,0,0]
["2023-09-27T00:19:30",28,31,29,31,39,39,39,38,21.2,69.099999999999994,100,66.099999999999994,53,53.1,53,54.2,24.8,27.7,26.7,120,120,120,120,120,120,119.9,120,119.9,119.9,120,119.9,59,59,59,2.2999999999999998,4.7,1.9,4.5,0.1,0.1,0.1,0.5,0.6,0.5,0.2,0.2,0.2,0.5,0.5,0.5,-0.3,-0.2,-0.2,-0.1,0,0,-0.1,-0.1,-0.1,0,0,0,0.2,0.5,0.3,0.4,0.8,0.5,0.2,0.5,0.3,0.5,0.8,0.6,0,0,0,0.2,0.3,0.3,0.3,0.4,0.3,0.2,0.3,0.2,0.5,0.5,0.5,0,0,0,0,0,0,0,0,0,0,0,0,0,0,0,0,0,0,0,0,0,0,0,0,1,1,1,2,1,1,179.7,29.7,"01:00:00",4146,0,0,0,0,0,0,0,0,0,0,0,0,0,0,0,0,0,0,0,0,30,48,1.4,1.3,0,0]
["2023-09-27T00:20:31",28,31,29,31,39,39,39,38,21.2,69.099999999999994,100,66.099999999999994,53,53.1,53,54.2,23.1,24.7,23.9,120,120,120,120,120,120,119.9,120,119.9,119.9,120,119.9,59,59,59,2.2999999999999998,4.0999999999999996,2,3.9,0.1,0.1,0.1,0.5,0.5,0.5,0.2,0.2,0.2,0.4,0.5,0.4,-0.3,-0.2,-0.2,-0.1,0,0,-0.1,-0.1,-0.1,0,0,0,0.2,0.4,0.3,0.4,0.6,0.4,0.2,0.5,0.3,0.5,0.7,0.6,0,0,0,0.3,0.3,0.3,0.3,0.4,0.3,0.2,0.3,0.2,0.5,0.5,0.5,0,0,0,0,0,0,0,0,0,0,0,0,0,0,0,0,0,0,0,0,0,0,0,0,1,1,1,2,1,1,179.7,29.7,"01:00:00",4146,0,0,0,0,0,0,0,0,0,0,0,0,0,0,0,0,0,0,0,0,30,48,1.2,1.1000000000000001,0,0]
["2023-09-27T00:21:31",28,31,29,31,39,39,39,38,21.2,69,100,66.099999999999994,53,53.1,53,54.2,24.7,30.3,27.8,120,120,120,120,120,120,119.9,120,119.9,120,120,120,59,59,59,2.2999999999999998,5.4,2,5.0999999999999996,0.1,0.1,0.1,0.5,0.6,0.5,0.2,0.2,0.2,0.4,0.6,0.5,-0.3,-0.2,-0.2,-0.1,0,0,-0.1,-0.1,-0.1,0,0,0,0.2,0.5,0.3,0.4,0.6,0.4,0.1,0.5,0.3,0.4,0.7,0.6,0,0,0,0.2,0.3,0.2,0.3,0.4,0.3,0.2,0.3,0.2,0.5,0.5,0.5,0,0,0,0,0,0,0,0,0,0,0,0,0,0,0,0,0,0,0,0,0,0,0,0,1,1,1,2,1,1,179.7,29.7,"01:00:00",4147,0,0,0,0,0,0,0,0,0,0,0,0,0,0,0,0,0,0,0,0,30,48,1.5,1.3,0,0]
["2023-09-27T00:22:32",28,31,29,31,39,39,39,38,21.2,69,100,66.099999999999994,53,53,53,54.2,29.2,30.5,29.8,120,120,120,120,120,120,119.9,120,119.9,120,120,120,59,59,59,2.2999999999999998,5.4,2,5.0999999999999996,0.1,0.1,0.1,0.6,0.6,0.6,0.2,0.2,0.2,0.6,0.6,0.6,-0.3,-0.2,-0.2,-0.1,0,0,-0.1,-0.1,-0.1,0,0,0,0.2,0.5,0.3,0.4,0.5,0.4,0.2,0.5,0.3,0.4,0.7,0.5,0,0,0,0.2,0.3,0.2,0.3,0.4,0.3,0.2,0.3,0.2,0.5,0.5,0.5,0,0,0,0,0,0,0,0,0,0,0,0,0,0,0,0,0,0,0,0,0,0,0,0,1,1,1,2,1,1,179.7,29.7,"01:00:00",4147,0,0,0,0,0,0,0,0,0,0,0,0,0,0,0,0,0,0,0,0,30,48,1.5,1.5,0,0]
["2023-09-27T00:23:33",28,31,29,31,39,39,39,38,21.2,68.900000000000006,100,66.099999999999994,53,53,53,54.2,28.3,30.1,29.4,120,120,120,120,120,120,119.9,120,119.9,120,120,120,59,59,59,2.2999999999999998,5.2,2,4.9000000000000004,0.1,0.1,0.1,0.6,0.6,0.6,0.2,0.2,0.2,0.6,0.6,0.6,-0.3,-0.2,-0.2,-0.1,0,0,-0.1,-0.1,-0.1,0,0,0,0.3,0.5,0.3,0.4,0.6,0.4,0.2,0.4,0.2,0.4,0.7,0.6,0,0,0,0.2,0.3,0.2,0.3,0.4,0.3,0.2,0.3,0.3,0.5,0.5,0.5,0,0,0,0,0,0,0,0,0,0,0,0,0,0,0,0,0,0,0,0,0,0,0,0,1,1,1,2,1,1,179.7,29.7,"01:00:00",4147,0,0,0,0,0,0,0,0,0,0,0,0,0,0,0,0,0,0,0,0,30,48,1.5,1.4,0,0]
["2023-09-27T00:24:33",28,31,29,31,39,39,39,38,21.2,68.8,100,66.099999999999994,53,53,53,54.2,26.9,28.3,27.5,120,120,120,120,120,120,119.9,120,119.9,120,120,120,59,59,59,2.2999999999999998,4.9000000000000004,1.9,4.5999999999999996,0.1,0.1,0.1,0.5,0.6,0.5,0.2,0.2,0.2,0.5,0.6,0.5,-0.3,-0.2,-0.2,-0.1,0,0,-0.1,-0.1,-0.1,0,0,0,0.2,0.5,0.3,0.4,0.6,0.4,0.1,0.4,0.2,0.4,0.7,0.5,0,0,0,0.2,0.3,0.2,0.3,0.4,0.3,0.2,0.3,0.2,0.5,0.5,0.5,0,0,0,0,0,0,0,0,0,0,0,0,0,0,0,0,0,0,0,0,0,0,0,0,1,1,1,2,1,1,179.7,29.7,"01:00:00",4148,0,0,0,0,0,0,0,0,0,0,0,0,0,0,0,0,0,0,0,0,30,48,1.4,1.3,0,0]
["2023-09-27T00:25:34",28,31,29,31,39,39,39,38,21.2,68.7,100,66.099999999999994,53,53,53,54.2,24.5,27,26,120,120,120,120,120,120,119.9,120,119.9,120,120,120,59,59,59,2.2999999999999998,4.5999999999999996,2,4.3,0.1,0.1,0.1,0.5,0.5,0.5,0.2,0.2,0.2,0.5,0.5,0.5,-0.3,-0.2,-0.2,-0.1,0,0,-0.1,-0.1,-0.1,0,0,0,0.3,0.5,0.3,0.4,0.7,0.4,0.1,0.4,0.2,0.5,0.7,0.6,0,0,0,0.2,0.3,0.2,0.3,0.4,0.3,0.2,0.3,0.2,0.5,0.5,0.5,0,0,0,0,0,0,0,0,0,0,0,0,0,0,0,0,0,0,0,0,0,0,0,0,1,1,1,2,1,1,179.7,29.7,"01:00:00",4148,0,0,0,0,0,0,0,0,0,0,0,0,0,0,0,0,0,0,0,0,30,48,1.4,1.2,0,0]
["2023-09-27T00:26:34",28,31,29,31,39,39,39,38,21.2,68.7,100,66.099999999999994,53,53,53,54.2,24.7,26.9,25.6,120,120,120,120,120,120,119.9,120,119.9,119.9,120,119.9,59,59,59,2.2999999999999998,4.5,2,4.2,0.1,0.1,0.1,0.5,0.5,0.5,0.2,0.2,0.2,0.5,0.5,0.5,-0.3,-0.2,-0.2,-0.1,0,0,-0.1,-0.1,-0.1,0,0,0,0.3,0.5,0.3,0.4,0.6,0.4,0.2,0.5,0.3,0.4,0.7,0.6,0,0,0,0.2,0.3,0.2,0.3,0.4,0.3,0.2,0.3,0.2,0.5,0.5,0.5,0,0,0,0,0,0,0,0,0,0,0,0,0,0,0,0,0,0,0,0,0,0,0,0,1,1,1,2,1,1,179.7,29.7,"01:00:00",4149,0,0,0,0,0,0,0,0,0,0,0,0,0,0,0,0,0,0,0,0,30,48,1.3,1.2,0,0]
["2023-09-27T00:27:36",28,31,29,31,39,39,39,38,21.2,68.599999999999994,100,66.099999999999994,53,53,53,54.2,26.9,27.9,27.5,120,120,120,120,120,120,119.9,120,119.9,119.9,120,119.9,59,59,59,2.2999999999999998,4.7,2,4.5,0.1,0.1,0.1,0.5,0.6,0.5,0.2,0.2,0.2,0.5,0.5,0.5,-0.3,-0.2,-0.2,-0.1,0,0,-0.1,-0.1,-0.1,0,0,0,0.3,0.5,0.3,0.4,0.5,0.4,0.1,0.4,0.2,0.4,0.7,0.6,0,0,0,0.2,0.3,0.2,0.3,0.4,0.3,0.2,0.3,0.2,0.5,0.5,0.5,0,0,0,0,0,0,0,0,0,0,0,0,0,0,0,0,0,0,0,0,0,0,0,0,1,1,1,2,1,1,179.7,29.7,"01:00:00",4149,0,0,0,0,0,0,0,0,0,0,0,0,0,0,0,0,0,0,0,0,30,48,1.4,1.3,0,0]
["2023-09-27T00:28:36",28,31,29,31,39,39,39,38,21.2,68.5,100,66.099999999999994,53,53,53,54.2,27.6,29.6,28.9,120,120,120,120,120,120,119.9,120,119.9,119.9,120,119.9,59,59,59,2.2999999999999998,5.0999999999999996,2,4.8,0.1,0.1,0.1,0.6,0.6,0.6,0.2,0.2,0.2,0.5,0.6,0.5,-0.3,-0.2,-0.2,-0.1,0,0,-0.1,-0.1,-0.1,0,0,0,0.2,0.6,0.3,0.3,0.6,0.4,0.2,0.5,0.3,0.4,0.7,0.6,0,0,0,0.2,0.3,0.2,0.3,0.4,0.3,0.2,0.3,0.2,0.5,0.5,0.5,0,0,0,0,0,0,0,0,0,0,0,0,0,0,0,0,0,0,0,0,0,0,0,0,1,1,1,2,1,1,179.7,29.7,"01:00:00",4150,0,0,0,0,0,0,0,0,0,0,0,0,0,0,0,0,0,0,0,0,30,48,1.5,1.4,0,0]
["2023-09-27T00:29:37",28,32,29,31,39,39,38,38,21.1,68.400000000000006,100,66.099999999999994,52.8,53,52.8,54.2,28.5,60.4,47,120,120,120,119.8,120,120,119.9,120,119.9,119.8,120,119.9,59,59,59,2.2999999999999998,13.8,1.8,15.8,0.1,0.1,0.1,0.6,1.5,1,0.1,0.2,0.1,0.6,1.4,1,-0.3,-0.2,-0.2,-0.1,0.5,0.2,-0.1,-0.1,-0.1,0,0.5,0.2,0.2,0.5,0.3,0.3,0.6,0.4,0.1,0.4,0.2,0.4,0.7,0.5,0,0,0,0.2,0.3,0.2,0.3,0.4,0.3,0.2,0.3,0.2,0.5,0.5,0.5,0,0,0,0,0,0,0,0,0,0,0,0,0,0,0,0,0,0,0,0,0,0,0,0,1,1,1,2,1,1,179.7,29.7,"01:00:00",4151,0,0,0,0,0,0,0,0,0,0,0,0,0,0,0,0,0,0,0,0,30,48,3.1,2.2999999999999998,0,0]
["2023-09-27T00:30:38",28,32,29,31,39,39,38,38,21.1,68.3,100,66.099999999999994,52.8,53,52.9,54.2,25.4,58.1,31,120,120,120,120,120.1,120,119.9,120,119.9,119.9,120.1,120,59,59,59,2.2999999999999998,12.1,1.9,11.6,0.1,0.1,0.1,0.5,1.4,0.6,0.1,0.2,0.1,0.5,1.3,0.6,-0.3,-0.2,-0.2,-0.1,0.4,0,-0.1,-0.1,-0.1,0,0.5,0,0.2,0.5,0.3,0.3,0.6,0.4,0.2,0.5,0.3,0.4,0.8,0.5,0,0,0,0.2,0.3,0.2,0.3,0.3,0.3,0.2,0.3,0.2,0.5,0.5,0.5,0,0,0,0,0,0,0,0,0,0,0,0,0,0,0,0,0,0,0,0,0,0,0,0,1,1,1,2,1,1,179.7,29.7,"01:00:00",4151,0,0,0,0,0,0,0,0,0,0,0,0,0,0,0,0,0,0,0,0,30,48,2.9,1.5,0,0]
["2023-09-27T00:31:39",28,31,29,31,39,39,39,38,21.2,68.3,100,66.099999999999994,53,53,53,54.2,26.1,28.8,26.8,120,120,120,120,120,120,119.9,120,119.9,120,120,120,59,59,59,2.2999999999999998,5,2,4.7,0.1,0.1,0.1,0.5,0.6,0.5,0.2,0.2,0.2,0.5,0.6,0.5,-0.3,-0.2,-0.2,-0.1,0,0,-0.1,-0.1,-0.1,0,0,0,0.3,0.5,0.3,0.3,0.5,0.4,0.2,0.5,0.3,0.4,0.8,0.6,0,0,0,0.2,0.3,0.2,0.3,0.3,0.3,0.2,0.3,0.2,0.5,0.5,0.5,0,0,0,0,0,0,0,0,0,0,0,0,0,0,0,0,0,0,0,0,0,0,0,0,1,1,1,2,1,1,179.7,29.7,"01:00:00",4151,0,0,0,0,0,0,0,0,0,0,0,0,0,0,0,0,0,0,0,0,30,48,1.5,1.3,0,0]
["2023-09-27T00:32:39",28,31,29,31,39,39,38,38,21.2,68.2,100,66.099999999999994,53,53,53,54.2,27.2,29.4,28,120,120,120,120,120,120,119.9,120,119.9,120,120,120,59,59,59,2.2999999999999998,5,2.1,4.7,0.1,0.1,0.1,0.5,0.6,0.5,0.2,0.2,0.2,0.5,0.6,0.5,-0.3,-0.2,-0.2,-0.1,0,0,-0.1,-0.1,-0.1,0,0,0,0.3,0.6,0.3,0.3,0.6,0.4,0.2,0.5,0.3,0.6,0.8,0.6,0,0,0,0.2,0.3,0.2,0.3,0.3,0.3,0.2,0.3,0.2,0.5,0.5,0.5,0,0,0,0,0,0,0,0,0,0,0,0,0,0,0,0,0,0,0,0,0,0,0,0,1,1,1,2,1,1,179.7,29.7,"01:00:00",4152,0,0,0,0,0,0,0,0,0,0,0,0,0,0,0,0,0,0,0,0,30,48,1.5,1.4,0,0]
["2023-09-27T00:33:40",28,31,29,31,39,39,39,38,21.2,68.099999999999994,100,66.099999999999994,53,53,53,54.2,27.2,27.8,27.4,120,120,120,120,120,120,119.9,120,119.9,119.9,120,119.9,59,59,59,2.2999999999999998,4.7,2,4.4000000000000004,0.1,0.1,0.1,0.5,0.6,0.5,0.2,0.2,0.2,0.5,0.5,0.5,-0.2,-0.2,-0.2,-0.1,0,0,-0.1,-0.1,-0.1,0,0,0,0.3,0.5,0.3,0.3,0.6,0.4,0.2,0.6,0.3,0.4,0.7,0.5,0,0,0,0.2,0.3,0.2,0.3,0.4,0.3,0.2,0.3,0.2,0.5,0.5,0.5,0,0,0,0,0,0,0,0,0,0,0,0,0,0,0,0,0,0,0,0,0,0,0,0,1,1,1,2,1,1,179.7,29.7,"01:00:00",4152,0,0,0,0,0,0,0,0,0,0,0,0,0,0,0,0,0,0,0,0,30,48,1.4,1.4,0,0]
["2023-09-27T00:34:41",28,31,29,31,39,39,38,38,21.2,68.099999999999994,100,66.099999999999994,53,53,53,54.2,26.8,28.1,27.4,120,120,120,120,120,120,119.9,120,119.9,119.9,120,119.9,59,59,59,2.2999999999999998,4.8,1.9,4.5999999999999996,0.1,0.1,0.1,0.5,0.6,0.5,0.2,0.2,0.2,0.5,0.5,0.5,-0.3,-0.2,-0.2,-0.1,0,0,-0.1,-0.1,-0.1,0,0,0,0.2,0.5,0.3,0.3,0.6,0.4,0.2,0.5,0.3,0.4,0.8,0.5,0,0,0,0.2,0.3,0.3,0.3,0.4,0.3,0.2,0.3,0.2,0.5,0.5,0.5,0,0,0,0,0,0,0,0,0,0,0,0,0,0,0,0,0,0,0,0,0,0,0,0,1,1,1,2,1,1,179.7,29.7,"01:00:00",4153,0,0,0,0,0,0,0,0,0,0,0,0,0,0,0,0,0,0,0,0,30,48,1.4,1.3,0,0]
["2023-09-27T00:35:42",28,31,29,31,39,39,38,38,21.2,68,100,66.099999999999994,53,53,53,54.2,26,28,27.3,120,120,120,120,120,120,119.9,120,119.9,119.9,120,120,59,59,59,2.2999999999999998,4.8,2,4.5,0.1,0.1,0.1,0.5,0.6,0.5,0.2,0.2,0.2,0.5,0.5,0.5,-0.3,-0.2,-0.2,-0.1,0,0,-0.1,-0.1,-0.1,0,0,0,0.2,0.4,0.3,0.3,0.5,0.4,0.2,0.5,0.3,0.4,0.7,0.6,0,0,0,0.2,0.3,0.3,0.3,0.4,0.3,0.2,0.3,0.2,0.5,0.5,0.5,0,0,0,0,0,0,0,0,0,0,0,0,0,0,0,0,0,0,0,0,0,0,0,0,1,1,1,2,1,1,179.7,29.7,"01:00:00",4153,0,0,0,0,0,0,0,0,0,0,0,0,0,0,0,0,0,0,0,0,30,48,1.4,1.3,0,0]
["2023-09-27T00:36:43",28,31,29,31,39,39,38,38,21.2,67.900000000000006,100,66.099999999999994,53,53,53,54.2,25.7,27.5,26.7,120,120,120,120,120,120,119.9,120,119.9,119.9,120,119.9,59,59,59,2.2999999999999998,4.5999999999999996,2.1,4.3,0.1,0.1,0.1,0.5,0.5,0.5,0.2,0.2,0.2,0.5,0.5,0.5,-0.2,-0.2,-0.2,-0.1,-0.1,-0.1,-0.1,-0.1,-0.1,0,0,0,0.2,0.5,0.3,0.3,0.6,0.4,0.2,0.5,0.3,0.4,0.8,0.5,0,0,0,0.3,0.3,0.3,0.3,0.4,0.3,0.2,0.3,0.2,0.5,0.5,0.5,0,0,0,0,0,0,0,0,0,0,0,0,0,0,0,0,0,0,0,0,0,0,0,0,1,1,1,2,1,1,179.7,29.7,"01:00:00",4154,0,0,0,0,0,0,0,0,0,0,0,0,0,0,0,0,0,0,0,0,30,48,1.4,1.3,0,0]
["2023-09-27T00:37:45",28,31,29,31,39,39,38,38,21.2,67.900000000000006,100,66.099999999999994,53,53,53,54.2,24,27.3,25,120,120,120,120,120,120,119.9,120,119.9,119.9,120,119.9,59,59,59,2.2999999999999998,4.5,2,4.2,0.1,0.1,0.1,0.5,0.5,0.5,0.2,0.2,0.2,0.4,0.5,0.4,-0.2,-0.2,-0.2,-0.1,-0.1,-0.1,-0.1,-0.1,-0.1,0,0,0,0.2,0.5,0.3,0.4,0.5,0.4,0.2,0.5,0.3,0.3,0.6,0.5,0,0,0,0.2,0.3,0.3,0.3,0.4,0.3,0.2,0.3,0.2,0.5,0.5,0.5,0,0,0,0,0,0,0,0,0,0,0,0,0,0,0,0,0,0,0,0,0,0,0,0,1,1,1,2,1,1,179.7,29.7,"01:00:00",4154,0,0,0,0,0,0,0,0,0,0,0,0,0,0,0,0,0,0,0,0,30,48,1.4,1.2,0,0]
["2023-09-27T00:38:46",28,31,29,31,39,39,38,38,21.2,67.8,100,66.099999999999994,53,53,53,54.2,23.9,26.1,24.9,120,120,120,120,120,120,119.9,120,119.9,119.9,120,119.9,59,59,59,2.2000000000000002,4.5,1.9,4.2,0.1,0.1,0.1,0.5,0.5,0.5,0.2,0.2,0.2,0.5,0.5,0.5,-0.2,-0.2,-0.2,-0.1,-0.1,-0.1,-0.2,-0.1,-0.1,0,0,0,0.2,0.4,0.3,0.3,0.6,0.4,0.2,0.6,0.3,0.4,0.7,0.5,0,0,0,0.3,0.3,0.3,0.3,0.3,0.3,0.2,0.3,0.2,0.5,0.5,0.5,0,0,0,0,0,0,0,0,0,0,0,0,0,0,0,0,0,0,0,0,0,0,0,0,1,1,1,2,1,1,179.7,29.7,"01:00:00",4155,0,0,0,0,0,0,0,0,0,0,0,0,0,0,0,0,0,0,0,0,30,48,1.3,1.2,0,0]
["2023-09-27T00:39:46",28,31,29,31,39,39,38,38,21.2,67.7,100,66.099999999999994,53,53,53,54.2,24.6,26.5,25.6,120,120,120,120,120,120,119.9,120,119.9,119.9,120,120,59,59,59,2.2999999999999998,4.5,2,4.2,0.1,0.1,0.1,0.5,0.5,0.5,0.2,0.2,0.2,0.4,0.5,0.4,-0.2,-0.2,-0.2,-0.1,-0.1,-0.1,-0.1,-0.1,-0.1,0,0,0,0.3,0.5,0.3,0.4,0.5,0.4,0.2,0.5,0.3,0.4,0.7,0.5,0,0,0,0.2,0.3,0.3,0.3,0.4,0.3,0.2,0.3,0.2,0.5,0.5,0.5,0,0,0,0,0,0,0,0,0,0,0,0,0,0,0,0,0,0,0,0,0,0,0,0,1,1,1,2,1,1,179.7,29.7,"01:00:00",4155,0,0,0,0,0,0,0,0,0,0,0,0,0,0,0,0,0,0,0,0,30,48,1.3,1.2,0,0]
["2023-09-27T00:40:47",28,31,29,31,39,39,38,38,21.2,67.7,100,66.099999999999994,53,53,53,54.2,24.6,25,24.7,120,120,120,120,120,120,119.9,120,119.9,120,120,120,59,59,59,2.2999999999999998,4.0999999999999996,2,3.9,0.1,0.1,0.1,0.5,0.5,0.5,0.2,0.2,0.2,0.4,0.5,0.4,-0.2,-0.2,-0.2,-0.1,-0.1,-0.1,-0.1,-0.1,-0.1,0,0,0,0.2,0.5,0.3,0.3,0.6,0.4,0.2,0.5,0.2,0.4,0.7,0.5,0,0,0,0.2,0.3,0.2,0.3,0.4,0.3,0.2,0.3,0.2,0.5,0.5,0.5,0,0,0,0,0,0,0,0,0,0,0,0,0,0,0,0,0,0,0,0,0,0,0,0,1,1,1,2,1,1,179.7,29.7,"01:00:00",4155,0,0,0,0,0,0,0,0,0,0,0,0,0,0,0,0,0,0,0,0,30,48,1.2,1.2,0,0]
["2023-09-27T00:41:48",28,31,29,31,39,39,38,38,21.2,67.599999999999994,100,66.099999999999994,53,53,53,54.2,24.3,25.8,25.2,120,120,120,120,120,120,119.9,120,119.9,119.9,120,119.9,59,59,59,2.2000000000000002,4.3,2,4.0999999999999996,0.1,0.1,0.1,0.5,0.5,0.5,0.2,0.2,0.2,0.5,0.5,0.5,-0.2,-0.2,-0.2,-0.1,-0.1,-0.1,-0.2,-0.1,-0.1,0,0,0,0.2,0.6,0.3,0.4,0.6,0.4,0.1,0.5,0.2,0.4,0.7,0.5,0,0,0,0.2,0.3,0.2,0.3,0.4,0.3,0.3,0.3,0.3,0.5,0.5,0.5,0,0,0,0,0,0,0,0,0,0,0,0,0,0,0,0,0,0,0,0,0,0,0,0,1,1,1,2,1,1,179.7,29.7,"01:00:00",4156,0,0,0,0,0,0,0,0,0,0,0,0,0,0,0,0,0,0,0,0,30,48,1.3,1.2,0,0]
["2023-09-27T00:42:48",28,31,29,31,39,39,38,38,21.2,67.599999999999994,100,66.099999999999994,53,53,53,54.2,23.3,25.4,24.1,120,120,120,120,120,120,119.9,120,119.9,120,120,120,59,59,59,2.2000000000000002,4.2,2,4,0.1,0.1,0.1,0.4,0.5,0.4,0.2,0.2,0.2,0.4,0.5,0.4,-0.2,-0.2,-0.2,-0.1,-0.1,-0.1,-0.2,-0.1,-0.1,0,0,0,0.2,0.5,0.3,0.3,0.6,0.4,0.2,0.4,0.2,0.4,0.8,0.6,0,0,0,0.2,0.3,0.2,0.3,0.4,0.3,0.2,0.3,0.2,0.5,0.5,0.5,0,0,0,0,0,0,0,0,0,0,0,0,0,0,0,0,0,0,0,0,0,0,0,0,1,1,1,2,1,1,179.7,29.7,"01:00:00",4156,0,0,0,0,0,0,0,0,0,0,0,0,0,0,0,0,0,0,0,0,30,48,1.3,1.2,0,0]
["2023-09-27T00:43:49",28,31,29,30,39,39,38,38,21.1,67.5,100,66.099999999999994,53,53.1,53,54.2,22.6,25.7,24.1,120,120,120,120,120,120,119.9,120,119.9,119.9,120,119.9,59,59,59,2.2999999999999998,4.0999999999999996,2.1,3.9,0.1,0.1,0.1,0.4,0.5,0.4,0.2,0.2,0.2,0.4,0.5,0.4,-0.2,-0.2,-0.2,-0.1,-0.1,-0.1,-0.1,-0.1,-0.1,0,0,0,0.3,0.4,0.3,0.3,0.5,0.4,0.2,0.4,0.2,0.5,0.7,0.6,0,0,0,0.2,0.3,0.3,0.3,0.4,0.3,0.2,0.3,0.2,0.5,0.5,0.5,0,0,0,0,0,0,0,0,0,0,0,0,0,0,0,0,0,0,0,0,0,0,0,0,1,1,1,2,1,1,179.7,29.7,"01:00:00",4157,0,0,0,0,0,0,0,0,0,0,0,0,0,0,0,0,0,0,0,0,30,48,1.3,1.1000000000000001,0,0]
["2023-09-27T00:44:50",28,31,29,30,39,39,38,38,21.1,67.400000000000006,100,66.099999999999994,53,53,53,54.2,24,24.9,24.5,120,120,120,120,120,120,119.9,120,119.9,120,120,120,59,59,59,2.2999999999999998,4.0999999999999996,2.1,3.9,0.1,0.1,0.1,0.5,0.5,0.5,0.2,0.2,0.2,0.4,0.5,0.4,-0.3,-0.2,-0.2,-0.1,0,0,-0.1,-0.1,-0.1,0,0,0,0.2,0.4,0.3,0.3,0.6,0.4,0.2,0.5,0.2,0.5,0.8,0.6,0,0,0,0.2,0.3,0.3,0.3,0.4,0.3,0.2,0.3,0.2,0.5,0.5,0.5,0,0,0,0,0,0,0,0,0,0,0,0,0,0,0,0,0,0,0,0,0,0,0,0,1,1,1,2,1,1,179.7,29.7,"01:00:00",4157,0,0,0,0,0,0,0,0,0,0,0,0,0,0,0,0,0,0,0,0,30,48,1.2,1.2,0,0]
["2023-09-27T00:45:50",28,31,29,30,39,39,38,38,21.1,67.400000000000006,100,66.099999999999994,53,53,53,54.2,23.9,24.6,24.3,120,120,120,120,120,120,119.9,120,119.9,119.9,120,119.9,59,59,59,2.2999999999999998,4.0999999999999996,1.9,3.9,0.1,0.1,0.1,0.5,0.5,0.5,0.2,0.2,0.2,0.4,0.5,0.4,-0.3,-0.2,-0.2,-0.1,-0.1,-0.1,-0.1,-0.1,-0.1,0,0,0,0.2,0.5,0.3,0.4,0.5,0.4,0.2,0.4,0.2,0.5,0.8,0.6,0,0,0,0.2,0.3,0.2,0.3,0.4,0.3,0.2,0.3,0.2,0.5,0.5,0.5,0,0,0,0,0,0,0,0,0,0,0,0,0,0,0,0,0,0,0,0,0,0,0,0,1,1,1,2,1,1,179.7,29.7,"01:00:00",4157,0,0,0,0,0,0,0,0,0,0,0,0,0,0,0,0,0,0,0,0,30,48,1.2,1.2,0,0]
["2023-09-27T00:46:51",28,31,29,30,39,39,38,38,21.1,67.3,100,66.099999999999994,53,53.1,53,54.2,22.7,24.4,23.5,120,120,120,120,120,120,119.9,120,119.9,119.9,120,119.9,59,59,59,2.2000000000000002,4.0999999999999996,1.9,3.8,0.1,0.1,0.1,0.5,0.5,0.5,0.1,0.2,0.1,0.4,0.5,0.4,-0.3,-0.2,-0.2,-0.1,-0.1,-0.1,-0.1,-0.1,-0.1,0,0,0,0.2,0.6,0.3,0.3,0.6,0.4,0.2,0.5,0.2,0.5,0.7,0.6,0,0,0,0.2,0.3,0.3,0.3,0.4,0.3,0.2,0.3,0.2,0.5,0.5,0.5,0,0,0,0,0,0,0,0,0,0,0,0,0,0,0,0,0,0,0,0,0,0,0,0,1,1,1,2,1,1,179.7,29.7,"01:00:00",4158,0,0,0,0,0,0,0,0,0,0,0,0,0,0,0,0,0,0,0,0,30,48,1.2,1.1000000000000001,0,0]
["2023-09-27T00:47:52",28,31,29,30,39,39,38,38,21.1,67.3,100,66.099999999999994,53,53.1,53,54.2,23.1,24.1,23.7,120,120,120,120,120,120,119.9,120,119.9,119.9,120,119.9,59,59,59,2.2999999999999998,4.0999999999999996,2,3.8,0.1,0.1,0.1,0.4,0.5,0.4,0.2,0.2,0.2,0.4,0.5,0.4,-0.3,-0.2,-0.2,-0.1,0,0,-0.1,-0.1,-0.1,0,0,0,0.2,0.4,0.3,0.3,0.5,0.4,0.2,0.5,0.3,0.5,0.7,0.6,0,0,0,0.2,0.3,0.3,0.3,0.3,0.3,0.2,0.3,0.2,0.5,0.5,0.5,0,0,0,0,0,0,0,0,0,0,0,0,0,0,0,0,0,0,0,0,0,0,0,0,1,1,1,2,1,1,179.7,29.7,"01:00:00",4158,0,0,0,0,0,0,0,0,0,0,0,0,0,0,0,0,0,0,0,0,30,48,1.2,1.2,0,0]
["2023-09-27T00:48:53",28,31,29,30,39,39,38,38,21.1,67.2,100,66.099999999999994,53,53.1,53,54.2,22.7,24.5,23.4,120,120,120,120,120,120,119.9,120,119.9,120,120,120,59,59,59,2.4,3.9,2.1,3.6,0.1,0.1,0.1,0.4,0.5,0.4,0.2,0.2,0.2,0.4,0.4,0.4,-0.3,-0.2,-0.2,-0.1,-0.1,-0.1,-0.1,-0.1,-0.1,0,0,0,0.2,0.5,0.3,0.2,0.6,0.4,0.2,0.5,0.3,0.4,0.8,0.6,0,0,0,0.2,0.3,0.3,0.3,0.3,0.3,0.2,0.3,0.2,0.5,0.5,0.5,0,0,0,0,0,0,0,0,0,0,0,0,0,0,0,0,0,0,0,0,0,0,0,0,1,1,1,2,1,1,179.7,29.7,"01:00:00",4159,0,0,0,0,0,0,0,0,0,0,0,0,0,0,0,0,0,0,0,0,30,48,1.2,1.1000000000000001,0,0]
["2023-09-27T00:49:54",28,31,29,30,39,39,38,38,21.1,67.099999999999994,100,66.099999999999994,53,53.1,53,54.2,21.4,23.3,22.5,120,120,120,120,120,120,119.9,120,119.9,120,120,120,59,59,59,2.2999999999999998,3.8,2,3.6,0.1,0.1,0.1,0.4,0.4,0.4,0.2,0.2,0.2,0.4,0.4,0.4,-0.2,-0.2,-0.2,-0.1,0,0,-0.1,-0.1,-0.1,0,0,0,0.2,0.4,0.3,0.3,0.6,0.4,0.2,0.5,0.3,0.4,0.8,0.6,0,0,0,0.2,0.3,0.3,0.3,0.3,0.3,0.2,0.3,0.2,0.5,0.5,0.5,0,0,0,0,0,0,0,0,0,0,0,0,0,0,0,0,0,0,0,0,0,0,0,0,1,1,1,2,1,1,179.7,29.7,"01:00:00",4159,0,0,0,0,0,0,0,0,0,0,0,0,0,0,0,0,0,0,0,0,30,48,1.2,1.1000000000000001,0,0]
["2023-09-27T00:50:55",28,31,29,30,39,39,38,38,21.1,67.099999999999994,100,66.099999999999994,53,53.1,53,54.2,23,24.7,23.4,120,120,120,120,120,120,119.9,120,119.9,120,120,120,59,59,59,2.2999999999999998,4,2,3.8,0.1,0.1,0.1,0.4,0.5,0.4,0.2,0.2,0.2,0.4,0.5,0.4,-0.3,-0.2,-0.2,-0.1,0,0,-0.1,-0.1,-0.1,0,0,0,0.2,0.4,0.3,0.3,0.5,0.4,0.2,0.5,0.3,0.5,0.7,0.6,0,0,0,0.3,0.3,0.3,0.3,0.4,0.3,0.2,0.3,0.2,0.5,0.5,0.5,0,0,0,0,0,0,0,0,0,0,0,0,0,0,0,0,0,0,0,0,0,0,0,0,1,1,1,2,1,1,179.7,29.7,"01:00:00",4159,0,0,0,0,0,0,0,0,0,0,0,0,0,0,0,0,0,0,0,0,30,48,1.2,1.1000000000000001,0,0]
["2023-09-27T00:51:55",28,31,29,30,39,39,38,38,21.1,67,100,66.099999999999994,53,53,53,54.2,24.7,26.5,25.6,120,120,120,120,120,120,119.9,120,119.9,120,120,120,59,59,59,2.2999999999999998,4.3,2,4.0999999999999996,0.1,0.1,0.1,0.5,0.5,0.5,0.2,0.2,0.2,0.5,0.5,0.5,-0.2,-0.2,-0.2,-0.1,0,0,-0.1,-0.1,-0.1,0,0,0,0.2,0.4,0.3,0.3,0.5,0.4,0.2,0.5,0.3,0.4,0.7,0.6,0,0,0,0.3,0.3,0.3,0.3,0.4,0.3,0.2,0.3,0.2,0.5,0.5,0.5,0,0,0,0,0,0,0,0,0,0,0,0,0,0,0,0,0,0,0,0,0,0,0,0,1,1,1,2,1,1,179.7,29.7,"01:00:00",4160,0,0,0,0,0,0,0,0,0,0,0,0,0,0,0,0,0,0,0,0,30,48,1.3,1.2,0,0]
["2023-09-27T00:52:56",28,31,29,30,39,39,38,38,21.1,67,100,66.099999999999994,53,53,53,54.2,25.2,26.8,25.7,120,120,120,120,120,120,119.9,120,119.9,120,120,120,59,59,59,2.2999999999999998,4.4000000000000004,2.1,4.0999999999999996,0.1,0.1,0.1,0.5,0.5,0.5,0.2,0.2,0.2,0.5,0.5,0.5,-0.2,-0.2,-0.2,-0.1,0,0,-0.1,-0.1,-0.1,0,0,0,0.2,0.5,0.3,0.4,0.6,0.4,0.2,0.5,0.3,0.4,0.7,0.6,0,0,0,0.2,0.3,0.3,0.3,0.4,0.3,0.2,0.3,0.2,0.5,0.5,0.5,0,0,0,0,0,0,0,0,0,0,0,0,0,0,0,0,0,0,0,0,0,0,0,0,1,1,1,2,1,1,179.7,29.7,"01:00:00",4160,0,0,0,0,0,0,0,0,0,0,0,0,0,0,0,0,0,0,0,0,30,48,1.3,1.3,0,0]
["2023-09-27T00:53:57",28,31,29,30,39,39,38,38,21.1,66.900000000000006,100,66.099999999999994,53,53,53,54.2,23.3,25.1,23.8,120,120,120,120,120,120,119.9,120,119.9,120,120,120,59,59,59,2.2000000000000002,4.0999999999999996,2,3.9,0.1,0.1,0.1,0.4,0.5,0.4,0.2,0.2,0.2,0.4,0.5,0.4,-0.2,-0.2,-0.2,-0.1,0,0,-0.2,-0.1,-0.1,0,0,0,0.2,0.5,0.3,0.4,0.6,0.4,0.2,0.4,0.2,0.4,0.7,0.6,0,0,0,0.3,0.3,0.3,0.3,0.4,0.3,0.2,0.3,0.2,0.5,0.5,0.5,0,0,0,0,0,0,0,0,0,0,0,0,0,0,0,0,0,0,0,0,0,0,0,0,1,1,1,2,1,1,179.7,29.7,"01:00:00",4161,0,0,0,0,0,0,0,0,0,0,0,0,0,0,0,0,0,0,0,0,30,48,1.3,1.2,0,0]
["2023-09-27T00:54:58",28,31,29,30,39,39,38,38,21.1,66.8,100,66.099999999999994,53,53.1,53,54.2,22,24,22.8,120,120,120,120,120,120,119.9,120,119.9,119.9,120,120,59,59,59,2.2000000000000002,3.9,2,3.7,0.1,0.1,0.1,0.4,0.5,0.4,0.2,0.2,0.2,0.4,0.4,0.4,-0.2,-0.2,-0.2,-0.1,-0.1,-0.1,-0.2,-0.1,-0.1,0,0,0,0.2,0.5,0.3,0.3,0.5,0.4,0.2,0.4,0.2,0.5,0.8,0.6,0,0,0,0.2,0.3,0.3,0.3,0.4,0.3,0.2,0.3,0.2,0.5,0.5,0.5,0,0,0,0,0,0,0,0,0,0,0,0,0,0,0,0,0,0,0,0,0,0,0,0,1,1,1,2,1,1,179.7,29.7,"01:00:00",4161,0,0,0,0,0,0,0,0,0,0,0,0,0,0,0,0,0,0,0,0,30,48,1.2,1.1000000000000001,0,0]
["2023-09-27T00:55:58",28,31,29,30,39,39,38,38,21.1,66.8,100,66.099999999999994,53,53.1,53,54.2,22.3,24,22.8,120,120,120,120,120,120,119.9,120,119.9,119.9,120,119.9,59,59,59,2.2000000000000002,3.8,2,3.6,0.1,0.1,0.1,0.4,0.5,0.4,0.2,0.2,0.2,0.4,0.4,0.4,-0.2,-0.2,-0.2,-0.1,0,0,-0.2,-0.1,-0.1,0,0,0,0.2,0.5,0.3,0.4,0.6,0.4,0.2,0.5,0.3,0.5,0.7,0.6,0,0,0,0.2,0.3,0.3,0.3,0.4,0.3,0.2,0.3,0.2,0.5,0.5,0.5,0,0,0,0,0,0,0,0,0,0,0,0,0,0,0,0,0,0,0,0,0,0,0,0,1,1,1,2,1,1,179.7,29.7,"01:00:00",4161,0,0,0,0,0,0,0,0,0,0,0,0,0,0,0,0,0,0,0,0,30,48,1.2,1.1000000000000001,0,0]
["2023-09-27T00:56:59",28,31,29,30,39,39,38,38,21.1,66.7,100,66.099999999999994,53,53.1,53,54.2,22.3,23.7,23,120,120,120,120,120,120,120,120,120,119.9,120,119.9,59,59,59,2.2000000000000002,3.9,2,3.7,0.1,0.1,0.1,0.4,0.5,0.4,0.2,0.2,0.2,0.4,0.4,0.4,-0.2,-0.2,-0.2,-0.1,-0.1,-0.1,-0.2,-0.1,-0.1,0,0,0,0.2,0.5,0.3,0.3,0.6,0.4,0.2,0.5,0.3,0.4,0.7,0.5,0,0,0,0.2,0.3,0.3,0.3,0.4,0.3,0.2,0.3,0.2,0.5,0.5,0.5,0,0,0,0,0,0,0,0,0,0,0,0,0,0,0,0,0,0,0,0,0,0,0,0,1,1,1,2,1,1,179.7,29.7,"01:00:00",4162,0,0,0,0,0,0,0,0,0,0,0,0,0,0,0,0,0,0,0,0,30,48,1.2,1.1000000000000001,0,0]
["2023-09-27T00:58:01",28,31,29,30,39,39,38,38,21.1,66.599999999999994,100,66.099999999999994,53,53,53,54.2,23.7,25,24.5,120,120,120,120,120,120,119.9,120,119.9,120,120,120,59,59,59,2.2000000000000002,4.0999999999999996,2,3.9,0.1,0.1,0.1,0.5,0.5,0.5,0.2,0.2,0.2,0.4,0.5,0.4,-0.2,-0.2,-0.2,-0.1,0,0,-0.2,-0.1,-0.1,0,0,0,0.2,0.4,0.3,0.3,0.6,0.4,0.2,0.6,0.3,0.3,0.7,0.5,0,0,0,0.3,0.3,0.3,0.3,0.4,0.3,0.2,0.3,0.2,0.5,0.5,0.5,0,0,0,0,0,0,0,0,0,0,0,0,0,0,0,0,0,0,0,0,0,0,0,0,1,1,1,2,1,1,179.7,29.7,"01:00:00",4162,0,0,0,0,0,0,0,0,0,0,0,0,0,0,0,0,0,0,0,0,30,48,1.2,1.2,0,0]
["2023-09-27T00:59:02",28,31,29,30,39,39,38,38,21.1,66.599999999999994,100,66.099999999999994,53,53,53,54.2,23.8,26,24.8,120,120,120,120,120,120,119.9,120,119.9,120,120,120,59,59,59,2.2999999999999998,4.3,2.1,4,0.1,0.1,0.1,0.5,0.5,0.5,0.2,0.2,0.2,0.4,0.5,0.4,-0.2,-0.2,-0.2,-0.1,0,0,-0.2,-0.1,-0.1,0,0,0,0.2,0.5,0.3,0.4,0.7,0.4,0.2,0.5,0.3,0.4,0.7,0.5,0,0,0,0.3,0.3,0.3,0.3,0.4,0.3,0.2,0.3,0.2,0.5,0.5,0.5,0,0,0,0,0,0,0,0,0,0,0,0,0,0,0,0,0,0,0,0,0,0,0,0,1,1,1,2,1,1,179.7,29.7,"01:00:00",4163,0,0,0,0,0,0,0,0,0,0,0,0,0,0,0,0,0,0,0,0,30,48,1.3,1.2,0,0]
["2023-09-27T01:00:03",28,31,29,30,39,39,38,38,21,66.5,100,66.099999999999994,53,53,53,54.2,23.4,25.8,24.8,120,120,120,120,120,120,119.9,120,119.9,119.9,120,119.9,59,59,59,2.2999999999999998,4.2,2.1,3.9,0.1,0.1,0.1,0.4,0.5,0.4,0.2,0.2,0.2,0.4,0.5,0.4,-0.2,-0.2,-0.2,-0.1,-0.1,-0.1,-0.2,-0.1,-0.1,0,0,0,0.2,0.5,0.3,0.4,0.7,0.4,0.2,0.4,0.3,0.4,0.8,0.6,0,0,0,0.2,0.3,0.3,0.3,0.4,0.3,0.2,0.3,0.2,0.5,0.5,0.5,0,0,0,0,0,0,0,0,0,0,0,0,0,0,0,0,0,0,0,0,0,0,0,0,1,1,1,2,1,1,179.7,29.7,"01:00:00",4163,0,0,0,0,0,0,0,0,0,0,0,0,0,0,0,0,0,0,0,0,30,48,1.3,1.2,0,0]
["2023-09-27T01:01:03",28,32,29,31,39,39,38,38,21,66.400000000000006,100,66.099999999999994,52.8,53,52.9,54.2,23.7,55.7,46.5,120,120,120,119.8,120,120,119.9,120,119.9,119.6,120,119.9,59,59,59,2.4,18.8,2,17,0.1,0.1,0.1,0.4,1.3,1,0.2,0.2,0.2,0.4,1.4,1,-0.3,-0.2,-0.2,-0.1,0.5,0.2,-0.1,-0.1,-0.1,0,0.6,0.3,0.2,0.5,0.3,0.4,0.6,0.4,0.2,0.5,0.3,0.4,0.7,0.5,0,0,0,0.2,0.3,0.2,0.3,0.4,0.3,0.2,0.3,0.2,0.5,0.5,0.5,0,0,0,0,0,0,0,0,0,0,0,0,0,0,0,0,0,0,0,0,0,0,0,0,1,1,1,2,1,1,179.6,29.6,"01:00:00",4164,0,0,0,0,0,0,0,0,0,0,0,0,0,0,0,0,0,0,0,0,30,48,2.9,2.2999999999999998,0,0]
["2023-09-27T01:02:04",28,32,29,31,39,39,38,38,21,66.3,100,66.099999999999994,53,53,53,54.2,21.8,38.299999999999997,24.5,120,120,120,120,120.1,120,119.9,120,119.9,120,120.1,120,59,59,59,2.2999999999999998,4.2,1.9,3.9,0.1,0.1,0.1,0.4,0.5,0.5,0.1,0.2,0.1,0.4,0.5,0.4,-0.3,-0.2,-0.2,-0.1,-0.1,-0.1,-0.1,-0.1,-0.1,0,0,0,0.2,0.5,0.3,0.3,0.6,0.4,0.2,0.6,0.3,0.4,0.7,0.5,0,0,0,0.2,0.3,0.3,0.3,0.4,0.3,0.2,0.3,0.2,0.5,0.5,0.5,0,0,0,0,0,0,0,0,0,0,0,0,0,0,0,0,0,0,0,0,0,0,0,0,1,1,1,2,1,1,179.6,29.6,"01:00:00",4164,0,0,0,0,0,0,0,0,0,0,0,0,0,0,0,0,0,0,0,0,30,48,1.2,1.2,0,0]
["2023-09-27T01:03:05",28,31,29,30,39,39,38,38,21,66.3,100,66.099999999999994,53,53,53,54.2,21.8,22.9,22.4,120,120,120,120,120,120,119.9,120,119.9,120,120,120,59,59,59,2.2999999999999998,3.8,1.9,3.6,0.1,0.1,0.1,0.4,0.4,0.4,0.2,0.2,0.2,0.4,0.4,0.4,-0.2,-0.2,-0.2,-0.1,-0.1,-0.1,-0.1,-0.1,-0.1,0,0,0,0.2,0.5,0.3,0.4,0.7,0.4,0.2,0.6,0.3,0.4,0.8,0.5,0,0,0,0.2,0.3,0.2,0.3,0.4,0.3,0.2,0.3,0.2,0.5,0.5,0.5,0,0,0,0,0,0,0,0,0,0,0,0,0,0,0,0,0,0,0,0,0,0,0,0,1,1,1,2,1,1,179.6,29.6,"01:00:00",4165,0,0,0,0,0,0,0,0,0,0,0,0,0,0,0,0,0,0,0,0,30,48,1.1000000000000001,1.1000000000000001,0,0]
["2023-09-27T01:04:06",28,31,29,30,39,39,38,38,21,66.2,100,66.099999999999994,53,53,53,54.2,22.5,24.7,23.5,120,120,120,120,120,120,119.9,120,119.9,119.9,120,120,59,59,59,2.2999999999999998,4.0999999999999996,2,3.9,0.1,0.1,0.1,0.4,0.5,0.4,0.2,0.2,0.2,0.4,0.5,0.4,-0.2,-0.2,-0.2,-0.1,-0.1,-0.1,-0.1,-0.1,-0.1,0,0,0,0.2,0.6,0.3,0.4,0.7,0.4,0.2,0.6,0.3,0.4,0.7,0.6,0,0,0,0.2,0.3,0.2,0.3,0.4,0.3,0.2,0.3,0.2,0.5,0.5,0.5,0,0,0,0,0,0,0,0,0,0,0,0,0,0,0,0,0,0,0,0,0,0,0,0,1,1,1,2,1,1,179.6,29.6,"01:00:00",4165,0,0,0,0,0,0,0,0,0,0,0,0,0,0,0,0,0,0,0,0,30,48,1.2,1.1000000000000001,0,0]
["2023-09-27T01:05:07",28,31,29,30,39,39,38,38,21,66.2,100,66.099999999999994,53,53,53,54.2,23.9,25,24.5,120,120,120,120,120,120,119.9,120,119.9,119.9,120,119.9,59,59,59,2.2999999999999998,4,2,3.8,0.1,0.1,0.1,0.5,0.5,0.5,0.2,0.2,0.2,0.4,0.5,0.4,-0.2,-0.2,-0.2,-0.1,0,0,-0.1,-0.1,-0.1,0,0,0,0.2,0.5,0.3,0.4,0.6,0.4,0.2,0.5,0.3,0.5,0.8,0.6,0,0,0,0.3,0.3,0.3,0.3,0.4,0.3,0.2,0.3,0.2,0.5,0.5,0.5,0,0,0,0,0,0,0,0,0,0,0,0,0,0,0,0,0,0,0,0,0,0,0,0,1,1,1,2,1,1,179.6,29.6,"01:00:00",4165,0,0,0,0,0,0,0,0,0,0,0,0,0,0,0,0,0,0,0,0,30,48,1.2,1.2,0,0]
["2023-09-27T01:06:08",28,31,29,30,39,39,38,38,21,66.099999999999994,100,66.099999999999994,53,53,53,54.2,23,24.3,23.6,120,120,120,120,120,120,119.9,120,119.9,119.9,120,119.9,59,59,59,2.2999999999999998,3.9,2,3.7,0.1,0.1,0.1,0.4,0.5,0.4,0.2,0.2,0.2,0.4,0.4,0.4,-0.2,-0.2,-0.2,-0.1,-0.1,-0.1,-0.1,-0.1,-0.1,0,0,0,0.2,0.5,0.3,0.4,0.6,0.4,0.2,0.5,0.3,0.4,0.7,0.6,0,0,0,0.2,0.3,0.3,0.3,0.4,0.3,0.2,0.3,0.2,0.5,0.5,0.5,0,0,0,0,0,0,0,0,0,0,0,0,0,0,0,0,0,0,0,0,0,0,0,0,1,1,1,2,1,1,179.6,29.6,"01:00:00",4166,0,0,0,0,0,0,0,0,0,0,0,0,0,0,0,0,0,0,0,0,30,48,1.2,1.1000000000000001,0,0]
["2023-09-27T01:07:10",28,31,29,30,39,39,38,38,21,66,100,66.099999999999994,53,53,53,54.2,24,25.3,24.7,120,120,120,120,120,120,119.9,120,119.9,119.9,120,119.9,59,59,59,2.2999999999999998,4.2,1.9,4,0.1,0.1,0.1,0.5,0.5,0.5,0.2,0.2,0.2,0.4,0.5,0.4,-0.2,-0.2,-0.2,-0.1,0,0,-0.1,-0.1,-0.1,0,0,0,0.2,0.5,0.3,0.3,0.5,0.4,0.2,0.6,0.3,0.4,0.7,0.6,0,0,0,0.2,0.3,0.2,0.3,0.3,0.3,0.2,0.3,0.2,0.5,0.5,0.5,0,0,0,0,0,0,0,0,0,0,0,0,0,0,0,0,0,0,0,0,0,0,0,0,1,1,1,2,1,1,179.6,29.6,"01:00:00",4166,0,0,0,0,0,0,0,0,0,0,0,0,0,0,0,0,0,0,0,0,30,48,1.3,1.2,0,0]
["2023-09-27T01:08:10",28,31,29,30,39,39,38,38,21,66,100,66.099999999999994,53,53,53,54.2,24.7,26.1,25.4,120,120,120,120,120,120,119.9,120,119.9,119.9,120,119.9,59,59,59,2.2999999999999998,4.4000000000000004,2,4.0999999999999996,0.1,0.1,0.1,0.5,0.5,0.5,0.2,0.2,0.2,0.5,0.5,0.5,-0.3,-0.2,-0.2,-0.1,-0.1,-0.1,-0.1,-0.1,-0.1,0,0,0,0.2,0.5,0.3,0.2,0.5,0.4,0.2,0.5,0.4,0.5,0.8,0.6,0,0,0,0.2,0.3,0.3,0.3,0.3,0.3,0.2,0.3,0.2,0.5,0.5,0.5,0,0,0,0,0,0,0,0,0,0,0,0,0,0,0,0,0,0,0,0,0,0,0,0,1,1,1,2,1,1,179.6,29.6,"01:00:00",4167,0,0,0,0,0,0,0,0,0,0,0,0,0,0,0,0,0,0,0,0,30,48,1.3,1.2,0,0]
["2023-09-27T01:09:11",28,31,29,30,39,39,38,38,21,65.900000000000006,100,66.099999999999994,53,53,53,54.2,25.5,26.7,26.2,120,120,120,120,120,120,119.9,120,119.9,119.9,120,119.9,59,59,59,2.2999999999999998,4.4000000000000004,2,4.2,0.1,0.1,0.1,0.5,0.5,0.5,0.2,0.2,0.2,0.5,0.5,0.5,-0.3,-0.2,-0.2,-0.1,0,0,-0.1,-0.1,-0.1,0,0,0,0.2,0.4,0.3,0.3,0.5,0.4,0.3,0.5,0.3,0.4,0.7,0.6,0,0,0,0.2,0.3,0.3,0.3,0.3,0.3,0.2,0.3,0.2,0.5,0.5,0.5,0,0,0,0,0,0,0,0,0,0,0,0,0,0,0,0,0,0,0,0,0,0,0,0,1,1,1,2,1,1,179.6,29.6,"01:00:00",4167,0,0,0,0,0,0,0,0,0,0,0,0,0,0,0,0,0,0,0,0,30,48,1.3,1.3,0,0]
["2023-09-27T01:10:12",28,31,29,30,39,39,38,38,21,65.900000000000006,100,66.099999999999994,53,53,53,54.2,25,26.5,25.6,120,120,120,120,120,120,119.9,120,119.9,119.9,120,119.9,59,59,59,2.2999999999999998,4.3,2.1,4.0999999999999996,0.1,0.1,0.1,0.5,0.5,0.5,0.2,0.2,0.2,0.5,0.5,0.5,-0.3,-0.2,-0.2,-0.1,0,0,-0.1,-0.1,-0.1,0,0,0,0.2,0.4,0.3,0.3,0.5,0.4,0.2,0.5,0.3,0.4,0.9,0.6,0,0,0,0.3,0.3,0.3,0.3,0.3,0.3,0.2,0.3,0.2,0.5,0.5,0.5,0,0,0,0,0,0,0,0,0,0,0,0,0,0,0,0,0,0,0,0,0,0,0,0,1,1,1,2,1,1,179.6,29.6,"01:00:00",4167,0,0,0,0,0,0,0,0,0,0,0,0,0,0,0,0,0,0,0,0,30,48,1.3,1.2,0,0]
["2023-09-27T01:11:12",28,31,29,30,39,39,38,38,21,65.8,100,66.099999999999994,53,53,53,54.2,24.3,26.5,25.1,120,120,120,120,120,120,119.9,120,119.9,119.9,120,119.9,59,59,59,2.2999999999999998,4.7,1.9,4.4000000000000004,0.1,0.1,0.1,0.5,0.6,0.5,0.1,0.2,0.1,0.5,0.5,0.5,-0.3,-0.2,-0.2,-0.1,0,0,-0.1,-0.1,-0.1,0,0,0,0.2,0.4,0.3,0.3,0.6,0.4,0.2,0.5,0.3,0.4,0.7,0.6,0,0,0,0.3,0.3,0.3,0.3,0.3,0.3,0.2,0.3,0.2,0.5,0.5,0.5,0,0,0,0,0,0,0,0,0,0,0,0,0,0,0,0,0,0,0,0,0,0,0,0,1,1,1,2,1,1,179.6,29.6,"01:00:00",4168,0,0,0,0,0,0,0,0,0,0,0,0,0,0,0,0,0,0,0,0,30,48,1.3,1.2,0,0]
["2023-09-27T01:12:13",28,31,29,30,39,39,38,38,21,65.7,100,66.099999999999994,53,53,53,54.2,24.6,25.4,24.9,120,120,120,120,120,120,119.9,120,119.9,119.9,120,119.9,59,59,59,2.2999999999999998,4.4000000000000004,1.9,4.2,0.1,0.1,0.1,0.5,0.5,0.5,0.1,0.2,0.1,0.5,0.5,0.5,-0.3,-0.2,-0.2,-0.1,0,0,-0.1,-0.1,-0.1,0,0,0,0.2,0.5,0.3,0.2,0.5,0.4,0.2,0.5,0.3,0.3,0.7,0.5,0,0,0,0.2,0.3,0.2,0.3,0.3,0.3,0.2,0.2,0.2,0.5,0.5,0.5,0,0,0,0,0,0,0,0,0,0,0,0,0,0,0,0,0,0,0,0,0,0,0,0,1,1,1,2,1,1,179.6,29.6,"01:00:00",4168,0,0,0,0,0,0,0,0,0,0,0,0,0,0,0,0,0,0,0,0,30,48,1.3,1.2,0,0]
["2023-09-27T01:13:14",28,31,29,30,39,39,38,38,21,65.7,100,66.099999999999994,53,53,53,54.2,24.7,26.9,26.1,120,120,120,120,120,120,119.9,120,119.9,119.9,120,119.9,59,59,59,2.2999999999999998,4.5,2,4.2,0.1,0.1,0.1,0.5,0.5,0.5,0.2,0.2,0.2,0.5,0.5,0.5,-0.3,-0.2,-0.2,-0.1,0,0,-0.1,-0.1,-0.1,0,0,0,0.2,0.5,0.3,0.3,0.5,0.4,0.2,0.5,0.3,0.4,0.7,0.6,0,0,0,0.3,0.3,0.3,0.3,0.3,0.3,0.2,0.3,0.2,0.5,0.5,0.5,0,0,0,0,0,0,0,0,0,0,0,0,0,0,0,0,0,0,0,0,0,0,0,0,1,1,1,2,1,1,179.6,29.6,"01:00:00",4169,0,0,0,0,0,0,0,0,0,0,0,0,0,0,0,0,0,0,0,0,30,48,1.3,1.2,0,0]
["2023-09-27T01:14:15",28,31,29,30,39,39,38,38,21,65.599999999999994,100,66.099999999999994,53,53,53,54.2,26.2,27.7,27,120,120,120,120,120,120,119.9,120,119.9,120,120,120,59,59,59,2.4,4.5999999999999996,2.1,4.4000000000000004,0.1,0.1,0.1,0.5,0.6,0.5,0.2,0.2,0.2,0.5,0.5,0.5,-0.3,-0.2,-0.2,-0.1,0,0,-0.1,-0.1,-0.1,0,0,0,0.2,0.4,0.3,0.3,0.6,0.4,0.2,0.6,0.3,0.4,0.7,0.5,0,0,0,0.3,0.3,0.3,0.3,0.3,0.3,0.2,0.3,0.2,0.5,0.5,0.5,0,0,0,0,0,0,0,0,0,0,0,0,0,0,0,0,0,0,0,0,0,0,0,0,1,1,1,2,1,1,179.6,29.6,"01:00:00",4169,0,0,0,0,0,0,0,0,0,0,0,0,0,0,0,0,0,0,0,0,30,48,1.4,1.3,0,0]
["2023-09-27T01:15:15",28,31,29,30,39,39,38,38,21,65.5,100,66.099999999999994,53,53,53,54.2,26.2,27.5,26.7,120,120,120,120,120,120,119.9,120,119.9,120,120,120,59,59,59,2.2999999999999998,4.5999999999999996,2,4.3,0.1,0.1,0.1,0.5,0.5,0.5,0.2,0.2,0.2,0.5,0.5,0.5,-0.3,-0.2,-0.2,-0.1,0,0,-0.1,-0.1,-0.1,0,0,0,0.2,0.4,0.2,0.4,0.6,0.4,0.2,0.5,0.3,0.4,0.7,0.5,0,0,0,0.3,0.3,0.3,0.3,0.3,0.3,0.2,0.3,0.2,0.5,0.5,0.5,0,0,0,0,0,0,0,0,0,0,0,0,0,0,0,0,0,0,0,0,0,0,0,0,1,1,1,2,1,1,179.6,29.6,"01:00:00",4170,0,0,0,0,0,0,0,0,0,0,0,0,0,0,0,0,0,0,0,0,30,48,1.4,1.3,0,0]
["2023-09-27T01:16:16",28,31,29,30,39,39,38,38,21,65.5,100,66.099999999999994,53,53,53,54.2,26,28.5,27.4,120,120,120,120,120,120,119.9,120,119.9,119.9,120,119.9,59,59,59,2.2999999999999998,4.9000000000000004,1.9,4.7,0.1,0.1,0.1,0.5,0.6,0.5,0.2,0.2,0.2,0.5,0.6,0.5,-0.3,-0.2,-0.2,-0.1,0,0,-0.1,-0.1,-0.1,0,0,0,0.2,0.5,0.3,0.3,0.6,0.4,0.2,0.5,0.3,0.4,0.7,0.5,0,0,0,0.3,0.3,0.3,0.3,0.3,0.3,0.2,0.3,0.2,0.5,0.5,0.5,0,0,0,0,0,0,0,0,0,0,0,0,0,0,0,0,0,0,0,0,0,0,0,0,1,1,1,2,1,1,179.6,29.6,"01:00:00",4170,0,0,0,0,0,0,0,0,0,0,0,0,0,0,0,0,0,0,0,0,30,48,1.4,1.3,0,0]
["2023-09-27T01:17:19",28,31,29,30,39,39,38,38,21,65.400000000000006,100,66.099999999999994,53,53,53,54.2,26.7,27.4,27.1,120,120,120,120,120,120,119.9,120,119.9,120,120,120,59,59,59,2.4,4.5999999999999996,2.1,4.4000000000000004,0.1,0.1,0.1,0.5,0.6,0.5,0.2,0.2,0.2,0.5,0.5,0.5,-0.3,-0.2,-0.2,-0.1,0,0,-0.1,-0.1,-0.1,0,0,0,0.2,0.4,0.3,0.3,0.6,0.4,0.2,0.6,0.3,0.4,0.7,0.5,0,0,0,0.2,0.3,0.3,0.3,0.4,0.3,0.2,0.3,0.2,0.5,0.5,0.5,0,0,0,0,0,0,0,0,0,0,0,0,0,0,0,0,0,0,0,0,0,0,0,0,1,1,1,2,1,1,179.6,29.6,"01:00:00",4171,0,0,0,0,0,0,0,0,0,0,0,0,0,0,0,0,0,0,0,0,30,48,1.4,1.3,0,0]
["2023-09-27T01:18:20",28,31,29,30,39,39,38,38,21,65.3,100,66.099999999999994,53,53,53,54.2,25.1,26.7,25.3,120,120,120,120,120,120,119.9,120,119.9,120,120,120,59,59,59,2.2999999999999998,4.3,2.1,4.0999999999999996,0.1,0.1,0.1,0.5,0.5,0.5,0.2,0.2,0.2,0.5,0.5,0.5,-0.2,-0.2,-0.2,-0.1,0,0,-0.1,-0.1,-0.1,0,0,0,0.2,0.5,0.3,0.2,0.6,0.4,0.2,0.5,0.3,0.5,0.7,0.6,0,0,0,0.2,0.3,0.2,0.3,0.3,0.3,0.2,0.3,0.2,0.5,0.5,0.5,0,0,0,0,0,0,0,0,0,0,0,0,0,0,0,0,0,0,0,0,0,0,0,0,1,1,1,2,1,1,179.6,29.6,"01:00:00",4171,0,0,0,0,0,0,0,0,0,0,0,0,0,0,0,0,0,0,0,0,30,48,1.3,1.2,0,0]
["2023-09-27T01:19:20",28,31,29,30,39,39,38,38,21,65.3,100,66.099999999999994,53,53,53,54.2,24.5,25.6,25,120,120,120,120,120,120,119.9,120,119.9,120,120,120,59,59,59,2.2999999999999998,4.3,2,4.0999999999999996,0.1,0.1,0.1,0.5,0.5,0.5,0.2,0.2,0.2,0.5,0.5,0.5,-0.3,-0.2,-0.2,-0.1,0,0,-0.1,-0.1,-0.1,0,0,0,0.2,0.5,0.3,0.3,0.6,0.4,0.2,0.5,0.3,0.4,0.7,0.6,0,0,0,0.2,0.3,0.3,0.3,0.3,0.3,0.2,0.3,0.2,0.5,0.5,0.5,0,0,0,0,0,0,0,0,0,0,0,0,0,0,0,0,0,0,0,0,0,0,0,0,1,1,1,2,1,1,179.6,29.6,"01:00:00",4171,0,0,0,0,0,0,0,0,0,0,0,0,0,0,0,0,0,0,0,0,30,48,1.3,1.2,0,0]
["2023-09-27T01:20:21",28,31,29,30,39,39,38,38,21,65.2,100,66.099999999999994,53,53,53,54.2,25.3,26.7,25.8,120,120,120,120,120,120,119.9,120,119.9,119.9,120,119.9,59,59,59,2.2999999999999998,4.5,2,4.2,0.1,0.1,0.1,0.5,0.5,0.5,0.2,0.2,0.2,0.5,0.5,0.5,-0.3,-0.2,-0.2,-0.1,0,0,-0.1,-0.1,-0.1,0,0,0,0.2,0.4,0.3,0.3,0.5,0.4,0.2,0.6,0.3,0.4,0.9,0.5,0,0,0,0.2,0.3,0.3,0.3,0.3,0.3,0.2,0.3,0.2,0.5,0.5,0.5,0,0,0,0,0,0,0,0,0,0,0,0,0,0,0,0,0,0,0,0,0,0,0,0,1,1,1,2,1,1,179.6,29.6,"01:00:00",4172,0,0,0,0,0,0,0,0,0,0,0,0,0,0,0,0,0,0,0,0,30,48,1.3,1.3,0,0]
["2023-09-27T01:21:21",28,31,29,30,39,39,38,38,21,65.099999999999994,100,66.099999999999994,53,53,53,54.2,26.1,27.8,26.6,120,120,120,120,120,120,119.9,120,119.9,120,120,120,59,59,59,2.2999999999999998,4.5999999999999996,2.1,4.4000000000000004,0.1,0.1,0.1,0.5,0.5,0.5,0.2,0.2,0.2,0.5,0.5,0.5,-0.3,-0.2,-0.2,-0.1,0,0,-0.1,-0.1,-0.1,0,0,0,0.2,0.4,0.2,0.3,0.6,0.4,0.2,0.5,0.3,0.4,0.7,0.5,0,0,0,0.3,0.3,0.3,0.3,0.4,0.3,0.2,0.3,0.2,0.5,0.5,0.5,0,0,0,0,0,0,0,0,0,0,0,0,0,0,0,0,0,0,0,0,0,0,0,0,1,1,1,2,1,1,179.6,29.6,"01:00:00",4172,0,0,0,0,0,0,0,0,0,0,0,0,0,0,0,0,0,0,0,0,30,48,1.4,1.3,0,0]
["2023-09-27T01:22:21",28,31,29,30,39,39,38,38,21,65.099999999999994,100,66.099999999999994,53,53,53,54.2,27.1,28.3,27.5,120,120,120,120,120,120,119.9,120,119.9,119.9,120,119.9,59,59,59,2.2999999999999998,4.8,2,4.5,0.1,0.1,0.1,0.5,0.6,0.5,0.2,0.2,0.2,0.5,0.5,0.5,-0.3,-0.2,-0.2,-0.1,0,0,-0.1,-0.1,-0.1,0,0,0,0.2,0.4,0.2,0.3,0.5,0.4,0.2,0.6,0.3,0.4,0.7,0.6,0,0,0,0.3,0.3,0.3,0.3,0.3,0.3,0.2,0.3,0.2,0.5,0.5,0.5,0,0,0,0,0,0,0,0,0,0,0,0,0,0,0,0,0,0,0,0,0,0,0,0,1,1,1,2,1,1,179.6,29.6,"01:00:00",4173,0,0,0,0,0,0,0,0,0,0,0,0,0,0,0,0,0,0,0,0,30,48,1.4,1.3,0,0]
["2023-09-27T01:23:22",28,31,29,30,39,39,38,38,21,65,100,66.099999999999994,53,53,53,54.2,26.8,27.9,27.4,120,120,120,120,120,120,119.9,120,119.9,119.9,120,119.9,59,59,59,2.2999999999999998,4.8,1.8,4.5999999999999996,0.1,0.1,0.1,0.5,0.6,0.5,0.2,0.2,0.2,0.5,0.5,0.5,-0.3,-0.2,-0.2,-0.1,-0.1,-0.1,-0.1,-0.1,-0.1,0,0,0,0.2,0.4,0.2,0.3,0.6,0.4,0.2,0.4,0.3,0.5,0.8,0.6,0,0,0,0.3,0.3,0.3,0.3,0.4,0.3,0.2,0.3,0.2,0.5,0.5,0.5,0,0,0,0,0,0,0,0,0,0,0,0,0,0,0,0,0,0,0,0,0,0,0,0,1,1,1,2,1,1,179.6,29.6,"01:00:00",4173,0,0,0,0,0,0,0,0,0,0,0,0,0,0,0,0,0,0,0,0,30,48,1.4,1.3,0,0]
["2023-09-27T01:24:23",28,31,29,30,38,39,38,38,21,64.900000000000006,100,66.099999999999994,52.9,53,52.9,54.2,25.9,26.9,26.3,120,120,120,120,120,120,119.9,120,119.9,119.9,120,119.9,59,59,59,2.2999999999999998,4.5,2,4.2,0.1,0.1,0.1,0.5,0.5,0.5,0.2,0.2,0.2,0.5,0.5,0.5,-0.3,-0.2,-0.2,-0.1,0,0,-0.1,-0.1,-0.1,0,0,0,0.2,0.5,0.3,0.3,0.5,0.4,0.2,0.4,0.3,0.6,0.8,0.6,0,0,0,0.2,0.3,0.3,0.3,0.4,0.3,0.2,0.3,0.2,0.5,0.5,0.5,0,0,0,0,0,0,0,0,0,0,0,0,0,0,0,0,0,0,0,0,0,0,0,0,1,1,1,2,1,1,179.6,29.6,"01:00:00",4174,0,0,0,0,0,0,0,0,0,0,0,0,0,0,0,0,0,0,0,0,30,48,1.3,1.3,0,0]
["2023-09-27T01:25:24",28,31,29,30,38,39,38,38,21,64.900000000000006,100,66.099999999999994,52.9,53,52.9,54.2,26.9,28.1,27.3,120,120,120,120,120,120,119.9,120,119.9,119.9,120,119.9,59,59,59,2.4,4.5999999999999996,2.1,4.3,0.1,0.1,0.1,0.5,0.5,0.5,0.2,0.2,0.2,0.5,0.5,0.5,-0.3,-0.2,-0.2,-0.1,0,0,-0.1,-0.1,-0.1,0,0,0,0.2,0.5,0.3,0.2,0.5,0.4,0.2,0.4,0.3,0.5,0.8,0.6,0,0,0,0.2,0.3,0.3,0.3,0.3,0.3,0.2,0.3,0.2,0.5,0.5,0.5,0,0,0,0,0,0,0,0,0,0,0,0,0,0,0,0,0,0,0,0,0,0,0,0,1,1,1,2,1,1,179.6,29.6,"01:00:00",4174,0,0,0,0,0,0,0,0,0,0,0,0,0,0,0,0,0,0,0,0,30,48,1.4,1.3,0,0]
["2023-09-27T01:26:25",28,31,29,30,38,39,38,38,21,64.8,100,66.099999999999994,52.9,53,52.9,54.2,24.2,26.8,25.1,120,120,120,120,120,120,119.9,120,119.9,119.9,120,119.9,59,59,59,2.2999999999999998,4.4000000000000004,2,4.2,0.1,0.1,0.1,0.5,0.5,0.5,0.2,0.2,0.2,0.5,0.5,0.5,-0.3,-0.2,-0.2,-0.1,0,0,-0.1,-0.1,-0.1,0,0,0,0.2,0.5,0.3,0.3,0.5,0.4,0.2,0.5,0.3,0.4,0.7,0.5,0,0,0,0.2,0.3,0.2,0.3,0.3,0.3,0.2,0.3,0.2,0.5,0.5,0.5,0,0,0,0,0,0,0,0,0,0,0,0,0,0,0,0,0,0,0,0,0,0,0,0,1,1,1,2,1,1,179.6,29.6,"01:00:00",4174,0,0,0,0,0,0,0,0,0,0,0,0,0,0,0,0,0,0,0,0,30,48,1.3,1.2,0,0]
["2023-09-27T01:27:26",28,31,29,30,38,39,38,38,21,64.8,100,66.099999999999994,53,53,53,54.2,23.4,25.7,24.2,120,120,120,120,120,120,119.9,120,119.9,119.9,120,119.9,59,59,59,2.2999999999999998,4.3,1.9,4,0.1,0.1,0.1,0.5,0.5,0.5,0.2,0.2,0.2,0.4,0.5,0.4,-0.3,-0.2,-0.2,-0.1,0,0,-0.1,-0.1,-0.1,0,0,0,0.2,0.5,0.3,0.3,0.5,0.4,0.2,0.5,0.3,0.4,0.7,0.6,0,0,0,0.2,0.3,0.3,0.3,0.4,0.3,0.2,0.3,0.2,0.5,0.5,0.5,0,0,0,0,0,0,0,0,0,0,0,0,0,0,0,0,0,0,0,0,0,0,0,0,1,1,1,2,1,1,179.6,29.6,"01:00:00",4175,0,0,0,0,0,0,0,0,0,0,0,0,0,0,0,0,0,0,0,0,30,48,1.3,1.2,0,0]
["2023-09-27T01:28:27",28,31,29,30,38,38,38,38,21,64.7,100,66.099999999999994,52.9,53,52.9,54.2,25.7,28,27,120,120,120,120,120,120,119.9,120,119.9,119.9,120,119.9,59,59,59,2.2999999999999998,4.7,2,4.4000000000000004,0.1,0.1,0.1,0.5,0.6,0.5,0.2,0.2,0.2,0.5,0.5,0.5,-0.3,-0.2,-0.2,-0.1,0,0,-0.1,-0.1,-0.1,0,0,0,0.3,0.6,0.3,0.4,0.6,0.4,0.2,0.5,0.3,0.4,0.7,0.5,0,0,0,0.2,0.3,0.2,0.3,0.4,0.3,0.2,0.3,0.2,0.5,0.5,0.5,0,0,0,0,0,0,0,0,0,0,0,0,0,0,0,0,0,0,0,0,0,0,0,0,1,1,1,2,1,1,179.6,29.6,"01:00:00",4175,0,0,0,0,0,0,0,0,0,0,0,0,0,0,0,0,0,0,0,0,30,48,1.4,1.3,0,0]
["2023-09-27T01:29:28",28,31,29,30,38,39,38,38,21,64.599999999999994,100,66.099999999999994,52.9,53,52.9,54.2,28,28.9,28.6,120,120,120,120,120,120,119.9,120,119.9,119.9,120,119.9,59,59,59,2.4,4.7,2.1,4.5,0.1,0.1,0.1,0.6,0.6,0.6,0.2,0.2,0.2,0.5,0.5,0.5,-0.2,-0.2,-0.2,-0.1,0,0,-0.1,-0.1,-0.1,0,0,0,0.3,0.5,0.3,0.4,0.5,0.4,0.2,0.5,0.3,0.4,0.8,0.6,0,0,0,0.2,0.3,0.2,0.3,0.4,0.3,0.2,0.3,0.2,0.5,0.5,0.5,0,0,0,0,0,0,0,0,0,0,0,0,0,0,0,0,0,0,0,0,0,0,0,0,1,1,1,2,1,1,179.6,29.6,"01:00:00",4176,0,0,0,0,0,0,0,0,0,0,0,0,0,0,0,0,0,0,0,0,30,48,1.5,1.4,0,0]
["2023-09-27T01:30:29",28,31,29,30,38,39,38,38,21,64.599999999999994,100,66.099999999999994,52.9,53,52.9,54.2,23.6,28,25.7,120,120,120,120,120,120,119.9,120,119.9,119.9,120,120,59,59,59,2.2999999999999998,4.7,2.1,4.4000000000000004,0.1,0.1,0.1,0.5,0.6,0.5,0.1,0.2,0.1,0.5,0.5,0.5,-0.3,-0.2,-0.2,-0.1,0,0,-0.1,-0.1,-0.1,0,0,0,0.2,0.5,0.3,0.3,0.5,0.4,0.2,0.5,0.3,0.5,0.8,0.6,0,0,0,0.2,0.3,0.2,0.3,0.3,0.3,0.2,0.3,0.2,0.5,0.5,0.5,0,0,0,0,0,0,0,0,0,0,0,0,0,0,0,0,0,0,0,0,0,0,0,0,1,1,1,2,1,1,179.6,29.6,"01:00:00",4176,0,0,0,0,0,0,0,0,0,0,0,0,0,0,0,0,0,0,0,0,30,48,1.4,1.2,0,0]
["2023-09-27T01:31:30",28,31,29,30,38,39,38,38,21,64.5,100,66.099999999999994,52.9,53,52.9,54.2,22.9,24,23.3,120,120,120,120,120,120,119.9,120,119.9,120,120,120,59,59,59,2.2000000000000002,4.2,1.9,4,0.1,0.1,0.1,0.5,0.5,0.5,0.1,0.2,0.1,0.4,0.5,0.4,-0.3,-0.2,-0.2,-0.1,0,0,-0.1,-0.1,-0.1,0,0,0,0.2,0.6,0.3,0.3,0.5,0.4,0.2,0.5,0.3,0.4,0.7,0.6,0,0,0,0.2,0.3,0.2,0.3,0.4,0.3,0.2,0.3,0.2,0.5,0.5,0.5,0,0,0,0,0,0,0,0,0,0,0,0,0,0,0,0,0,0,0,0,0,0,0,0,1,1,1,2,1,1,179.6,29.6,"01:00:00",4177,0,0,0,0,0,0,0,0,0,0,0,0,0,0,0,0,0,0,0,0,30,48,1.2,1.1000000000000001,0,0]
["2023-09-27T01:32:31",28,31,29,30,38,39,38,38,21,64.400000000000006,100,66.099999999999994,52.9,53,52.9,54.2,23.7,27.6,25.5,120,120,120,120,120,120,119.9,120,119.9,120,120,120,59,59,59,2.4,4.4000000000000004,2.1,4.2,0.1,0.1,0.1,0.5,0.5,0.5,0.2,0.2,0.2,0.4,0.5,0.4,-0.2,-0.2,-0.2,-0.1,0,0,-0.1,-0.1,-0.1,0,0,0,0.2,0.5,0.3,0.4,0.5,0.4,0.2,0.5,0.3,0.4,0.7,0.5,0,0,0,0.2,0.3,0.2,0.3,0.4,0.3,0.2,0.3,0.2,0.5,0.5,0.5,0,0,0,0,0,0,0,0,0,0,0,0,0,0,0,0,0,0,0,0,0,0,0,0,1,1,1,2,1,1,179.6,29.6,"01:00:00",4177,0,0,0,0,0,0,0,0,0,0,0,0,0,0,0,0,0,0,0,0,30,48,1.4,1.2,0,0]
["2023-09-27T01:33:32",28,31,29,30,38,39,38,38,21,64.400000000000006,100,66.099999999999994,52.9,53,52.9,54.2,26.1,27.6,26.8,120,120,120,120,120,120,119.9,120,119.9,120,120,120,59,59,59,2.4,4.5,2.1,4.2,0.1,0.1,0.1,0.5,0.5,0.5,0.2,0.2,0.2,0.5,0.5,0.5,-0.2,-0.2,-0.2,-0.1,0,0,-0.1,-0.1,-0.1,0,0,0,0.2,0.5,0.3,0.3,0.5,0.4,0.2,0.5,0.3,0.5,0.9,0.6,0,0,0,0.2,0.3,0.2,0.3,0.3,0.3,0.2,0.3,0.2,0.5,0.5,0.5,0,0,0,0,0,0,0,0,0,0,0,0,0,0,0,0,0,0,0,0,0,0,0,0,1,1,1,2,1,1,179.6,29.6,"01:00:00",4177,0,0,0,0,0,0,0,0,0,0,0,0,0,0,0,0,0,0,0,0,30,48,1.4,1.3,0,0]
["2023-09-27T01:34:32",28,31,29,30,38,38,38,38,21,64.3,100,66.099999999999994,52.9,53,52.9,54.2,25.1,26.5,25.7,120,120,120,120,120,120,119.9,120,119.9,120,120,120,59,59,59,2.2999999999999998,4.5,2,4.2,0.1,0.1,0.1,0.5,0.5,0.5,0.2,0.2,0.2,0.5,0.5,0.5,-0.3,-0.2,-0.2,-0.1,0,0,-0.1,-0.1,-0.1,0,0,0,0.3,0.5,0.3,0.4,0.6,0.4,0.2,0.5,0.2,0.5,0.8,0.6,0,0,0,0.2,0.3,0.2,0.3,0.4,0.3,0.2,0.3,0.2,0.5,0.5,0.5,0,0,0,0,0,0,0,0,0,0,0,0,0,0,0,0,0,0,0,0,0,0,0,0,1,1,1,2,1,1,179.6,29.6,"01:00:00",4178,0,0,0,0,0,0,0,0,0,0,0,0,0,0,0,0,0,0,0,0,30,48,1.3,1.2,0,0]
["2023-09-27T01:35:33",28,31,29,30,38,39,38,38,21,64.2,100,66.099999999999994,52.6,53,52.8,54.2,24.4,57.8,41.3,120,120,120,119.8,120,120,119.9,120,119.9,119.8,120,119.9,59,59,59,2.2999999999999998,16.8,1.8,18.8,0.1,0.1,0.1,0.5,1.5,0.9,0.2,0.2,0.2,0.5,1.3,0.9,-0.3,-0.2,-0.2,-0.1,0.6,0.2,-0.1,-0.1,-0.1,0,0.5,0.2,0.2,0.6,0.3,0.3,0.5,0.4,0.2,0.5,0.3,0.4,0.8,0.6,0,0,0,0.2,0.3,0.2,0.3,0.4,0.3,0.2,0.3,0.2,0.5,0.5,0.5,0,0,0,0,0,0,0,0,0,0,0,0,0,0,0,0,0,0,0,0,0,0,0,0,1,1,1,2,1,1,179.6,29.6,"01:00:00",4179,0,0,0,0,0,0,0,0,0,0,0,0,0,0,0,0,0,0,0,0,30,48,3.1,2.1,0,0]
["2023-09-27T01:36:34",28,32,29,31,38,39,38,38,21,64.099999999999994,100,66.099999999999994,52.8,52.9,52.8,54.2,26.1,57.7,33.1,120,120,120,120,120.2,120,119.9,120,119.9,120,120.1,120,59,59,59,2.4,11.9,2.1,11.3,0.1,0.1,0.1,0.5,1.4,0.6,0.2,0.2,0.2,0.5,1.3,0.6,-0.3,-0.2,-0.2,-0.1,0.4,0,-0.1,-0.1,-0.1,0,0.5,0,0.2,0.5,0.3,0.3,0.6,0.4,0.2,0.4,0.2,0.5,0.8,0.6,0,0,0,0.2,0.3,0.2,0.3,0.4,0.3,0.2,0.3,0.2,0.5,0.5,0.5,0,0,0,0,0,0,0,0,0,0,0,0,0,0,0,0,0,0,0,0,0,0,0,0,1,1,1,2,1,1,179.6,29.6,"01:00:00",4179,0,0,0,0,0,0,0,0,0,0,0,0,0,0,0,0,0,0,0,0,30,48,2.9,1.6,0,0]
["2023-09-27T01:37:35",28,31,29,30,38,39,38,38,21.1,64.099999999999994,100,66.099999999999994,52.9,52.9,52.9,54.2,26.1,27.2,26.6,120,120,120,120,120,120,119.9,120,119.9,119.9,120,119.9,59,59,59,2.4,4.5,2.1,4.2,0.1,0.1,0.1,0.5,0.5,0.5,0.2,0.2,0.2,0.5,0.5,0.5,-0.3,-0.2,-0.2,-0.1,0,0,-0.2,-0.1,-0.1,0,0,0,0.2,0.5,0.3,0.3,0.6,0.4,0.2,0.5,0.3,0.5,0.9,0.6,0,0,0,0.2,0.3,0.2,0.3,0.4,0.3,0.2,0.3,0.2,0.5,0.5,0.5,0,0,0,0,0,0,0,0,0,0,0,0,0,0,0,0,0,0,0,0,0,0,0,0,1,1,1,2,1,1,179.6,29.6,"01:00:00",4180,0,0,0,0,0,0,0,0,0,0,0,0,0,0,0,0,0,0,0,0,30,48,1.4,1.3,0,0]
["2023-09-27T01:38:36",28,31,29,30,38,39,38,38,21.1,64,100,66.2,52.9,52.9,52.9,54.2,26.3,27.5,26.5,120,120,120,120,120,120,119.9,120,119.9,119.9,120,119.9,59,59,59,2.2999999999999998,4.7,1.9,4.5,0.1,0.1,0.1,0.5,0.6,0.5,0.2,0.2,0.2,0.5,0.5,0.5,-0.3,-0.2,-0.2,-0.1,0,0,-0.1,-0.1,-0.1,0,0,0,0.2,0.5,0.3,0.3,0.6,0.4,0.2,0.5,0.3,0.4,0.7,0.5,0,0,0,0.2,0.3,0.3,0.3,0.4,0.3,0.2,0.3,0.2,0.5,0.5,0.5,0,0,0,0,0,0,0,0,0,0,0,0,0,0,0,0,0,0,0,0,0,0,0,0,1,1,1,2,1,1,179.6,29.6,"01:00:00",4180,0,0,0,0,0,0,0,0,0,0,0,0,0,0,0,0,0,0,0,0,30,48,1.4,1.3,0,0]
["2023-09-27T01:39:37",28,31,29,30,38,39,38,38,21.1,63.9,100,66.2,52.9,52.9,52.9,54.2,24.9,27.3,25.9,120,120,120,120,120,120,119.9,120,119.9,119.9,120,119.9,59,59,59,2.2999999999999998,4.5999999999999996,1.9,4.4000000000000004,0.1,0.1,0.1,0.5,0.6,0.5,0.1,0.2,0.1,0.5,0.5,0.5,-0.3,-0.2,-0.2,-0.1,0,0,-0.1,-0.1,-0.1,0,0,0,0.2,0.4,0.3,0.3,0.7,0.4,0.2,0.4,0.3,0.4,0.7,0.6,0,0,0,0.2,0.3,0.3,0.3,0.4,0.3,0.2,0.3,0.2,0.5,0.5,0.5,0,0,0,0,0,0,0,0,0,0,0,0,0,0,0,0,0,0,0,0,0,0,0,0,1,1,1,2,1,1,179.6,29.6,"01:00:00",4180,0,0,0,0,0,0,0,0,0,0,0,0,0,0,0,0,0,0,0,0,30,48,1.4,1.2,0,0]
["2023-09-27T01:40:37",28,31,29,30,38,39,38,38,21.1,63.9,100,66.2,52.9,52.9,52.9,54.2,23.9,26.4,25.7,120,120,120,120,120,120,119.9,120,119.9,119.9,120,119.9,59,59,59,2.2999999999999998,4.5,1.9,4.3,0.1,0.1,0.1,0.5,0.5,0.5,0.1,0.2,0.2,0.4,0.5,0.4,-0.3,-0.2,-0.2,-0.1,0,0,-0.1,-0.1,-0.1,0,0,0,0.2,0.4,0.3,0.4,0.6,0.4,0.2,0.6,0.2,0.4,0.7,0.5,0,0,0,0.2,0.3,0.3,0.3,0.4,0.3,0.2,0.3,0.2,0.5,0.5,0.5,0,0,0,0,0,0,0,0,0,0,0,0,0,0,0,0,0,0,0,0,0,0,0,0,1,1,1,2,1,1,179.6,29.6,"01:00:00",4181,0,0,0,0,0,0,0,0,0,0,0,0,0,0,0,0,0,0,0,0,30,48,1.3,1.2,0,0]
["2023-09-27T01:41:38",28,31,29,30,38,38,38,38,21,63.8,100,66.2,52.9,53,52.9,54.2,22.1,24.4,23.2,120,120,120,120,120,120,119.9,120,119.9,119.9,120,119.9,59,59,59,2.2999999999999998,4,2,3.8,0.1,0.1,0.1,0.4,0.5,0.4,0.2,0.2,0.2,0.4,0.5,0.4,-0.3,-0.2,-0.2,-0.1,0,0,-0.1,-0.1,-0.1,0,0,0,0.2,0.5,0.3,0.3,0.6,0.4,0.2,0.4,0.2,0.4,0.9,0.5,0,0,0,0.2,0.3,0.2,0.3,0.4,0.3,0.2,0.3,0.2,0.5,0.5,0.5,0,0,0,0,0,0,0,0,0,0,0,0,0,0,0,0,0,0,0,0,0,0,0,0,1,1,1,2,1,1,179.6,29.6,"01:00:00",4181,0,0,0,0,0,0,0,0,0,0,0,0,0,0,0,0,0,0,0,0,30,48,1.2,1.1000000000000001,0,0]
["2023-09-27T01:42:39",28,31,29,30,38,39,38,38,21,63.7,100,66.2,52.9,53,52.9,54.2,23.5,25.9,24.6,120,120,120,120,120,120,119.9,120,119.9,119.9,120,119.9,59,59,59,2.2999999999999998,4.4000000000000004,1.9,4.0999999999999996,0.1,0.1,0.1,0.5,0.5,0.5,0.2,0.2,0.2,0.4,0.5,0.4,-0.3,-0.2,-0.2,-0.1,0,0,-0.1,-0.1,-0.1,0,0,0,0.2,0.5,0.3,0.3,0.5,0.4,0.2,0.5,0.3,0.5,0.7,0.6,0,0,0,0.2,0.3,0.2,0.3,0.4,0.3,0.2,0.3,0.2,0.5,0.5,0.5,0,0,0,0,0,0,0,0,0,0,0,0,0,0,0,0,0,0,0,0,0,0,0,0,1,1,1,2,1,1,179.6,29.6,"01:00:00",4182,0,0,0,0,0,0,0,0,0,0,0,0,0,0,0,0,0,0,0,0,30,48,1.3,1.2,0,0]
["2023-09-27T01:43:40",28,31,29,30,38,39,38,38,21,63.7,100,66.2,52.9,52.9,52.9,54.2,26,27.7,26.7,120,120,120,120,120,120,119.9,120,119.9,119.9,120,119.9,59,59,59,2.4,4.5999999999999996,2,4.4000000000000004,0.1,0.1,0.1,0.5,0.5,0.5,0.2,0.2,0.2,0.5,0.5,0.5,-0.3,-0.2,-0.2,-0.1,0,0,-0.1,-0.1,-0.1,0,0,0,0.3,0.5,0.3,0.4,0.6,0.4,0.2,0.4,0.2,0.4,0.8,0.5,0,0,0,0.2,0.3,0.2,0.3,0.4,0.3,0.2,0.3,0.2,0.5,0.5,0.5,0,0,0,0,0,0,0,0,0,0,0,0,0,0,0,0,0,0,0,0,0,0,0,0,1,1,1,2,1,1,179.6,29.6,"01:00:00",4182,0,0,0,0,0,0,0,0,0,0,0,0,0,0,0,0,0,0,0,0,30,48,1.4,1.3,0,0]
["2023-09-27T01:44:41",28,31,29,30,38,38,38,38,21,63.6,100,66.2,52.9,52.9,52.9,54.2,26.8,27.7,27.2,120,120,120,120,120,120,119.9,120,119.9,119.9,120,119.9,59,59,59,2.2999999999999998,4.5999999999999996,2,4.4000000000000004,0.1,0.1,0.1,0.5,0.6,0.5,0.2,0.2,0.2,0.5,0.5,0.5,-0.3,-0.2,-0.2,-0.1,0,0,-0.1,-0.1,-0.1,0,0,0,0.3,0.6,0.3,0.3,0.6,0.4,0.1,0.4,0.2,0.4,0.7,0.5,0,0,0,0.2,0.3,0.2,0.3,0.4,0.3,0.2,0.3,0.3,0.5,0.5,0.5,0,0,0,0,0,0,0,0,0,0,0,0,0,0,0,0,0,0,0,0,0,0,0,0,1,1,1,2,1,1,179.6,29.6,"01:00:00",4183,0,0,0,0,0,0,0,0,0,0,0,0,0,0,0,0,0,0,0,0,30,48,1.4,1.3,0,0]
["2023-09-27T01:45:42",28,31,29,30,38,39,38,38,21,63.5,100,66.2,52.9,52.9,52.9,54.2,27,28,27.2,120,120,120,120,120,120,119.9,120,119.9,119.9,120,119.9,59,59,59,2.2999999999999998,4.9000000000000004,2,4.5999999999999996,0.1,0.1,0.1,0.5,0.6,0.5,0.2,0.2,0.2,0.5,0.6,0.5,-0.3,-0.2,-0.2,-0.1,0,0,-0.1,-0.1,-0.1,0,0,0,0.3,0.6,0.3,0.4,0.6,0.4,0.2,0.5,0.3,0.4,0.7,0.5,0,0,0,0.2,0.3,0.2,0.3,0.4,0.3,0.2,0.3,0.2,0.5,0.5,0.5,0,0,0,0,0,0,0,0,0,0,0,0,0,0,0,0,0,0,0,0,0,0,0,0,1,1,1,2,1,1,179.6,29.6,"01:00:00",4183,0,0,0,0,0,0,0,0,0,0,0,0,0,0,0,0,0,0,0,0,30,48,1.4,1.3,0,0]
["2023-09-27T01:46:43",28,31,29,30,38,38,38,38,21,63.5,100,66.2,52.9,52.9,52.9,54.2,25.1,27.7,26.6,120,120,120,120,120,120,119.9,120,119.9,119.9,120,119.9,59,59,59,2.2999999999999998,4.7,1.9,4.5,0.1,0.1,0.1,0.5,0.6,0.5,0.2,0.2,0.2,0.5,0.5,0.5,-0.3,-0.2,-0.2,-0.1,0,0,-0.1,-0.1,-0.1,0,0,0,0.2,0.5,0.3,0.3,0.7,0.4,0.2,0.5,0.3,0.4,0.7,0.4,0,0,0,0.2,0.3,0.2,0.3,0.4,0.3,0.2,0.3,0.2,0.5,0.5,0.5,0,0,0,0,0,0,0,0,0,0,0,0,0,0,0,0,0,0,0,0,0,0,0,0,1,1,1,2,1,1,179.6,29.6,"01:00:00",4183,0,0,0,0,0,0,0,0,0,0,0,0,0,0,0,0,0,0,0,0,30,48,1.4,1.3,0,0]
["2023-09-27T01:47:45",28,31,29,30,38,38,38,38,21,63.4,100,66.2,52.9,52.9,52.9,54.2,23.9,25.9,24.7,120,120,120,120,120,120,119.9,120,119.9,119.9,120,119.9,59,59,59,2.2999999999999998,4.0999999999999996,2.1,3.9,0.1,0.1,0.1,0.5,0.5,0.5,0.2,0.2,0.2,0.4,0.5,0.4,-0.2,-0.2,-0.2,-0.1,0,0,-0.1,-0.1,-0.1,0,0,0,0.2,0.5,0.3,0.3,0.6,0.4,0.2,0.4,0.2,0.3,0.7,0.5,0,0,0,0.2,0.3,0.2,0.3,0.4,0.3,0.2,0.3,0.2,0.5,0.5,0.5,0,0,0,0,0,0,0,0,0,0,0,0,0,0,0,0,0,0,0,0,0,0,0,0,1,1,1,2,1,1,179.6,29.6,"01:00:00",4184,0,0,0,0,0,0,0,0,0,0,0,0,0,0,0,0,0,0,0,0,30,48,1.3,1.2,0,0]
["2023-09-27T01:48:45",28,31,29,30,38,38,38,38,21,63.4,100,66.2,52.9,53,52.9,54.2,23.2,24.4,23.7,120,120,120,120,120,120,119.9,120,119.9,120,120,120,59,59,59,2.2999999999999998,4,2.1,3.7,0.1,0.1,0.1,0.4,0.5,0.4,0.1,0.2,0.1,0.4,0.4,0.4,-0.3,-0.2,-0.2,-0.1,0,0,-0.1,-0.1,-0.1,0,0,0,0.2,0.5,0.3,0.4,0.5,0.4,0.2,0.4,0.2,0.4,0.8,0.6,0,0,0,0.2,0.3,0.2,0.3,0.4,0.3,0.2,0.3,0.3,0.5,0.5,0.5,0,0,0,0,0,0,0,0,0,0,0,0,0,0,0,0,0,0,0,0,0,0,0,0,1,1,1,2,1,1,179.6,29.6,"01:00:00",4184,0,0,0,0,0,0,0,0,0,0,0,0,0,0,0,0,0,0,0,0,30,48,1.2,1.1000000000000001,0,0]
["2023-09-27T01:49:46",28,31,29,30,38,38,38,38,21,63.3,100,66.2,52.9,53,52.9,54.2,23.1,25,24,120,120,120,120,120,120,119.9,120,119.9,120,120,120,59,59,59,2.2000000000000002,4.2,1.9,4,0.1,0.1,0.1,0.5,0.5,0.5,0.1,0.2,0.1,0.4,0.5,0.4,-0.2,-0.2,-0.2,-0.1,0,0,-0.1,-0.1,-0.1,0,0,0,0.2,0.6,0.3,0.3,0.6,0.4,0.2,0.4,0.2,0.4,0.7,0.6,0,0,0,0.2,0.3,0.2,0.3,0.4,0.3,0.2,0.3,0.2,0.5,0.5,0.5,0,0,0,0,0,0,0,0,0,0,0,0,0,0,0,0,0,0,0,0,0,0,0,0,1,1,1,2,1,1,179.6,29.6,"01:00:00",4185,0,0,0,0,0,0,0,0,0,0,0,0,0,0,0,0,0,0,0,0,30,48,1.3,1.1000000000000001,0,0]
["2023-09-27T01:50:46",28,31,29,30,38,38,38,38,21,63.2,100,66.2,52.9,52.9,52.9,54.2,24.5,26,25.3,120,120,120,120,120,120,119.9,120,119.9,120,120,120,59,59,59,2.2999999999999998,4.4000000000000004,1.9,4.0999999999999996,0.1,0.1,0.1,0.5,0.5,0.5,0.2,0.2,0.2,0.5,0.5,0.5,-0.3,-0.2,-0.2,-0.1,0,0,-0.1,-0.1,-0.1,0,0,0,0.2,0.5,0.3,0.4,0.6,0.4,0.2,0.5,0.2,0.4,0.7,0.6,0,0,0,0.2,0.3,0.3,0.3,0.4,0.3,0.2,0.3,0.2,0.5,0.5,0.5,0,0,0,0,0,0,0,0,0,0,0,0,0,0,0,0,0,0,0,0,0,0,0,0,1,1,1,2,1,1,179.6,29.6,"01:00:00",4185,0,0,0,0,0,0,0,0,0,0,0,0,0,0,0,0,0,0,0,0,30,48,1.3,1.2,0,0]
["2023-09-27T01:51:47",28,31,29,30,38,38,38,38,21,63.2,100,66.2,52.9,52.9,52.9,54.2,25.7,27.4,26.5,120,120,120,120,120,120,119.9,120,119.9,120,120,120,59,59,59,2.2999999999999998,4.5,2.1,4.2,0.1,0.1,0.1,0.5,0.5,0.5,0.2,0.2,0.2,0.5,0.5,0.5,-0.2,-0.2,-0.2,-0.1,0,0,-0.1,-0.1,-0.1,0,0,0,0.2,0.4,0.3,0.3,0.5,0.4,0.2,0.5,0.3,0.5,0.7,0.6,0,0,0,0.2,0.3,0.3,0.3,0.4,0.3,0.2,0.3,0.2,0.5,0.5,0.5,0,0,0,0,0,0,0,0,0,0,0,0,0,0,0,0,0,0,0,0,0,0,0,0,1,1,1,2,1,1,179.6,29.6,"01:00:00",4186,0,0,0,0,0,0,0,0,0,0,0,0,0,0,0,0,0,0,0,0,30,48,1.4,1.3,0,0]
["2023-09-27T01:52:48",28,31,29,30,38,38,38,38,21,63.1,100,66.2,52.9,52.9,52.9,54.2,26.3,28.5,27.4,120,120,120,120,120,120,119.9,120,119.9,120,120,120,59,59,59,2.2999999999999998,4.7,2.1,4.5,0.1,0.1,0.1,0.5,0.6,0.5,0.2,0.2,0.2,0.5,0.5,0.5,-0.3,-0.2,-0.2,-0.1,0,0,-0.1,-0.1,-0.1,0,0,0,0.2,0.4,0.3,0.4,0.6,0.4,0.2,0.5,0.3,0.5,0.8,0.6,0,0,0,0.3,0.3,0.3,0.3,0.4,0.3,0.2,0.3,0.2,0.5,0.5,0.5,0,0,0,0,0,0,0,0,0,0,0,0,0,0,0,0,0,0,0,0,0,0,0,0,1,1,1,2,1,1,179.6,29.6,"01:00:00",4186,0,0,0,0,0,0,0,0,0,0,0,0,0,0,0,0,0,0,0,0,30,48,1.4,1.3,0,0]
["2023-09-27T01:53:48",28,31,29,30,38,38,38,38,21,63,100,66.2,52.9,52.9,52.9,54.2,26,27.4,26.6,120,120,120,120,120,120,119.9,120,119.9,120,120,120,59,59,59,2.2999999999999998,4.7,1.9,4.5,0.1,0.1,0.1,0.5,0.6,0.5,0.2,0.2,0.2,0.5,0.5,0.5,-0.3,-0.2,-0.2,-0.1,0,0,-0.1,-0.1,-0.1,0,0,0,0.2,0.4,0.3,0.4,0.6,0.4,0.2,0.5,0.3,0.4,0.7,0.6,0,0,0,0.3,0.3,0.3,0.3,0.4,0.3,0.2,0.3,0.2,0.5,0.5,0.5,0,0,0,0,0,0,0,0,0,0,0,0,0,0,0,0,0,0,0,0,0,0,0,0,1,1,1,2,1,1,179.6,29.6,"01:00:00",4186,0,0,0,0,0,0,0,0,0,0,0,0,0,0,0,0,0,0,0,0,30,48,1.4,1.3,0,0]
["2023-09-27T01:54:49",28,31,29,30,38,38,38,38,21,63,100,66.2,52.9,52.9,52.9,54.2,23,27.5,26.3,120,120,120,120,120,120,119.9,120,119.9,119.9,120,119.9,59,59,59,2.2999999999999998,4.8,1.9,4.5,0.1,0.1,0.1,0.4,0.6,0.5,0.2,0.2,0.2,0.4,0.5,0.4,-0.3,-0.2,-0.2,-0.1,0,0,-0.1,-0.1,-0.1,0,0,0,0.2,0.4,0.3,0.4,0.6,0.4,0.2,0.5,0.3,0.4,0.7,0.6,0,0,0,0.3,0.3,0.3,0.3,0.4,0.3,0.2,0.3,0.2,0.5,0.5,0.5,0,0,0,0,0,0,0,0,0,0,0,0,0,0,0,0,0,0,0,0,0,0,0,0,1,1,1,2,1,1,179.6,29.6,"01:00:00",4187,0,0,0,0,0,0,0,0,0,0,0,0,0,0,0,0,0,0,0,0,30,48,1.4,1.3,0,0]
["2023-09-27T01:55:50",28,31,29,30,38,38,38,38,21,62.9,100,66.2,52.9,52.9,52.9,54.2,22.2,23.7,22.9,120,120,120,120,120,120,119.9,120,119.9,120,120,120,59,59,59,2.2999999999999998,3.8,2,3.5,0.1,0.1,0.1,0.4,0.4,0.4,0.2,0.2,0.2,0.4,0.4,0.4,-0.2,-0.2,-0.2,-0.1,0,0,-0.2,-0.1,-0.1,0,0,0,0.2,0.5,0.3,0.4,0.6,0.4,0.2,0.4,0.3,0.4,0.7,0.5,0,0,0,0.2,0.3,0.3,0.3,0.4,0.3,0.2,0.3,0.2,0.5,0.5,0.5,0,0,0,0,0,0,0,0,0,0,0,0,0,0,0,0,0,0,0,0,0,0,0,0,1,1,1,2,1,1,179.6,29.6,"01:00:00",4187,0,0,0,0,0,0,0,0,0,0,0,0,0,0,0,0,0,0,0,0,30,48,1.2,1.1000000000000001,0,0]
["2023-09-27T01:56:50",28,31,29,30,38,38,38,38,21,62.9,100,66.2,52.9,52.9,52.9,54.2,22.4,28.1,26.1,119.9,120,120,120,120,120,119.9,120,119.9,119.9,120,119.9,59,59,59,2.2000000000000002,4.0999999999999996,2.9,3.9,0.1,0.3,0.1,0.4,0.5,0.4,0.2,0.3,0.2,0.4,0.5,0.4,-0.2,0,-0.1,-0.1,0,0,-0.1,0,0,0,0,0,0.2,0.5,0.3,0.3,0.5,0.4,0.2,0.4,0.2,0.4,0.7,0.6,0,0,0,0.2,0.3,0.3,0.3,0.4,0.3,0.2,0.3,0.2,0.5,0.5,0.5,0,0,0,0,0,0,0,0,0,0,0,0,0,0,0,0,0,0,0,0,0,0,0,0,1,1,1,2,1,1,179.6,29.6,"01:00:00",4188,0,0,0,0,0,0,0,0,0,0,0,0,0,0,0,0,0,0,0,0,30,48,1.4,1.2,0,0]
["2023-09-27T01:57:52",28,31,29,30,38,38,38,38,21,62.8,100,66.2,52.9,52.9,52.9,54.2,27.3,29,28.2,120,120,120,120,120,120,119.9,120,119.9,119.9,120,119.9,59,59,59,1.8,4.3,2.2000000000000002,4.0999999999999996,0.2,0.2,0.2,0.5,0.5,0.5,0.3,0.3,0.3,0.4,0.5,0.4,-0.1,-0.1,-0.1,-0.1,0,0,0,0,0,0,0,0,0.1,0.4,0.2,0.3,0.6,0.4,0.2,0.5,0.2,0.4,0.7,0.6,0,0,0,0.3,0.3,0.3,0.3,0.3,0.3,0.2,0.3,0.2,0.5,0.5,0.5,0,0,0,0,0,0,0,0,0,0,0,0,0,0,0,0,0,0,0,0,0,0,0,0,1,1,1,2,1,1,179.6,29.6,"01:00:00",4188,0,0,0,0,0,0,0,0,0,0,0,0,0,0,0,0,0,0,0,0,30,48,1.5,1.4,0,0]
["2023-09-27T01:58:53",28,31,29,30,38,38,38,38,21,62.7,100,66.2,52.8,52.9,52.9,54.2,28.8,30.8,29.8,120,120,120,120,120,120,119.9,120,119.9,119.9,120,119.9,59,59,59,1.9,4.7,2.2999999999999998,4.5,0.2,0.2,0.2,0.5,0.6,0.5,0.3,0.3,0.3,0.5,0.5,0.5,-0.1,-0.1,-0.1,-0.1,0,0,0,0,0,0,0,0,0.2,0.4,0.2,0.3,0.6,0.4,0.2,0.5,0.2,0.5,0.7,0.6,0,0,0,0.3,0.3,0.3,0.3,0.4,0.3,0.2,0.3,0.2,0.5,0.5,0.5,0,0,0,0,0,0,0,0,0,0,0,0,0,0,0,0,0,0,0,0,0,0,0,0,1,1,1,2,1,1,179.6,29.6,"01:00:00",4189,0,0,0,0,0,0,0,0,0,0,0,0,0,0,0,0,0,0,0,0,30,48,1.5,1.4,0,0]
["2023-09-27T01:59:53",28,31,29,30,38,38,38,38,21,62.6,100,66.2,52.8,52.9,52.8,54.2,27.8,30.8,29.3,120,120,120,120,120,120,119.9,120,119.9,120,120,120,59,59,59,1.8,4.5999999999999996,2.4,4.4000000000000004,0.2,0.2,0.2,0.5,0.6,0.5,0.3,0.3,0.3,0.5,0.5,0.5,-0.1,-0.1,-0.1,-0.1,0,0,0,0,0,0,0,0,0.2,0.4,0.3,0.3,0.6,0.4,0.2,0.5,0.2,0.5,0.8,0.6,0,0,0,0.3,0.3,0.3,0.3,0.4,0.3,0.2,0.3,0.2,0.5,0.5,0.5,0,0,0,0,0,0,0,0,0,0,0,0,0,0,0,0,0,0,0,0,0,0,0,0,1,1,1,2,1,1,179.6,29.6,"01:00:00",4189,0,0,0,0,0,0,0,0,0,0,0,0,0,0,0,0,0,0,0,0,30,48,1.5,1.4,0,0]
["2023-09-27T02:00:54",28,31,29,30,38,38,38,38,21,62.5,100,66.2,52.8,52.9,52.8,54.2,27.4,29.4,28.3,120,120,120,120,120,120,119.9,120,119.9,119.9,120,119.9,59,59,59,1.8,4.4000000000000004,2.2999999999999998,4.2,0.2,0.2,0.2,0.5,0.5,0.5,0.2,0.3,0.2,0.5,0.5,0.5,-0.1,-0.1,-0.1,-0.1,0,0,0,0,0,0,0,0,0.2,0.4,0.3,0.3,0.6,0.4,0.2,0.4,0.2,0.4,0.7,0.6,0,0,0,0.3,0.3,0.3,0.3,0.4,0.3,0.2,0.3,0.3,0.5,0.5,0.5,0,0,0,0,0,0,0,0,0,0,0,0,0,0,0,0,0,0,0,0,0,0,0,0,1,1,1,2,1,1,179.6,29.6,"01:00:00",4190,0,0,0,0,0,0,0,0,0,0,0,0,0,0,0,0,0,0,0,0,30,48,1.5,1.4,0,0]
["2023-09-27T02:01:55",28,31,29,30,38,38,38,38,21,62.5,100,66.2,52.8,52.9,52.8,54.2,27.6,30,28.4,120,120,120,120,120,120,119.9,120,119.9,120,120,120,59,59,59,1.9,4.5999999999999996,2.2999999999999998,4.3,0.2,0.2,0.2,0.5,0.5,0.5,0.3,0.3,0.3,0.4,0.5,0.4,-0.1,-0.1,-0.1,-0.1,0,0,0,0,0,0,0,0,0.2,0.4,0.3,0.3,0.6,0.4,0.1,0.4,0.2,0.5,0.7,0.6,0,0,0,0.3,0.3,0.3,0.3,0.3,0.3,0.2,0.3,0.2,0.5,0.5,0.5,0,0,0,0,0,0,0,0,0,0,0,0,0,0,0,0,0,0,0,0,0,0,0,0,1,1,1,2,1,1,179.6,29.6,"01:00:00",4190,0,0,0,0,0,0,0,0,0,0,0,0,0,0,0,0,0,0,0,0,30,48,1.5,1.4,0,0]
["2023-09-27T02:02:55",28,30,29,30,38,38,38,38,20.9,62.4,100,66.2,52.8,52.9,52.8,54.2,26.7,28,27.1,120,120,120,120,120,120,119.9,120,119.9,120,120,120,59,59,59,1.9,4,2.2999999999999998,3.8,0.2,0.2,0.2,0.5,0.5,0.5,0.2,0.3,0.2,0.4,0.5,0.4,-0.1,-0.1,-0.1,-0.1,0,0,0,0,0,0,0,0,0.2,0.4,0.3,0.3,0.5,0.4,0.2,0.5,0.3,0.5,0.7,0.6,0,0,0,0.3,0.3,0.3,0.3,0.4,0.3,0.2,0.3,0.2,0.5,0.5,0.5,0,0,0,0,0,0,0,0,0,0,0,0,0,0,0,0,0,0,0,0,0,0,0,0,1,1,1,2,1,1,179.6,29.6,"01:00:00",4191,0,0,0,0,0,0,0,0,0,0,0,0,0,0,0,0,0,0,0,0,30,48,1.4,1.3,0,0]
["2023-09-27T02:03:56",28,30,29,30,38,38,38,38,20.9,62.3,100,66.2,52.8,52.9,52.8,54.2,25.2,26.9,26,120,120,120,120,120,120,119.9,120,119.9,119.9,120,119.9,59,59,59,1.9,4,2.2999999999999998,3.8,0.2,0.2,0.2,0.4,0.5,0.4,0.2,0.3,0.2,0.4,0.4,0.4,-0.1,-0.1,-0.1,-0.1,-0.1,-0.1,0,0,0,0,0,0,0.2,0.4,0.3,0.3,0.5,0.4,0.2,0.5,0.3,0.5,0.8,0.6,0,0,0,0.2,0.3,0.3,0.3,0.3,0.3,0.2,0.3,0.2,0.5,0.5,0.5,0,0,0,0,0,0,0,0,0,0,0,0,0,0,0,0,0,0,0,0,0,0,0,0,1,1,1,2,1,1,179.6,29.6,"01:00:00",4191,0,0,0,0,0,0,0,0,0,0,0,0,0,0,0,0,0,0,0,0,30,48,1.3,1.3,0,0]
["2023-09-27T02:04:56",28,30,29,30,38,38,38,38,20.9,62.3,100,66.2,52.8,52.9,52.9,54.2,23.7,25.4,24.6,120,120,120,120,120,120,119.9,120,119.9,119.9,120,119.9,59,59,59,1.7,3.7,2.2000000000000002,3.5,0.2,0.2,0.2,0.4,0.4,0.4,0.2,0.3,0.2,0.4,0.4,0.4,-0.1,-0.1,-0.1,-0.1,0,0,0,0,0,0,0,0,0.2,0.5,0.3,0.3,0.5,0.4,0.2,0.5,0.3,0.5,0.7,0.6,0,0,0,0.2,0.3,0.3,0.3,0.3,0.3,0.2,0.3,0.2,0.5,0.5,0.5,0,0,0,0,0,0,0,0,0,0,0,0,0,0,0,0,0,0,0,0,0,0,0,0,1,1,1,2,1,1,179.6,29.6,"01:00:00",4191,0,0,0,0,0,0,0,0,0,0,0,0,0,0,0,0,0,0,0,0,30,48,1.3,1.2,0,0]
["2023-09-27T02:05:57",28,30,29,30,38,38,38,38,20.9,62.2,100,66.2,52.8,52.9,52.8,54.2,24.2,35.9,26.5,120,120,120,119.8,120.1,120,119.9,120,119.9,119.8,120,119.9,59,59,59,1.9,9.5,2.2999999999999998,9.3000000000000007,0.2,0.2,0.2,0.4,1.1000000000000001,0.4,0.3,0.3,0.3,0.4,1,0.4,-0.1,-0.1,-0.1,-0.1,0.4,0,0,0,0,0,0.4,0,0.2,0.4,0.3,0.3,0.5,0.4,0.2,0.5,0.3,0.5,0.7,0.6,0,0,0,0.3,0.3,0.3,0.3,0.4,0.3,0.2,0.3,0.2,0.5,0.5,0.5,0,0,0,0,0,0,0,0,0,0,0,0,0,0,0,0,0,0,0,0,0,0,0,0,1,1,1,2,1,1,179.6,29.6,"01:00:00",4192,0,0,0,0,0,0,0,0,0,0,0,0,0,0,0,0,0,0,0,0,30,48,2.5,1.3,0,0]
["2023-09-27T02:06:58",28,31,29,30,38,38,38,38,20.9,62.1,100,66.2,52.5,52.9,52.8,54.2,26.2,62.2,38.1,120,120,120,119.9,120,120,119.9,120,119.9,119.7,120,119.9,59,59,59,2,12.4,2.5,18.2,0.2,0.2,0.2,0.4,2.2000000000000002,0.7,0.3,0.3,0.3,0.4,1.3,0.6,-0.1,-0.1,-0.1,-0.1,0.8,0.1,0,0,0,0,0.5,0.1,0.2,0.4,0.3,0.3,0.6,0.4,0.2,0.4,0.3,0.5,0.8,0.6,0,0,0,0.3,0.3,0.3,0.3,0.3,0.3,0.2,0.3,0.2,0.5,0.5,0.5,0,0,0,0,0,0,0,0,0,0,0,0,0,0,0,0,0,0,0,0,0,0,0,0,1,1,1,2,1,1,179.6,29.6,"01:00:00",4192,0,0,0,0,0,0,0,0,0,0,0,0,0,0,0,0,0,0,0,0,30,48,4,1.9,0,0]
["2023-09-27T02:07:59",28,31,29,30,38,38,38,38,20.9,62,100,66.2,52.6,52.8,52.7,54.2,29.7,61.9,44.3,120,120,120,120,120.2,120,119.9,120,119.9,119.9,120.1,119.9,59,59,59,2,11.9,2.4,11.4,0.2,0.2,0.2,0.6,1.4,0.9,0.2,0.3,0.2,0.5,1.3,0.8,-0.1,-0.1,-0.1,-0.1,0.4,0.1,0,0,0,0,0.5,0.2,0.2,0.4,0.3,0.3,0.7,0.4,0.2,0.4,0.2,0.5,0.8,0.6,0,0,0,0.3,0.3,0.3,0.3,0.3,0.3,0.2,0.3,0.2,0.5,0.5,0.5,0,0,0,0,0,0,0,0,0,0,0,0,0,0,0,0,0,0,0,0,0,0,0,0,1,1,1,2,1,1,179.6,29.6,"01:00:00",4193,0,0,0,0,0,0,0,0,0,0,0,0,0,0,0,0,0,0,0,0,30,48,3.1,2.1,0,0]
["2023-09-27T02:09:00",28,31,29,30,38,38,38,38,20.9,61.9,100,66.2,52.8,52.8,52.8,54.2,25,30.2,26.3,120,120.1,120,120,120,120,119.9,120,119.9,119.9,120,119.9,59,59,59,2.2000000000000002,4.8,2,4.5,0.1,0.2,0.1,0.5,0.6,0.5,0.1,0.2,0.1,0.5,0.5,0.5,-0.2,-0.1,-0.2,-0.1,0,0,-0.1,0,-0.1,0,0,0,0.2,0.4,0.3,0.3,0.5,0.4,0.2,0.5,0.2,0.4,0.8,0.6,0,0,0,0.3,0.3,0.3,0.3,0.4,0.3,0.2,0.3,0.2,0.5,0.5,0.5,0,0,0,0,0,0,0,0,0,0,0,0,0,0,0,0,0,0,0,0,0,0,0,0,1,1,1,2,1,1,179.6,29.6,"01:00:00",4194,0,0,0,0,0,0,0,0,0,0,0,0,0,0,0,0,0,0,0,0,30,48,1.5,1.2,0,0]
["2023-09-27T02:10:01",28,31,29,30,38,38,38,38,21,61.9,100,66.2,52.8,52.9,52.8,54.2,24.7,25.8,25.1,120,120,120,120,120,120,119.9,120,119.9,119.9,120,119.9,59,59,59,2.2999999999999998,4.5,2,4.2,0.1,0.1,0.1,0.5,0.5,0.5,0.1,0.2,0.1,0.5,0.5,0.5,-0.3,-0.2,-0.2,-0.1,-0.1,-0.1,-0.1,-0.1,-0.1,0,0,0,0.2,0.4,0.2,0.3,0.6,0.4,0.2,0.4,0.2,0.4,0.7,0.6,0,0,0,0.3,0.3,0.3,0.3,0.3,0.3,0.2,0.3,0.2,0.5,0.5,0.5,0,0,0,0,0,0,0,0,0,0,0,0,0,0,0,0,0,0,0,0,0,0,0,0,1,1,1,2,1,1,179.6,29.6,"01:00:00",4194,0,0,0,0,0,0,0,0,0,0,0,0,0,0,0,0,0,0,0,0,30,48,1.3,1.2,0,0]
["2023-09-27T02:11:02",28,31,29,30,38,38,38,38,21,61.8,100,66.2,52.8,52.9,52.8,54.2,25.5,27.3,26.6,120,120,120,120,120,120,119.9,120,119.9,119.9,120,119.9,59,59,59,2.4,4.4000000000000004,2.1,4.2,0.1,0.1,0.1,0.5,0.5,0.5,0.2,0.2,0.2,0.5,0.5,0.5,-0.2,-0.2,-0.2,-0.1,0,0,-0.2,-0.1,-0.1,0,0,0,0.2,0.4,0.2,0.3,0.5,0.4,0.2,0.3,0.2,0.4,0.8,0.6,0,0,0,0.3,0.3,0.3,0.3,0.3,0.3,0.2,0.3,0.3,0.5,0.5,0.5,0,0,0,0,0,0,0,0,0,0,0,0,0,0,0,0,0,0,0,0,0,0,0,0,1,1,1,2,1,1,179.6,29.6,"01:00:00",4194,0,0,0,0,0,0,0,0,0,0,0,0,0,0,0,0,0,0,0,0,30,48,1.4,1.3,0,0]
["2023-09-27T02:12:02",28,31,29,30,38,38,38,38,21,61.8,100,66.2,52.8,52.9,52.8,54.2,23.1,27.3,24.2,120,120,120,120,120,120,119.9,120,119.9,119.9,120,119.9,59,59,59,2.2999999999999998,4.4000000000000004,2.1,4.2,0.1,0.1,0.1,0.4,0.5,0.4,0.2,0.2,0.2,0.4,0.5,0.4,-0.2,-0.2,-0.2,-0.1,0,0,-0.2,-0.1,-0.1,0,0,0,0.2,0.4,0.2,0.2,0.6,0.4,0.2,0.5,0.2,0.6,0.9,0.6,0,0,0,0.3,0.3,0.3,0.3,0.3,0.3,0.2,0.3,0.2,0.5,0.5,0.5,0,0,0,0,0,0,0,0,0,0,0,0,0,0,0,0,0,0,0,0,0,0,0,0,1,1,1,2,1,1,179.6,29.6,"01:00:00",4195,0,0,0,0,0,0,0,0,0,0,0,0,0,0,0,0,0,0,0,0,30,48,1.4,1.1000000000000001,0,0]
["2023-09-27T02:13:03",28,31,29,30,38,38,38,38,21,61.7,100,66.2,52.8,52.9,52.8,54.2,23.5,23.9,23.6,120,120,120,120,120,120,119.9,120,119.9,119.9,120,119.9,59,59,59,2.2000000000000002,4,1.9,3.7,0.1,0.1,0.1,0.5,0.5,0.5,0.2,0.2,0.2,0.4,0.4,0.4,-0.2,-0.2,-0.2,-0.1,-0.1,-0.1,-0.2,-0.1,-0.1,0,0,0,0.2,0.5,0.3,0.2,0.5,0.3,0.1,0.4,0.2,0.6,0.7,0.6,0,0,0,0.2,0.3,0.3,0.3,0.3,0.3,0.2,0.3,0.3,0.5,0.5,0.5,0,0,0,0,0,0,0,0,0,0,0,0,0,0,0,0,0,0,0,0,0,0,0,0,1,1,1,2,1,1,179.6,29.6,"01:00:00",4195,0,0,0,0,0,0,0,0,0,0,0,0,0,0,0,0,0,0,0,0,30,48,1.2,1.2,0,0]
["2023-09-27T02:14:04",28,31,29,30,38,38,38,38,21,61.7,100,66.2,52.8,52.9,52.8,54.2,23.1,26.5,24.8,120,120,120,120,120,120,120,120,120,120,120,120,59,59,59,2.2999999999999998,4.3,2.1,4,0.1,0.1,0.1,0.4,0.5,0.4,0.2,0.2,0.2,0.4,0.5,0.4,-0.2,-0.2,-0.2,-0.1,0,0,-0.2,-0.1,-0.1,0,0,0,0.2,0.6,0.3,0.3,0.6,0.4,0.2,0.5,0.2,0.4,0.7,0.6,0,0,0,0.2,0.3,0.2,0.3,0.3,0.3,0.2,0.3,0.2,0.5,0.5,0.5,0,0,0,0,0,0,0,0,0,0,0,0,0,0,0,0,0,0,0,0,0,0,0,0,1,1,1,2,1,1,179.6,29.6,"01:00:00",4196,0,0,0,0,0,0,0,0,0,0,0,0,0,0,0,0,0,0,0,0,30,48,1.3,1.2,0,0]
["2023-09-27T02:15:04",28,30,29,30,38,38,38,38,21,61.6,100,66.2,52.8,52.8,52.8,54.2,26,27.6,26.9,120,120,120,120,120,120,119.9,120,119.9,119.9,120,119.9,59,59,59,2.2999999999999998,4.5999999999999996,2.2000000000000002,4.4000000000000004,0.1,0.1,0.1,0.5,0.5,0.5,0.2,0.2,0.2,0.5,0.5,0.5,-0.2,-0.2,-0.2,-0.1,0,0,-0.2,-0.1,-0.1,0,0,0,0.2,0.5,0.3,0.3,0.5,0.4,0.2,0.4,0.2,0.5,0.8,0.6,0,0,0,0.2,0.3,0.2,0.3,0.3,0.3,0.2,0.3,0.2,0.5,0.5,0.5,0,0,0,0,0,0,0,0,0,0,0,0,0,0,0,0,0,0,0,0,0,0,0,0,1,1,1,2,1,1,179.6,29.6,"01:00:00",4196,0,0,0,0,0,0,0,0,0,0,0,0,0,0,0,0,0,0,0,0,30,48,1.4,1.3,0,0]
["2023-09-27T02:16:05",28,30,29,30,38,38,38,38,21,61.5,100,66.2,52.8,52.8,52.8,54.2,24.6,26,25.1,120,120,120,120,120,120,119.9,120,119.9,119.9,120,119.9,59,59,59,2.2000000000000002,4.4000000000000004,1.9,4.2,0.1,0.1,0.1,0.5,0.5,0.5,0.2,0.2,0.2,0.5,0.5,0.5,-0.2,-0.2,-0.2,-0.1,0,0,-0.1,-0.1,-0.1,0,0,0,0.2,0.5,0.3,0.3,0.6,0.4,0.2,0.5,0.3,0.5,0.8,0.6,0,0,0,0.2,0.3,0.3,0.3,0.4,0.3,0.2,0.3,0.2,0.5,0.5,0.5,0,0,0,0,0,0,0,0,0,0,0,0,0,0,0,0,0,0,0,0,0,0,0,0,1,1,1,2,1,1,179.6,29.6,"01:00:00",4197,0,0,0,0,0,0,0,0,0,0,0,0,0,0,0,0,0,0,0,0,30,48,1.3,1.2,0,0]
["2023-09-27T02:17:07",28,31,29,30,38,38,38,38,21,61.5,100,66.2,52.8,52.8,52.8,54.2,23.5,25.9,24.3,120,120,120,120,120,120,119.9,120,119.9,119.9,120,119.9,59,59,59,2.2000000000000002,4.5,1.9,4.2,0.1,0.1,0.1,0.5,0.5,0.5,0.1,0.2,0.1,0.5,0.5,0.5,-0.2,-0.2,-0.2,-0.1,0,0,-0.1,-0.1,-0.1,0,0,0,0.3,0.5,0.3,0.3,0.5,0.4,0.2,0.5,0.3,0.6,0.7,0.6,0,0,0,0.2,0.3,0.3,0.3,0.4,0.3,0.2,0.3,0.2,0.5,0.5,0.5,0,0,0,0,0,0,0,0,0,0,0,0,0,0,0,0,0,0,0,0,0,0,0,0,1,1,1,2,1,1,179.6,29.6,"01:00:00",4197,0,0,0,0,0,0,0,0,0,0,0,0,0,0,0,0,0,0,0,0,30,48,1.3,1.2,0,0]
["2023-09-27T02:18:07",28,30,29,30,38,38,38,38,21,61.4,100,66.2,52.8,52.8,52.8,54.2,25.9,28.4,27.4,120,120,120,120,120,120,119.9,120,119.9,119.9,120,119.9,59,59,59,2.2999999999999998,4.5999999999999996,2.1,4.4000000000000004,0.1,0.1,0.1,0.5,0.6,0.5,0.2,0.2,0.2,0.5,0.5,0.5,-0.2,-0.2,-0.2,-0.1,0,0,-0.2,-0.1,-0.1,0,0,0,0.2,0.5,0.3,0.3,0.5,0.4,0.2,0.4,0.2,0.5,0.7,0.6,0,0,0,0.3,0.3,0.3,0.3,0.3,0.3,0.2,0.3,0.2,0.5,0.5,0.5,0,0,0,0,0,0,0,0,0,0,0,0,0,0,0,0,0,0,0,0,0,0,0,0,1,1,1,2,1,1,179.6,29.6,"01:00:00",4197,0,0,0,0,0,0,0,0,0,0,0,0,0,0,0,0,0,0,0,0,30,48,1.4,1.3,0,0]
["2023-09-27T02:19:08",28,31,29,30,38,38,38,38,21,61.4,100,66.2,52.8,52.8,52.8,54.2,23.3,27.6,26.6,120,120,120,120,120,120,119.9,120,119.9,119.9,120,119.9,59,59,59,2.2999999999999998,4.5999999999999996,2.1,4.3,0.1,0.1,0.1,0.5,0.5,0.5,0.2,0.2,0.2,0.4,0.5,0.5,-0.2,-0.2,-0.2,-0.1,0,0,-0.1,-0.1,-0.1,0,0,0,0.2,0.4,0.3,0.3,0.5,0.4,0.1,0.4,0.2,0.6,0.8,0.6,0,0,0,0.3,0.3,0.3,0.3,0.4,0.3,0.2,0.3,0.2,0.5,0.5,0.5,0,0,0,0,0,0,0,0,0,0,0,0,0,0,0,0,0,0,0,0,0,0,0,0,1,1,1,2,1,1,179.6,29.6,"01:00:00",4198,0,0,0,0,0,0,0,0,0,0,0,0,0,0,0,0,0,0,0,0,30,48,1.4,1.3,0,0]
["2023-09-27T02:20:08",28,30,29,30,38,38,38,38,21,61.3,100,66.2,52.8,52.8,52.8,54.2,22.4,23.5,23,120,120,120,120,120,120,119.9,120,119.9,120,120,120,59,59,59,2.2000000000000002,4,1.8,3.7,0.1,0.1,0.1,0.4,0.5,0.4,0.2,0.2,0.2,0.4,0.4,0.4,-0.3,-0.2,-0.2,-0.1,0,0,-0.1,-0.1,-0.1,0,0,0,0.2,0.4,0.2,0.3,0.5,0.4,0.1,0.4,0.2,0.5,0.8,0.6,0,0,0,0.3,0.3,0.3,0.3,0.3,0.3,0.2,0.3,0.2,0.5,0.5,0.5,0,0,0,0,0,0,0,0,0,0,0,0,0,0,0,0,0,0,0,0,0,0,0,0,1,1,1,2,1,1,179.6,29.6,"01:00:00",4198,0,0,0,0,0,0,0,0,0,0,0,0,0,0,0,0,0,0,0,0,30,48,1.2,1.1000000000000001,0,0]
["2023-09-27T02:21:09",28,30,29,30,38,38,38,38,21,61.2,100,66.2,52.8,52.8,52.8,54.2,23.3,24.7,24,120,120,120,120,120,120,119.9,120,119.9,120,120,120,59,59,59,2.2000000000000002,4,2,3.8,0.1,0.1,0.1,0.5,0.5,0.5,0.2,0.2,0.2,0.4,0.5,0.4,-0.3,-0.2,-0.2,-0.1,0,0,-0.2,-0.1,-0.1,0,0,0,0.2,0.4,0.2,0.3,0.5,0.4,0.2,0.6,0.2,0.5,1,0.6,0,0,0,0.3,0.3,0.3,0.3,0.3,0.3,0.2,0.3,0.2,0.5,0.6,0.5,0,0,0,0,0,0,0,0,0,0,0,0,0,0,0,0,0,0,0,0,0,0,0,0,1,1,1,2,1,1,179.6,29.6,"01:00:00",4199,0,0,0,0,0,0,0,0,0,0,0,0,0,0,0,0,0,0,0,0,30,48,1.2,1.2,0,0]
["2023-09-27T02:22:10",28,30,29,30,38,38,38,38,21,61.2,100,66.2,52.8,52.8,52.8,54.2,24.3,28.6,26.6,120,120,120,120,120,120,119.9,120,119.9,120,120,120,59,59,59,2.2999999999999998,4.7,2.2000000000000002,4.4000000000000004,0.1,0.1,0.1,0.5,0.6,0.5,0.2,0.2,0.2,0.4,0.5,0.4,-0.2,-0.2,-0.2,-0.1,0,0,-0.2,-0.1,-0.1,0,0,0,0.3,0.5,0.3,0.3,0.5,0.4,0.2,0.4,0.2,0.6,0.8,0.6,0,0,0,0.2,0.3,0.3,0.3,0.3,0.3,0.2,0.3,0.2,0.5,0.5,0.5,0,0,0,0,0,0,0,0,0,0,0,0,0,0,0,0,0,0,0,0,0,0,0,0,1,1,1,2,1,1,179.6,29.6,"01:00:00",4199,0,0,0,0,0,0,0,0,0,0,0,0,0,0,0,0,0,0,0,0,30,48,1.4,1.3,0,0]
["2023-09-27T02:23:11",28,30,29,30,38,38,38,38,21,61.1,100,66.2,52.8,52.8,52.8,54.2,24.6,27.5,25.7,120,120,120,120,120,120,119.9,120,119.9,119.9,120,119.9,59,59,59,2.2999999999999998,4.4000000000000004,2.2000000000000002,4.2,0.1,0.1,0.1,0.5,0.5,0.5,0.2,0.2,0.2,0.5,0.5,0.5,-0.2,-0.2,-0.2,-0.1,0,0,-0.2,-0.1,-0.1,0,0,0,0.2,0.5,0.3,0.3,0.5,0.4,0.2,0.5,0.2,0.5,0.7,0.6,0,0,0,0.2,0.3,0.2,0.3,0.3,0.3,0.2,0.3,0.2,0.5,0.5,0.5,0,0,0,0,0,0,0,0,0,0,0,0,0,0,0,0,0,0,0,0,0,0,0,0,1,1,1,2,1,1,179.6,29.6,"01:00:00",4199,0,0,0,0,0,0,0,0,0,0,0,0,0,0,0,0,0,0,0,0,30,48,1.4,1.2,0,0]
["2023-09-27T02:24:11",28,30,29,30,38,38,38,38,21,61,100,66.2,52.8,52.8,52.8,54.2,25.1,25.7,25.2,120,120,120,120,120,120,119.9,120,119.9,120,120,120,59,59,59,2.2000000000000002,4.4000000000000004,2,4.0999999999999996,0.1,0.1,0.1,0.5,0.5,0.5,0.2,0.2,0.2,0.5,0.5,0.5,-0.2,-0.2,-0.2,-0.1,0,0,-0.2,-0.1,-0.1,0,0,0,0.2,0.5,0.3,0.3,0.5,0.4,0.2,0.4,0.2,0.6,0.9,0.6,0,0,0,0.2,0.3,0.2,0.3,0.3,0.3,0.2,0.3,0.2,0.5,0.5,0.5,0,0,0,0,0,0,0,0,0,0,0,0,0,0,0,0,0,0,0,0,0,0,0,0,1,1,1,2,1,1,179.6,29.6,"01:00:00",4200,0,0,0,0,0,0,0,0,0,0,0,0,0,0,0,0,0,0,0,0,30,48,1.3,1.2,0,0]
["2023-09-27T02:25:12",28,30,29,30,38,38,38,38,21,61,100,66.2,52.8,52.8,52.8,54.2,23.9,26.1,24.9,120,120,120,120,120,120,119.9,120,119.9,120,120,120,59,59,59,2.2000000000000002,4.4000000000000004,1.9,4.2,0.1,0.1,0.1,0.5,0.5,0.5,0.1,0.2,0.1,0.5,0.5,0.5,-0.2,-0.2,-0.2,-0.1,0,0,-0.1,-0.1,-0.1,0,0,0,0.2,0.5,0.3,0.3,0.5,0.4,0.1,0.4,0.2,0.6,0.9,0.6,0,0,0,0.2,0.3,0.3,0.3,0.3,0.3,0.2,0.3,0.3,0.5,0.5,0.5,0,0,0,0,0,0,0,0,0,0,0,0,0,0,0,0,0,0,0,0,0,0,0,0,1,1,1,2,1,1,179.6,29.6,"01:00:00",4200,0,0,0,0,0,0,0,0,0,0,0,0,0,0,0,0,0,0,0,0,30,48,1.3,1.2,0,0]
["2023-09-27T02:26:13",28,31,29,30,38,38,38,38,21,60.9,100,66.2,52.6,52.8,52.7,54.2,25.9,60,38,120,120,120,119.7,120,120,119.9,120,119.9,119.8,120,119.9,59,59,59,2.4,19.899999999999999,2.1,13.8,0.1,0.1,0.1,0.5,1.4,0.8,0.2,0.2,0.2,0.5,1.3,0.7,-0.3,-0.2,-0.2,-0.1,0.5,0.1,-0.1,-0.1,-0.1,0,0.5,0.1,0.2,0.5,0.3,0.3,0.5,0.4,0.1,0.4,0.2,0.6,0.9,0.6,0,0,0,0.2,0.3,0.3,0.3,0.3,0.3,0.3,0.3,0.3,0.5,0.5,0.5,0,0,0,0,0,0,0,0,0,0,0,0,0,0,0,0,0,0,0,0,0,0,0,0,1,1,1,2,1,1,179.6,29.6,"01:00:00",4201,0,0,0,0,0,0,0,0,0,0,0,0,0,0,0,0,0,0,0,0,30,48,3.1,1.9,0,0]
["2023-09-27T02:27:14",28,31,29,31,38,38,38,38,21,60.8,100,66.2,52.6,52.7,52.6,54.2,24.3,59.3,38.6,120,120,120,120,120.1,120,119.9,120,119.9,120,120.1,120,59,59,59,2.4,11.9,2.1,11.3,0.1,0.1,0.1,0.5,1.4,0.8,0.2,0.2,0.2,0.5,1.3,0.7,-0.3,-0.2,-0.2,-0.1,0.5,0.1,-0.1,-0.1,-0.1,0,0.5,0.1,0.2,0.5,0.3,0.3,0.5,0.4,0.1,0.4,0.2,0.6,0.9,0.6,0,0,0,0.2,0.3,0.3,0.3,0.3,0.3,0.2,0.3,0.3,0.5,0.6,0.5,0,0,0,0,0,0,0,0,0,0,0,0,0,0,0,0,0,0,0,0,0,0,0,0,1,1,1,2,1,1,179.6,29.6,"01:00:00",4202,0,0,0,0,0,0,0,0,0,0,0,0,0,0,0,0,0,0,0,0,30,48,3,1.8,0,0]
["2023-09-27T02:28:15",28,31,29,30,38,38,38,38,21,60.7,100,66.2,52.7,52.8,52.7,54.2,24.4,25.1,24.8,120,120,120,120,120,120,119.9,120,119.9,120,120,120,59,59,59,2.2000000000000002,4.2,1.9,4,0.1,0.1,0.1,0.5,0.5,0.5,0.2,0.2,0.2,0.5,0.5,0.5,-0.2,-0.2,-0.2,-0.1,0,0,-0.2,-0.1,-0.1,0,0,0,0.2,0.5,0.3,0.4,0.6,0.4,0.1,0.4,0.2,0.5,0.8,0.6,0,0,0,0.2,0.3,0.2,0.3,0.4,0.3,0.2,0.3,0.3,0.5,0.5,0.5,0,0,0,0,0,0,0,0,0,0,0,0,0,0,0,0,0,0,0,0,0,0,0,0,1,1,1,2,1,1,179.6,29.6,"01:00:00",4202,0,0,0,0,0,0,0,0,0,0,0,0,0,0,0,0,0,0,0,0,30,48,1.2,1.2,0,0]
["2023-09-27T02:29:16",28,31,29,30,38,38,38,38,21,60.7,100,66.2,52.7,52.8,52.7,54.2,23.1,25.2,24.4,120,120,120,120,120,120,119.9,120,119.9,120,120,120,59,59,59,2.2999999999999998,4.0999999999999996,2.1,3.9,0.1,0.1,0.1,0.4,0.5,0.4,0.2,0.2,0.2,0.4,0.5,0.4,-0.2,-0.2,-0.2,-0.1,0,0,-0.1,-0.1,-0.1,0,0,0,0.2,0.5,0.3,0.3,0.5,0.4,0.2,0.4,0.2,0.5,0.8,0.6,0,0,0,0.2,0.3,0.2,0.3,0.3,0.3,0.2,0.3,0.3,0.5,0.5,0.5,0,0,0,0,0,0,0,0,0,0,0,0,0,0,0,0,0,0,0,0,0,0,0,0,1,1,1,2,1,1,179.6,29.6,"01:00:00",4202,0,0,0,0,0,0,0,0,0,0,0,0,0,0,0,0,0,0,0,0,30,48,1.3,1.2,0,0]
["2023-09-27T02:30:17",28,30,29,30,38,38,38,38,21,60.6,100,66.2,52.7,52.8,52.7,54.2,22.1,24.3,23.5,120,120,120,120,120,120,119.9,120,119.9,119.9,120,119.9,59,59,59,2.2999999999999998,3.9,2.1,3.7,0.1,0.1,0.1,0.4,0.5,0.4,0.2,0.2,0.2,0.4,0.4,0.4,-0.2,-0.2,-0.2,-0.1,0,-0.1,-0.1,-0.1,-0.1,0,0,0,0.2,0.5,0.3,0.4,0.5,0.4,0.2,0.4,0.2,0.5,0.8,0.6,0,0,0,0.2,0.3,0.3,0.3,0.4,0.3,0.2,0.3,0.2,0.5,0.5,0.5,0,0,0,0,0,0,0,0,0,0,0,0,0,0,0,0,0,0,0,0,0,0,0,0,1,1,1,2,1,1,179.6,29.6,"01:00:00",4203,0,0,0,0,0,0,0,0,0,0,0,0,0,0,0,0,0,0,0,0,30,48,1.2,1.1000000000000001,0,0]
["2023-09-27T02:31:18",28,31,29,30,38,38,38,38,21,60.6,100,66.2,52.7,52.8,52.7,54.2,23.6,26.5,24.9,120,120,120,120,120,120,119.9,120,119.9,120,120,120,59,59,59,2.2000000000000002,4.5,1.9,4.3,0.1,0.1,0.1,0.5,0.5,0.5,0.2,0.2,0.2,0.4,0.5,0.4,-0.2,-0.2,-0.2,-0.1,0,0,-0.1,-0.1,-0.1,0,0,0,0.3,0.5,0.3,0.3,0.6,0.4,0.2,0.4,0.2,0.5,0.8,0.6,0,0,0,0.2,0.3,0.2,0.3,0.4,0.3,0.2,0.3,0.3,0.5,0.5,0.5,0,0,0,0,0,0,0,0,0,0,0,0,0,0,0,0,0,0,0,0,0,0,0,0,1,1,1,2,1,1,179.6,29.6,"01:00:00",4203,0,0,0,0,0,0,0,0,0,0,0,0,0,0,0,0,0,0,0,0,30,48,1.3,1.2,0,0]
["2023-09-27T02:32:18",28,31,29,30,38,38,38,38,21,60.5,100,66.2,52.7,52.8,52.7,54.2,25.8,27.1,26.4,120,120,120,120,120,120,119.9,120,119.9,119.9,120,119.9,59,59,59,2.2000000000000002,4.5999999999999996,1.9,4.4000000000000004,0.1,0.1,0.1,0.5,0.6,0.5,0.1,0.2,0.2,0.5,0.5,0.5,-0.3,-0.2,-0.2,-0.1,0,0,-0.1,-0.1,-0.1,0,0,0,0.2,0.5,0.3,0.4,0.6,0.4,0.2,0.4,0.2,0.6,0.8,0.6,0,0,0,0.2,0.3,0.3,0.3,0.4,0.3,0.2,0.3,0.3,0.5,0.5,0.5,0,0,0,0,0,0,0,0,0,0,0,0,0,0,0,0,0,0,0,0,0,0,0,0,1,1,1,2,1,1,179.6,29.6,"01:00:00",4204,0,0,0,0,0,0,0,0,0,0,0,0,0,0,0,0,0,0,0,0,30,48,1.4,1.3,0,0]
["2023-09-27T02:33:18",28,31,29,30,38,38,38,38,21,60.4,100,66.2,52.7,52.8,52.7,54.2,26.6,28,27.4,120,120,120,120,120,120,119.9,120,119.9,119.9,120,119.9,59,59,59,2.2999999999999998,4.8,1.9,4.5,0.1,0.1,0.1,0.5,0.6,0.5,0.2,0.2,0.2,0.5,0.5,0.5,-0.3,-0.2,-0.2,-0.1,-0.1,-0.1,-0.1,-0.1,-0.1,0,0,0,0.2,0.5,0.3,0.3,0.6,0.4,0.2,0.5,0.2,0.5,0.7,0.6,0,0,0,0.2,0.3,0.3,0.3,0.4,0.3,0.2,0.3,0.2,0.5,0.5,0.5,0,0,0,0,0,0,0,0,0,0,0,0,0,0,0,0,0,0,0,0,0,0,0,0,1,1,1,2,1,1,179.6,29.6,"01:00:00",4204,0,0,0,0,0,0,0,0,0,0,0,0,0,0,0,0,0,0,0,0,30,48,1.4,1.3,0,0]
["2023-09-27T02:34:19",28,31,29,30,38,38,38,38,21,60.4,100,66.2,52.7,52.7,52.7,54.2,25.8,28.8,27.6,120,120,120,120,120,120,119.9,120,119.9,119.9,120,119.9,59,59,59,2.2999999999999998,4.8,2.1,4.5,0.1,0.1,0.1,0.5,0.6,0.5,0.2,0.2,0.2,0.5,0.5,0.5,-0.2,-0.2,-0.2,-0.1,0,0,-0.1,-0.1,-0.1,0,0,0,0.2,0.5,0.3,0.3,0.6,0.4,0.2,0.4,0.2,0.6,0.8,0.6,0,0,0,0.2,0.3,0.3,0.3,0.4,0.3,0.2,0.3,0.2,0.5,0.5,0.5,0,0,0,0,0,0,0,0,0,0,0,0,0,0,0,0,0,0,0,0,0,0,0,0,1,1,1,2,1,1,179.6,29.6,"01:00:00",4205,0,0,0,0,0,0,0,0,0,0,0,0,0,0,0,0,0,0,0,0,30,48,1.4,1.3,0,0]
["2023-09-27T02:35:20",28,30,29,30,38,38,38,38,21,60.3,100,66.2,52.7,52.8,52.7,54.2,22.6,25.9,24.1,120,120,120,120,120,120,119.9,120,119.9,120,120,120,59,59,59,2.2000000000000002,4.4000000000000004,1.9,4.0999999999999996,0.1,0.1,0.1,0.4,0.5,0.4,0.2,0.2,0.2,0.4,0.5,0.4,-0.2,-0.2,-0.2,-0.1,0,0,-0.2,-0.1,-0.1,0,0,0,0.2,0.4,0.3,0.4,0.6,0.4,0.1,0.3,0.2,0.5,0.8,0.6,0,0,0,0.2,0.3,0.3,0.3,0.4,0.3,0.3,0.3,0.3,0.5,0.5,0.5,0,0,0,0,0,0,0,0,0,0,0,0,0,0,0,0,0,0,0,0,0,0,0,0,1,1,1,2,1,1,179.6,29.6,"01:00:00",4205,0,0,0,0,0,0,0,0,0,0,0,0,0,0,0,0,0,0,0,0,30,48,1.3,1.1000000000000001,0,0]
["2023-09-27T02:36:20",28,30,29,30,38,38,38,38,21,60.2,100,66.2,52.7,52.8,52.7,54.2,22.6,25.9,24.2,120,120,120,120,120,120,119.9,120,119.9,120,120,120,59,59,59,2.2999999999999998,4.2,2,3.9,0.1,0.1,0.1,0.4,0.5,0.4,0.2,0.2,0.2,0.4,0.5,0.4,-0.2,-0.2,-0.2,-0.1,0,0,-0.1,-0.1,-0.1,0,0,0,0.2,0.4,0.3,0.3,0.5,0.4,0.1,0.3,0.2,0.6,0.8,0.6,0,0,0,0.2,0.3,0.3,0.3,0.4,0.3,0.3,0.3,0.3,0.5,0.5,0.5,0,0,0,0,0,0,0,0,0,0,0,0,0,0,0,0,0,0,0,0,0,0,0,0,1,1,1,2,1,1,179.6,29.6,"01:00:00",4205,0,0,0,0,0,0,0,0,0,0,0,0,0,0,0,0,0,0,0,0,30,48,1.3,1.1000000000000001,0,0]
["2023-09-27T02:37:23",28,30,28,30,38,38,38,38,21,60.1,100,66.2,52.7,52.7,52.7,54.2,25.7,27.2,26.4,120,120,120,120,120,120,119.9,120,119.9,120,120,120,59,59,59,2.2999999999999998,4.4000000000000004,2.1,4.2,0.1,0.1,0.1,0.5,0.5,0.5,0.2,0.2,0.2,0.5,0.5,0.5,-0.2,-0.2,-0.2,-0.1,0,0,-0.1,-0.1,-0.1,0,0,0,0.2,0.5,0.3,0.3,0.6,0.4,0.2,0.4,0.2,0.6,0.9,0.6,0,0,0,0.2,0.3,0.3,0.3,0.4,0.3,0.2,0.3,0.3,0.5,0.5,0.5,0,0,0,0,0,0,0,0,0,0,0,0,0,0,0,0,0,0,0,0,0,0,0,0,1,1,1,2,1,1,179.6,29.6,"01:00:00",4206,0,0,0,0,0,0,0,0,0,0,0,0,0,0,0,0,0,0,0,0,30,48,1.4,1.3,0,0]
["2023-09-27T02:38:24",28,30,29,30,38,38,38,38,21,60.1,100,66.2,52.7,52.7,52.7,54.2,25.3,27.7,26.5,120,120,120,120,120,120,119.9,120,119.9,120,120,120,59,59,59,2.2999999999999998,4.7,2.1,4.5,0.1,0.1,0.1,0.5,0.6,0.5,0.2,0.2,0.2,0.5,0.5,0.5,-0.2,-0.2,-0.2,-0.1,0,0,-0.1,-0.1,-0.1,0,0,0,0.2,0.5,0.3,0.4,0.7,0.4,0.2,0.4,0.2,0.6,0.9,0.6,0,0,0,0.2,0.3,0.2,0.3,0.4,0.3,0.3,0.3,0.3,0.5,0.5,0.5,0,0,0,0,0,0,0,0,0,0,0,0,0,0,0,0,0,0,0,0,0,0,0,0,1,1,1,2,1,1,179.6,29.6,"01:00:00",4206,0,0,0,0,0,0,0,0,0,0,0,0,0,0,0,0,0,0,0,0,30,48,1.4,1.3,0,0]
["2023-09-27T02:39:25",28,31,29,30,38,38,38,38,20.9,60,100,66.2,52.7,52.7,52.7,54.2,27.7,29.8,28.5,120,120,120,120,120,120,119.9,120,119.9,120,120,120,59,59,59,2.2999999999999998,5.2,2,4.9000000000000004,0.1,0.1,0.1,0.6,0.6,0.6,0.1,0.2,0.2,0.5,0.6,0.5,-0.2,-0.2,-0.2,-0.1,0,0,-0.1,-0.1,-0.1,0,0,0,0.2,0.6,0.3,0.4,0.6,0.4,0.1,0.4,0.2,0.5,0.8,0.6,0,0,0,0.2,0.3,0.2,0.3,0.4,0.3,0.3,0.3,0.3,0.5,0.5,0.5,0,0,0,0,0,0,0,0,0,0,0,0,0,0,0,0,0,0,0,0,0,0,0,0,1,1,1,2,1,1,179.6,29.6,"01:00:00",4207,0,0,0,0,0,0,0,0,0,0,0,0,0,0,0,0,0,0,0,0,30,48,1.5,1.4,0,0]
["2023-09-27T02:40:25",28,30,29,30,38,38,38,38,20.9,59.9,100,66.2,52.7,52.7,52.7,54.2,26.6,28.1,27.1,120,120,120,120,120,120,119.9,120,119.9,119.9,120,119.9,59,59,59,2.2999999999999998,4.9000000000000004,1.9,4.5999999999999996,0.1,0.1,0.1,0.6,0.6,0.6,0.1,0.2,0.1,0.5,0.6,0.5,-0.3,-0.2,-0.2,-0.1,0,0,-0.1,-0.1,-0.1,0,0,0,0.2,0.5,0.3,0.4,0.5,0.4,0.1,0.4,0.2,0.5,0.8,0.6,0,0,0,0.2,0.3,0.2,0.3,0.4,0.3,0.3,0.3,0.3,0.5,0.5,0.5,0,0,0,0,0,0,0,0,0,0,0,0,0,0,0,0,0,0,0,0,0,0,0,0,1,1,1,2,1,1,179.6,29.6,"01:00:00",4207,0,0,0,0,0,0,0,0,0,0,0,0,0,0,0,0,0,0,0,0,30,48,1.4,1.3,0,0]
["2023-09-27T02:41:26",28,31,29,30,38,38,38,38,20.9,59.9,100,66.2,52.7,52.7,52.7,54.2,27.6,29.3,28.6,120,120,120,120,120,120,119.9,120,119.9,119.9,120,119.9,59,59,59,2.2999999999999998,4.9000000000000004,2.1,4.5999999999999996,0.1,0.1,0.1,0.6,0.6,0.6,0.2,0.2,0.2,0.5,0.6,0.5,-0.3,-0.2,-0.2,-0.1,0,0,-0.1,-0.1,-0.1,0,0,0,0.2,0.5,0.3,0.3,0.5,0.4,0.1,0.3,0.2,0.5,0.7,0.6,0,0,0,0.2,0.3,0.2,0.3,0.4,0.3,0.3,0.3,0.3,0.5,0.5,0.5,0,0,0,0,0,0,0,0,0,0,0,0,0,0,0,0,0,0,0,0,0,0,0,0,1,1,1,2,1,1,179.6,29.6,"01:00:00",4208,0,0,0,0,0,0,0,0,0,0,0,0,0,0,0,0,0,0,0,0,30,48,1.5,1.4,0,0]
["2023-09-27T02:42:27",28,31,28,30,38,38,38,38,20.9,59.8,100,66.2,52.7,52.7,52.7,54.2,28.2,29.1,28.5,120,120,120,120,120,120,119.9,120,119.9,119.9,120,119.9,59,59,59,2.2999999999999998,5,1.9,4.7,0.1,0.1,0.1,0.6,0.6,0.6,0.2,0.2,0.2,0.5,0.6,0.5,-0.3,-0.2,-0.2,-0.1,0,0,-0.1,-0.1,-0.1,0,0,0,0.3,0.6,0.3,0.3,0.6,0.4,0.2,0.4,0.2,0.5,0.7,0.6,0,0,0,0.2,0.3,0.3,0.3,0.3,0.3,0.2,0.3,0.3,0.5,0.5,0.5,0,0,0,0,0,0,0,0,0,0,0,0,0,0,0,0,0,0,0,0,0,0,0,0,1,1,1,2,1,1,179.6,29.6,"01:00:00",4208,0,0,0,0,0,0,0,0,0,0,0,0,0,0,0,0,0,0,0,0,30,48,1.5,1.4,0,0]
["2023-09-27T02:43:28",28,31,29,30,38,38,38,38,20.9,59.7,100,66.2,52.7,52.7,52.7,54.2,27,28.7,27.4,120,120,120,120,120,120,119.9,120,119.9,119.9,120,119.9,59,59,59,2.2999999999999998,4.9000000000000004,2,4.5999999999999996,0.1,0.1,0.1,0.5,0.6,0.5,0.2,0.2,0.2,0.5,0.6,0.5,-0.2,-0.2,-0.2,-0.1,0,0,-0.2,-0.1,-0.1,0,0,0,0.2,0.4,0.3,0.3,0.5,0.4,0.1,0.4,0.2,0.5,0.7,0.6,0,0,0,0.2,0.3,0.2,0.3,0.3,0.3,0.2,0.3,0.3,0.5,0.5,0.5,0,0,0,0,0,0,0,0,0,0,0,0,0,0,0,0,0,0,0,0,0,0,0,0,1,1,1,2,1,1,179.6,29.6,"01:00:00",4209,0,0,0,0,0,0,0,0,0,0,0,0,0,0,0,0,0,0,0,0,30,48,1.4,1.4,0,0]
["2023-09-27T02:44:28",27,30,28,30,38,38,38,38,20.9,59.6,100,66.2,52.7,52.7,52.7,54.2,25.6,27.4,26.3,120,120,120,120,120,120,119.9,120,119.9,120,120,120,59,59,59,2.2999999999999998,4.5999999999999996,2,4.3,0.1,0.1,0.1,0.5,0.5,0.5,0.2,0.2,0.2,0.5,0.5,0.5,-0.2,-0.2,-0.2,-0.1,0,0,-0.2,-0.1,-0.1,0,0,0,0.2,0.4,0.3,0.3,0.7,0.4,0.1,0.4,0.2,0.6,0.7,0.6,0,0,0,0.3,0.3,0.3,0.3,0.3,0.3,0.3,0.3,0.3,0.5,0.5,0.5,0,0,0,0,0,0,0,0,0,0,0,0,0,0,0,0,0,0,0,0,0,0,0,0,1,1,1,2,1,1,179.6,29.6,"01:00:00",4209,0,0,0,0,0,0,0,0,0,0,0,0,0,0,0,0,0,0,0,0,30,48,1.4,1.3,0,0]
["2023-09-27T02:45:29",28,30,28,30,38,38,38,38,20.8,59.5,100,66.2,52.7,52.7,52.7,54.2,25.5,27.7,26.5,120,120,120,120,120,120,119.9,120,119.9,119.9,120,120,59,59,59,2.2999999999999998,4.7,2,4.4000000000000004,0.1,0.1,0.1,0.5,0.6,0.5,0.2,0.2,0.2,0.5,0.5,0.5,-0.2,-0.2,-0.2,-0.1,0,0,-0.1,-0.1,-0.1,0,0,0,0.2,0.5,0.3,0.3,0.5,0.4,0.1,0.3,0.2,0.5,0.8,0.6,0,0,0,0.2,0.3,0.3,0.3,0.3,0.3,0.3,0.3,0.3,0.5,0.5,0.5,0,0,0,0,0,0,0,0,0,0,0,0,0,0,0,0,0,0,0,0,0,0,0,0,1,1,1,2,1,1,179.6,29.6,"01:00:00",4209,0,0,0,0,0,0,0,0,0,0,0,0,0,0,0,0,0,0,0,0,30,48,1.4,1.3,0,0]
["2023-09-27T02:46:30",28,30,28,30,38,38,38,38,20.8,59.5,100,66.2,52.7,52.7,52.7,54.2,25.6,28.9,27,120,120,120,120,120,120,119.9,120,119.9,119.9,120,119.9,59,59,59,2.2999999999999998,4.9000000000000004,1.9,4.7,0.1,0.1,0.1,0.5,0.6,0.5,0.2,0.2,0.2,0.5,0.6,0.5,-0.3,-0.2,-0.2,-0.1,0,0,-0.1,-0.1,-0.1,0,0,0,0.2,0.4,0.3,0.4,0.5,0.4,0.1,0.3,0.2,0.5,0.9,0.6,0,0,0,0.3,0.3,0.3,0.3,0.4,0.3,0.3,0.3,0.3,0.5,0.5,0.5,0,0,0,0,0,0,0,0,0,0,0,0,0,0,0,0,0,0,0,0,0,0,0,0,1,1,1,2,1,1,179.6,29.6,"01:00:00",4210,0,0,0,0,0,0,0,0,0,0,0,0,0,0,0,0,0,0,0,0,30,48,1.4,1.3,0,0]
["2023-09-27T02:47:32",28,30,28,30,38,38,38,38,20.8,59.4,100,66.2,52.7,52.7,52.7,54.2,25,26.8,25.5,120,120,120,120,120,120,119.9,120,119.9,119.9,120,119.9,59,59,59,2.2999999999999998,4.5,1.9,4.3,0.1,0.1,0.1,0.5,0.5,0.5,0.2,0.2,0.2,0.5,0.5,0.5,-0.3,-0.2,-0.2,-0.1,0,0,-0.1,-0.1,-0.1,0,0,0,0.2,0.4,0.3,0.3,0.5,0.4,0.1,0.4,0.2,0.5,0.7,0.6,0,0,0,0.2,0.3,0.3,0.3,0.3,0.3,0.3,0.3,0.3,0.5,0.5,0.5,0,0,0,0,0,0,0,0,0,0,0,0,0,0,0,0,0,0,0,0,0,0,0,0,1,1,1,2,1,1,179.6,29.6,"01:00:00",4210,0,0,0,0,0,0,0,0,0,0,0,0,0,0,0,0,0,0,0,0,30,48,1.3,1.2,0,0]
["2023-09-27T02:48:33",28,31,28,30,38,38,38,38,20.8,59.3,100,66.2,52.5,52.7,52.5,54.2,26.6,59.5,50,120,120,120,119.8,120,120,119.9,120,119.9,119.8,120,119.9,59,59,59,2.4,19.899999999999999,2,19,0.1,0.1,0.1,0.5,1.4,1.1000000000000001,0.2,0.2,0.2,0.5,1.3,1,-0.3,-0.2,-0.2,-0.1,0.5,0.3,-0.1,-0.1,-0.1,0,0.5,0.3,0.2,0.5,0.3,0.3,0.5,0.4,0.1,0.4,0.2,0.5,0.7,0.6,0,0,0,0.2,0.3,0.3,0.3,0.3,0.3,0.3,0.3,0.3,0.5,0.5,0.5,0,0,0,0,0,0,0,0,0,0,0,0,0,0,0,0,0,0,0,0,0,0,0,0,1,1,1,2,1,1,179.6,29.6,"01:00:00",4211,0,0,0,0,0,0,0,0,0,0,0,0,0,0,0,0,0,0,0,0,30,48,3,2.5,0,0]
["2023-09-27T02:49:33",28,31,28,31,38,38,38,38,20.8,59.2,100,66.2,52.6,52.6,52.6,54.2,26.6,44.8,27.8,120,120,120,120,120.1,120,119.9,120,119.9,119.9,120.1,119.9,59,59,59,2.2999999999999998,5,2,4.5,0.1,0.1,0.1,0.5,0.6,0.5,0.2,0.2,0.2,0.5,0.5,0.5,-0.3,-0.2,-0.2,-0.1,0,0,-0.1,-0.1,-0.1,0,0,0,0.2,0.5,0.3,0.3,0.5,0.4,0.2,0.5,0.2,0.5,0.8,0.6,0,0,0,0.2,0.3,0.3,0.3,0.3,0.3,0.2,0.3,0.2,0.5,0.5,0.5,0,0,0,0,0,0,0,0,0,0,0,0,0,0,0,0,0,0,0,0,0,0,0,0,1,1,1,2,1,1,179.6,29.6,"01:00:00",4212,0,0,0,0,0,0,0,0,0,0,0,0,0,0,0,0,0,0,0,0,30,48,1.4,1.3,0,0]
["2023-09-27T02:50:34",28,31,28,30,38,38,38,38,20.8,59.2,100,66.2,52.6,52.7,52.6,54.2,25.2,26.6,25.6,120,120,120,120,120,120,119.9,120,119.9,119.9,120,119.9,59,59,59,2.2999999999999998,4.5999999999999996,1.8,4.3,0.1,0.1,0.1,0.5,0.5,0.5,0.2,0.2,0.2,0.5,0.5,0.5,-0.3,-0.2,-0.2,-0.1,0,0,-0.1,-0.1,-0.1,0,0,0,0.2,0.5,0.3,0.3,0.6,0.3,0.2,0.5,0.2,0.5,0.7,0.6,0,0,0,0.2,0.3,0.3,0.3,0.3,0.3,0.2,0.3,0.3,0.5,0.5,0.5,0,0,0,0,0,0,0,0,0,0,0,0,0,0,0,0,0,0,0,0,0,0,0,0,1,1,1,2,1,1,179.6,29.6,"01:00:00",4212,0,0,0,0,0,0,0,0,0,0,0,0,0,0,0,0,0,0,0,0,30,48,1.3,1.2,0,0]
["2023-09-27T02:51:35",28,31,28,30,38,38,38,38,20.8,59.1,100,66.2,52.6,52.7,52.6,54.2,25.9,28,27.1,120,120,120,120,120,120,119.9,120,119.9,119.9,120,119.9,59,59,59,2.4,4.5999999999999996,2.1,4.3,0.1,0.1,0.1,0.5,0.5,0.5,0.2,0.2,0.2,0.5,0.5,0.5,-0.3,-0.2,-0.2,-0.1,0,0,-0.1,-0.1,-0.1,0,0,0,0.2,0.5,0.3,0.2,0.5,0.3,0.1,0.3,0.2,0.5,0.7,0.6,0,0,0,0.2,0.3,0.2,0.3,0.3,0.3,0.3,0.3,0.3,0.5,0.5,0.5,0,0,0,0,0,0,0,0,0,0,0,0,0,0,0,0,0,0,0,0,0,0,0,0,1,1,1,2,1,1,179.6,29.6,"01:00:00",4213,0,0,0,0,0,0,0,0,0,0,0,0,0,0,0,0,0,0,0,0,30,48,1.4,1.3,0,0]
["2023-09-27T02:52:36",28,31,28,30,38,38,38,38,20.8,59,100,66.2,52.6,52.6,52.6,54.2,26.8,27.9,27.6,120,120,120,120,120,120,119.9,120,119.9,119.9,120,119.9,59,59,59,2.2999999999999998,4.5999999999999996,2.1,4.3,0.1,0.1,0.1,0.5,0.5,0.5,0.2,0.2,0.2,0.5,0.5,0.5,-0.2,-0.2,-0.2,-0.1,0,0,-0.1,-0.1,-0.1,0,0,0,0.2,0.5,0.3,0.3,0.5,0.4,0.1,0.3,0.2,0.5,0.8,0.6,0,0,0,0.2,0.3,0.2,0.3,0.3,0.3,0.3,0.3,0.3,0.5,0.5,0.5,0,0,0,0,0,0,0,0,0,0,0,0,0,0,0,0,0,0,0,0,0,0,0,0,1,1,1,2,1,1,179.6,29.6,"01:00:00",4213,0,0,0,0,0,0,0,0,0,0,0,0,0,0,0,0,0,0,0,0,30,48,1.4,1.3,0,0]
["2023-09-27T02:53:36",28,31,28,30,38,38,38,38,20.8,59,100,66.2,52.6,52.7,52.6,54.2,24,26.4,25,120,120,120,120,120,120,119.9,120,119.9,119.9,120,119.9,59,59,59,2.2999999999999998,4.4000000000000004,1.9,4.2,0.1,0.1,0.1,0.5,0.5,0.5,0.2,0.2,0.2,0.5,0.5,0.5,-0.3,-0.2,-0.2,-0.1,0,0,-0.1,-0.1,-0.1,0,0,0,0.2,0.5,0.3,0.2,0.6,0.4,0.1,0.4,0.2,0.4,0.7,0.6,0,0,0,0.2,0.3,0.3,0.3,0.3,0.3,0.3,0.3,0.3,0.5,0.5,0.5,0,0,0,0,0,0,0,0,0,0,0,0,0,0,0,0,0,0,0,0,0,0,0,0,1,1,1,2,1,1,179.6,29.6,"01:00:00",4213,0,0,0,0,0,0,0,0,0,0,0,0,0,0,0,0,0,0,0,0,30,48,1.3,1.2,0,0]
["2023-09-27T02:54:37",27,30,28,30,38,38,38,38,20.8,58.9,100,66.2,52.6,52.7,52.6,54.2,22.9,24.9,24.1,120,120,120,120,120,120,119.9,120,119.9,119.9,120,119.9,59,59,59,2.2999999999999998,4.3,1.8,4.0999999999999996,0.1,0.1,0.1,0.5,0.5,0.5,0.1,0.2,0.1,0.4,0.5,0.4,-0.3,-0.2,-0.2,-0.1,0,0,-0.1,-0.1,-0.1,0,0,0,0.2,0.5,0.3,0.3,0.6,0.4,0.2,0.5,0.2,0.5,0.7,0.6,0,0,0,0.2,0.3,0.3,0.3,0.3,0.3,0.2,0.3,0.3,0.5,0.5,0.5,0,0,0,0,0,0,0,0,0,0,0,0,0,0,0,0,0,0,0,0,0,0,0,0,1,1,1,2,1,1,179.6,29.6,"01:00:00",4214,0,0,0,0,0,0,0,0,0,0,0,0,0,0,0,0,0,0,0,0,30,48,1.2,1.1000000000000001,0,0]
["2023-09-27T02:55:38",27,30,28,30,38,38,38,38,20.8,58.8,100,66.2,52.6,52.6,52.6,54.2,25.1,28.7,27.1,120,120,120,120,120,120,119.9,120,119.9,120,120,120,59,59,59,2.4,4.7,2.1,4.5,0.1,0.1,0.1,0.5,0.6,0.5,0.1,0.2,0.2,0.5,0.5,0.5,-0.3,-0.2,-0.2,-0.1,0,0,-0.1,-0.1,-0.1,0,0,0,0.2,0.4,0.3,0.3,0.5,0.4,0.1,0.4,0.2,0.5,0.7,0.6,0,0,0,0.3,0.3,0.3,0.3,0.4,0.3,0.2,0.3,0.3,0.5,0.5,0.5,0,0,0,0,0,0,0,0,0,0,0,0,0,0,0,0,0,0,0,0,0,0,0,0,1,1,1,2,1,1,179.6,29.6,"01:00:00",4214,0,0,0,0,0,0,0,0,0,0,0,0,0,0,0,0,0,0,0,0,30,48,1.4,1.3,0,0]
["2023-09-27T02:56:39",27,31,28,30,38,38,38,38,20.8,58.8,100,66.2,52.6,52.6,52.6,54.2,27.4,28.8,28.1,120,120,120,120,120,120,119.9,120,119.9,120,120,120,59,59,59,2.4,4.8,2.1,4.5,0.1,0.1,0.1,0.5,0.6,0.5,0.2,0.2,0.2,0.5,0.5,0.5,-0.3,-0.2,-0.2,-0.1,0,0,-0.1,-0.1,-0.1,0,0,0,0.2,0.4,0.3,0.3,0.6,0.4,0.1,0.4,0.2,0.5,0.7,0.6,0,0,0,0.2,0.3,0.3,0.3,0.3,0.3,0.3,0.3,0.3,0.5,0.5,0.5,0,0,0,0,0,0,0,0,0,0,0,0,0,0,0,0,0,0,0,0,0,0,0,0,1,1,1,2,1,1,179.6,29.6,"01:00:00",4215,0,0,0,0,0,0,0,0,0,0,0,0,0,0,0,0,0,0,0,0,30,48,1.4,1.4,0,0]
["2023-09-27T02:57:41",27,30,28,30,38,38,38,38,20.8,58.7,100,66.2,52.6,52.6,52.6,54.2,26.5,27.6,27.1,120,120,120,120,120,120,119.9,120,119.9,120,120,120,59,59,59,2.2999999999999998,4.7,1.9,4.5,0.1,0.1,0.1,0.5,0.6,0.5,0.2,0.2,0.2,0.5,0.5,0.5,-0.3,-0.2,-0.2,-0.1,0,0,-0.1,-0.1,-0.1,0,0,0,0.2,0.5,0.3,0.3,0.5,0.4,0.2,0.4,0.2,0.5,0.8,0.6,0,0,0,0.2,0.3,0.2,0.3,0.4,0.3,0.2,0.3,0.3,0.5,0.5,0.5,0,0,0,0,0,0,0,0,0,0,0,0,0,0,0,0,0,0,0,0,0,0,0,0,1,1,1,2,1,1,179.6,29.6,"01:00:00",4215,0,0,0,0,0,0,0,0,0,0,0,0,0,0,0,0,0,0,0,0,30,48,1.4,1.3,0,0]
["2023-09-27T02:58:41",27,30,28,30,38,38,38,38,20.8,58.6,100,66.2,52.6,52.6,52.6,54.2,26.6,27.4,26.8,120,120,120,120,120,120,119.9,120,119.9,119.9,120,119.9,59,59,59,2.2999999999999998,4.5999999999999996,1.9,4.4000000000000004,0.1,0.1,0.1,0.5,0.6,0.5,0.2,0.2,0.2,0.5,0.5,0.5,-0.3,-0.2,-0.2,-0.1,0,0,-0.1,-0.1,-0.1,0,0,0,0.3,0.5,0.3,0.3,0.6,0.4,0.1,0.4,0.2,0.5,0.8,0.6,0,0,0,0.2,0.3,0.2,0.3,0.4,0.3,0.2,0.3,0.2,0.5,0.5,0.5,0,0,0,0,0,0,0,0,0,0,0,0,0,0,0,0,0,0,0,0,0,0,0,0,1,1,1,2,1,1,179.6,29.6,"01:00:00",4216,0,0,0,0,0,0,0,0,0,0,0,0,0,0,0,0,0,0,0,0,30,48,1.4,1.3,0,0]
["2023-09-27T02:59:42",27,30,28,30,38,38,38,38,20.8,58.5,100,66.2,52.6,52.6,52.6,54.2,26.3,27.2,26.5,120,120,120,120,120,120,119.9,120,119.9,119.9,120,120,59,59,59,2.2999999999999998,4.4000000000000004,2.1,4.2,0.1,0.1,0.1,0.5,0.5,0.5,0.2,0.2,0.2,0.5,0.5,0.5,-0.2,-0.2,-0.2,-0.1,0,0,-0.1,-0.1,-0.1,0,0,0,0.2,0.5,0.3,0.3,0.5,0.4,0.2,0.5,0.2,0.4,0.7,0.5,0,0,0,0.2,0.3,0.2,0.3,0.4,0.3,0.2,0.3,0.2,0.5,0.5,0.5,0,0,0,0,0,0,0,0,0,0,0,0,0,0,0,0,0,0,0,0,0,0,0,0,1,1,1,2,1,1,179.6,29.6,"01:00:00",4216,0,0,0,0,0,0,0,0,0,0,0,0,0,0,0,0,0,0,0,0,30,48,1.4,1.3,0,0]
["2023-09-27T03:00:42",27,30,28,30,38,38,38,38,20.7,58.5,100,66.2,52.6,52.6,52.6,54.2,25.3,29.4,26.7,119.9,120,120,120,120,120,119.9,120,119.9,120,120,120,59,59,59,2.2999999999999998,4.3,2.8,4.0999999999999996,0.1,0.3,0.1,0.5,0.5,0.5,0.2,0.3,0.2,0.5,0.5,0.5,-0.3,0,-0.2,-0.1,0,0,-0.1,0,-0.1,0,0,0,0.3,0.6,0.4,0.3,0.5,0.4,0.2,0.4,0.2,0.4,0.7,0.5,0,0,0,0.2,0.3,0.2,0.3,0.3,0.3,0.2,0.3,0.3,0.5,0.5,0.5,0,0,0,0,0,0,0,0,0,0,0,0,0,0,0,0,0,0,0,0,0,0,0,0,1,1,1,2,1,1,179.6,29.6,"01:00:00",4216,0,0,0,0,0,0,0,0,0,0,0,0,0,0,0,0,0,0,0,0,30,48,1.6,1.3,0,0]
["2023-09-27T03:01:43",27,30,28,30,38,38,38,38,20.7,58.4,100,66.2,52.6,52.6,52.6,54.2,28.5,29.6,29.3,120,120,120,120,120,120,119.9,120,119.9,120,120,120,59,59,59,1.7,4.5,2.2000000000000002,4.3,0.2,0.2,0.2,0.5,0.5,0.5,0.2,0.3,0.2,0.5,0.5,0.5,-0.1,-0.1,-0.1,-0.1,0,0,0,0,0,0,0,0,0.2,0.5,0.3,0.3,0.6,0.4,0.1,0.4,0.2,0.5,0.7,0.6,0,0,0,0.2,0.3,0.2,0.3,0.3,0.3,0.2,0.3,0.3,0.5,0.5,0.5,0,0,0,0,0,0,0,0,0,0,0,0,0,0,0,0,0,0,0,0,0,0,0,0,1,1,1,2,1,1,179.6,29.6,"01:00:00",4217,0,0,0,0,0,0,0,0,0,0,0,0,0,0,0,0,0,0,0,0,30,48,1.5,1.4,0,0]
["2023-09-27T03:02:44",27,30,28,30,38,38,38,38,20.7,58.3,100,66.2,52.6,52.6,52.6,54.2,27.9,30,28.9,120,120,120,120,120,120,119.9,120,119.9,120,120,120,59,59,59,1.9,4.5,2.2999999999999998,4.2,0.2,0.2,0.2,0.5,0.5,0.5,0.2,0.3,0.2,0.5,0.5,0.5,-0.1,-0.1,-0.1,-0.1,0,0,0,0,0,0,0,0,0.2,0.5,0.3,0.3,0.5,0.4,0.1,0.4,0.2,0.5,0.7,0.6,0,0,0,0.2,0.3,0.2,0.3,0.3,0.3,0.2,0.3,0.3,0.5,0.5,0.5,0,0,0,0,0,0,0,0,0,0,0,0,0,0,0,0,0,0,0,0,0,0,0,0,1,1,1,2,1,1,179.6,29.6,"01:00:00",4217,0,0,0,0,0,0,0,0,0,0,0,0,0,0,0,0,0,0,0,0,30,48,1.5,1.4,0,0]
["2023-09-27T03:03:45",27,30,28,30,38,38,38,38,20.7,58.2,100,66.2,52.6,52.6,52.6,54.2,29.1,30.7,29.8,120,120,120,120,120,120,119.9,120,119.9,119.9,120,119.9,59,59,59,1.9,4.5999999999999996,2.4,4.3,0.2,0.2,0.2,0.5,0.6,0.5,0.3,0.3,0.3,0.5,0.5,0.5,-0.1,-0.1,-0.1,-0.1,0,0,0,0,0,0,0,0,0.3,0.5,0.3,0.2,0.5,0.4,0.1,0.3,0.2,0.5,0.7,0.6,0,0,0,0.2,0.3,0.2,0.3,0.3,0.3,0.3,0.3,0.3,0.5,0.5,0.5,0,0,0,0,0,0,0,0,0,0,0,0,0,0,0,0,0,0,0,0,0,0,0,0,1,1,1,2,1,1,179.6,29.6,"01:00:00",4218,0,0,0,0,0,0,0,0,0,0,0,0,0,0,0,0,0,0,0,0,30,48,1.5,1.4,0,0]
["2023-09-27T03:04:46",27,30,28,30,38,38,38,38,20.7,58.2,100,66.2,52.6,52.6,52.6,54.2,28.9,29.6,29.1,120,120,120,120,120,120,119.9,120,119.9,119.9,120,119.9,59,59,59,1.8,4.5999999999999996,2.2999999999999998,4.4000000000000004,0.2,0.2,0.2,0.5,0.5,0.5,0.2,0.3,0.2,0.5,0.5,0.5,-0.1,-0.1,-0.1,-0.1,0,0,0,0,0,0,0,0,0.2,0.5,0.3,0.2,0.6,0.4,0.1,0.3,0.2,0.5,0.7,0.6,0,0,0,0.2,0.3,0.3,0.3,0.3,0.3,0.3,0.3,0.3,0.5,0.5,0.5,0,0,0,0,0,0,0,0,0,0,0,0,0,0,0,0,0,0,0,0,0,0,0,0,1,1,1,2,1,1,179.6,29.6,"01:00:00",4218,0,0,0,0,0,0,0,0,0,0,0,0,0,0,0,0,0,0,0,0,30,48,1.5,1.4,0,0]
["2023-09-27T03:05:47",27,30,28,30,38,38,38,38,20.7,58.1,100,66.2,52.6,52.6,52.6,54.2,28.7,30.1,29.5,120,120,120,120,120,120,119.9,120,119.9,120,120,120,59,59,59,1.7,4.5999999999999996,2.2000000000000002,4.4000000000000004,0.2,0.2,0.2,0.5,0.6,0.5,0.2,0.3,0.2,0.5,0.5,0.5,-0.1,-0.1,-0.1,-0.1,0,0,0,0,0,0,0,0,0.2,0.4,0.3,0.2,0.5,0.3,0.1,0.4,0.2,0.5,0.8,0.6,0,0,0,0.2,0.3,0.3,0.3,0.3,0.3,0.2,0.3,0.3,0.5,0.5,0.5,0,0,0,0,0,0,0,0,0,0,0,0,0,0,0,0,0,0,0,0,0,0,0,0,1,1,1,2,1,1,179.6,29.6,"01:00:00",4219,0,0,0,0,0,0,0,0,0,0,0,0,0,0,0,0,0,0,0,0,30,48,1.5,1.4,0,0]
["2023-09-27T03:06:48",27,30,28,30,38,38,38,38,20.7,58,100,66.2,52.5,52.6,52.5,54.2,29.7,32.299999999999997,30.7,120,120,120,120,120,120,119.9,120,119.9,120,120,120,59,59,59,2,4.8,2.5,4.5,0.2,0.2,0.2,0.5,0.6,0.5,0.3,0.3,0.3,0.5,0.5,0.5,-0.1,-0.1,-0.1,-0.1,0,0,0,0,0,0,0,0,0.2,0.5,0.3,0.1,0.5,0.2,0.2,0.4,0.2,0.5,1,0.6,0,0,0,0.2,0.3,0.3,0.3,0.3,0.3,0.2,0.3,0.3,0.5,0.5,0.5,0,0,0,0,0,0,0,0,0,0,0,0,0,0,0,0,0,0,0,0,0,0,0,0,1,1,1,2,1,1,179.6,29.6,"01:00:00",4219,0,0,0,0,0,0,0,0,0,0,0,0,0,0,0,0,0,0,0,0,30,48,1.6,1.5,0,0]
["2023-09-27T03:07:49",27,30,28,30,38,38,38,38,20.7,57.9,100,66.2,52.5,52.6,52.5,54.2,31.1,32.700000000000003,32.200000000000003,120,120,120,120,120,120,119.9,120,119.9,120,120,120,59,59,59,2,4.9000000000000004,2.5,4.5999999999999996,0.2,0.2,0.2,0.6,0.6,0.6,0.3,0.3,0.3,0.5,0.6,0.5,-0.1,-0.1,-0.1,-0.1,0,0,0,0,0,0,0,0,0.2,0.5,0.3,0.2,0.4,0.2,0.1,0.4,0.2,0.6,0.9,0.6,0,0,0,0.2,0.3,0.2,0.3,0.3,0.3,0.2,0.3,0.3,0.5,0.5,0.5,0,0,0,0,0,0,0,0,0,0,0,0,0,0,0,0,0,0,0,0,0,0,0,0,1,1,1,2,1,1,179.6,29.6,"01:00:00",4220,0,0,0,0,0,0,0,0,0,0,0,0,0,0,0,0,0,0,0,0,30,48,1.6,1.6,0,0]
["2023-09-27T03:08:50",27,30,28,30,38,38,38,38,20.7,57.9,100,66.2,52.5,52.6,52.5,54.2,27,31.1,28.2,120,120,120,120,120,120,119.9,120,119.9,120,120,120,59,59,59,1.7,4.7,2.2999999999999998,4.4000000000000004,0.2,0.2,0.2,0.5,0.6,0.5,0.2,0.3,0.2,0.5,0.5,0.5,-0.1,-0.1,-0.1,-0.1,0,0,0,0,0,0,0,0,0.3,0.5,0.3,0.2,0.5,0.3,0.2,0.5,0.3,0.5,0.8,0.6,0,0,0,0.2,0.3,0.2,0.3,0.3,0.3,0.2,0.3,0.2,0.5,0.5,0.5,0,0,0,0,0,0,0,0,0,0,0,0,0,0,0,0,0,0,0,0,0,0,0,0,1,1,1,2,1,1,179.6,29.6,"01:00:00",4220,0,0,0,0,0,0,0,0,0,0,0,0,0,0,0,0,0,0,0,0,30,48,1.5,1.4,0,0]
["2023-09-27T03:09:50",27,30,28,30,38,38,38,38,20.7,57.8,100,66.2,52.5,52.6,52.5,54.2,26.1,27.4,26.6,120,120,120,120,120,120,119.9,120,119.9,120,120,120,59,59,59,1.7,4.0999999999999996,2.1,3.9,0.2,0.2,0.2,0.5,0.5,0.5,0.2,0.2,0.2,0.4,0.5,0.4,-0.1,-0.1,-0.1,-0.1,0,0,0,0,0,0,0,0,0.2,0.5,0.3,0.2,0.5,0.3,0.2,0.4,0.2,0.4,0.7,0.6,0,0,0,0.2,0.3,0.2,0.3,0.3,0.3,0.2,0.3,0.2,0.5,0.5,0.5,0,0,0,0,0,0,0,0,0,0,0,0,0,0,0,0,0,0,0,0,0,0,0,0,1,1,1,2,1,1,179.6,29.6,"01:00:00",4221,0,0,0,0,0,0,0,0,0,0,0,0,0,0,0,0,0,0,0,0,30,48,1.4,1.3,0,0]
["2023-09-27T03:10:51",27,30,28,30,38,38,38,38,20.7,57.7,100,66.2,52.5,52.6,52.5,54.2,27.6,30.7,30.1,120,120,120,120,120,120,119.9,120,119.9,120,120,120,59,59,59,2,4.4000000000000004,2.5,4.2,0.2,0.2,0.2,0.5,0.5,0.5,0.2,0.3,0.2,0.5,0.5,0.5,-0.1,-0.1,-0.1,-0.1,0,0,0,0,0,0,0,0,0.2,0.6,0.4,0.2,0.5,0.3,0.2,0.4,0.3,0.5,0.7,0.6,0,0,0,0.2,0.3,0.2,0.3,0.3,0.3,0.2,0.3,0.2,0.5,0.5,0.5,0,0,0,0,0,0,0,0,0,0,0,0,0,0,0,0,0,0,0,0,0,0,0,0,1,1,1,2,1,1,179.6,29.6,"01:00:00",4221,0,0,0,0,0,0,0,0,0,0,0,0,0,0,0,0,0,0,0,0,30,48,1.5,1.4,0,0]
["2023-09-27T03:11:51",27,30,28,30,38,38,38,38,20.7,57.7,100,66.2,52.5,52.5,52.5,54.2,30.3,31.1,30.5,120,120,120,120,120,120,119.9,120,119.9,120,120,120,59,59,59,2,4.7,2.5,4.5,0.2,0.2,0.2,0.5,0.6,0.5,0.3,0.3,0.3,0.5,0.5,0.5,-0.1,-0.1,-0.1,-0.1,0,0,0,0,0,0,0,0,0.3,0.6,0.4,0.3,0.5,0.4,0.2,0.5,0.3,0.5,0.8,0.6,0,0,0,0.2,0.3,0.2,0.3,0.3,0.3,0.2,0.3,0.2,0.5,0.5,0.5,0,0,0,0,0,0,0,0,0,0,0,0,0,0,0,0,0,0,0,0,0,0,0,0,1,1,1,2,1,1,179.6,29.6,"01:00:00",4222,0,0,0,0,0,0,0,0,0,0,0,0,0,0,0,0,0,0,0,0,30,48,1.6,1.5,0,0]
["2023-09-27T03:12:52",27,30,28,30,38,38,38,38,20.7,57.6,100,66.2,52.5,52.6,52.5,54.2,27.2,30.4,28,120,120.1,120,120,120,120,119.9,120,119.9,120,120,120,59,59,59,2.2000000000000002,4.8,2.2000000000000002,4.5,0.1,0.2,0.1,0.5,0.6,0.5,0.2,0.3,0.2,0.5,0.5,0.5,-0.2,-0.1,-0.2,-0.1,0,0,-0.1,0,-0.1,0,0,0,0.2,0.6,0.4,0.2,0.5,0.4,0.2,0.5,0.3,0.5,0.9,0.6,0,0,0,0.2,0.3,0.2,0.3,0.3,0.3,0.2,0.3,0.2,0.5,0.5,0.5,0,0,0,0,0,0,0,0,0,0,0,0,0,0,0,0,0,0,0,0,0,0,0,0,1,1,1,2,1,1,179.6,29.6,"01:00:00",4222,0,0,0,0,0,0,0,0,0,0,0,0,0,0,0,0,0,0,0,0,30,48,1.5,1.3,0,0]
["2023-09-27T03:13:53",27,30,28,30,38,38,38,38,20.7,57.5,100,66.2,52.5,52.6,52.5,54.2,26,27.6,26.8,120,120,120,120,120,120,119.9,120,119.9,120,120,120,59,59,59,2.2999999999999998,4.7,2,4.4000000000000004,0.1,0.1,0.1,0.5,0.6,0.5,0.2,0.2,0.2,0.5,0.5,0.5,-0.2,-0.2,-0.2,-0.1,0,0,-0.1,-0.1,-0.1,0,0,0,0.3,0.6,0.3,0.2,0.5,0.4,0.2,0.5,0.3,0.6,0.8,0.6,0,0,0,0.2,0.3,0.2,0.3,0.3,0.3,0.2,0.3,0.2,0.5,0.5,0.5,0,0,0,0,0,0,0,0,0,0,0,0,0,0,0,0,0,0,0,0,0,0,0,0,1,1,1,2,1,1,179.6,29.6,"01:00:00",4223,0,0,0,0,0,0,0,0,0,0,0,0,0,0,0,0,0,0,0,0,30,48,1.4,1.3,0,0]
["2023-09-27T03:14:54",27,30,28,30,38,38,38,38,20.7,57.5,100,66.2,52.5,52.6,52.5,54.2,27.3,28.8,28,120,120,120,120,120,120,119.9,120,119.9,120,120,120,59,59,59,2.2999999999999998,4.7,2.1,4.5,0.1,0.1,0.1,0.5,0.6,0.5,0.2,0.2,0.2,0.5,0.5,0.5,-0.2,-0.2,-0.2,-0.1,0,0,-0.1,-0.1,-0.1,0,0,0,0.2,0.5,0.3,0.3,0.6,0.4,0.2,0.4,0.3,0.6,0.9,0.6,0,0,0,0.2,0.3,0.2,0.3,0.3,0.3,0.2,0.3,0.2,0.5,0.5,0.5,0,0,0,0,0,0,0,0,0,0,0,0,0,0,0,0,0,0,0,0,0,0,0,0,1,1,1,2,1,1,179.6,29.6,"01:00:00",4223,0,0,0,0,0,0,0,0,0,0,0,0,0,0,0,0,0,0,0,0,30,48,1.4,1.4,0,0]
["2023-09-27T03:15:55",27,30,28,30,38,38,38,38,20.7,57.4,100,66.2,52.5,52.6,52.5,54.2,25.7,28,26.6,120,120,120,120,120,120,119.9,120,119.9,119.9,120,119.9,59,59,59,2.2999999999999998,4.7,2,4.4000000000000004,0.1,0.1,0.1,0.5,0.6,0.5,0.2,0.2,0.2,0.5,0.5,0.5,-0.2,-0.2,-0.2,-0.1,0,0,-0.1,-0.1,-0.1,0,0,0,0.2,0.5,0.3,0.3,0.5,0.4,0.2,0.4,0.2,0.5,0.7,0.6,0,0,0,0.2,0.3,0.2,0.3,0.3,0.3,0.2,0.3,0.2,0.5,0.5,0.5,0,0,0,0,0,0,0,0,0,0,0,0,0,0,0,0,0,0,0,0,0,0,0,0,1,1,1,2,1,1,179.6,29.6,"01:00:00",4224,0,0,0,0,0,0,0,0,0,0,0,0,0,0,0,0,0,0,0,0,30,48,1.4,1.3,0,0]
["2023-09-27T03:16:56",27,30,28,30,38,38,37,38,20.7,57.3,100,66.2,52.5,52.6,52.5,54.2,24.4,26.2,25.6,120,120,120,120,120,120,119.9,120,119.9,119.9,120,119.9,59,59,59,2.2000000000000002,4.4000000000000004,1.9,4.2,0.1,0.1,0.1,0.5,0.5,0.5,0.2,0.2,0.2,0.5,0.5,0.5,-0.2,-0.2,-0.2,-0.1,0,0,-0.1,-0.1,-0.1,0,0,0,0.3,0.6,0.3,0.2,0.5,0.3,0.2,0.4,0.2,0.6,0.9,0.7,0,0,0,0.2,0.3,0.2,0.3,0.3,0.3,0.2,0.3,0.2,0.5,0.5,0.5,0,0,0,0,0,0,0,0,0,0,0,0,0,0,0,0,0,0,0,0,0,0,0,0,1,1,1,2,1,1,179.6,29.6,"01:00:00",4224,0,0,0,0,0,0,0,0,0,0,0,0,0,0,0,0,0,0,0,0,30,48,1.3,1.2,0,0]
["2023-09-27T03:17:59",27,30,28,30,38,38,38,38,20.7,57.3,100,66.2,52.5,52.6,52.5,54.2,25.1,26.4,25.7,120,120,120,120,120,120,119.9,120,119.9,119.9,120,119.9,59,59,59,2.2999999999999998,4.2,2.1,4,0.1,0.1,0.1,0.5,0.5,0.5,0.2,0.2,0.2,0.5,0.5,0.5,-0.2,-0.2,-0.2,-0.1,0,0,-0.1,-0.1,-0.1,0,0,0,0.3,0.6,0.3,0.2,0.5,0.3,0.2,0.5,0.3,0.6,0.9,0.6,0,0,0,0.2,0.3,0.2,0.3,0.3,0.3,0.2,0.3,0.2,0.5,0.5,0.5,0,0,0,0,0,0,0,0,0,0,0,0,0,0,0,0,0,0,0,0,0,0,0,0,1,1,1,2,1,1,179.6,29.6,"01:00:00",4225,0,0,0,0,0,0,0,0,0,0,0,0,0,0,0,0,0,0,0,0,30,48,1.3,1.2,0,0]
["2023-09-27T03:18:59",27,30,28,30,38,38,37,38,20.7,57.2,100,66.2,52.5,52.6,52.5,54.2,25.4,27.7,26.5,120,120,120,120,120,120,119.9,120,119.9,120,120,120,59,59,59,2.2999999999999998,4.5,2.1,4.3,0.1,0.1,0.1,0.5,0.5,0.5,0.2,0.2,0.2,0.5,0.5,0.5,-0.2,-0.2,-0.2,-0.1,0,0,-0.1,-0.1,-0.1,0,0,0,0.3,0.5,0.3,0.3,0.5,0.4,0.2,0.5,0.2,0.6,1,0.7,0,0,0,0.2,0.3,0.2,0.3,0.3,0.3,0.2,0.3,0.2,0.5,0.6,0.5,0,0,0,0,0,0,0,0,0,0,0,0,0,0,0,0,0,0,0,0,0,0,0,0,1,1,1,2,1,1,179.6,29.6,"01:00:00",4225,0,0,0,0,0,0,0,0,0,0,0,0,0,0,0,0,0,0,0,0,30,48,1.4,1.3,0,0]
["2023-09-27T03:19:59",27,30,28,30,38,38,37,38,20.7,57.1,100,66.2,52.5,52.6,52.5,54.2,25.3,26.3,25.8,120,120,120,120,120,120,119.9,120,119.9,120,120,120,59,59,59,2.2000000000000002,4.4000000000000004,1.9,4.2,0.1,0.1,0.1,0.5,0.5,0.5,0.2,0.2,0.2,0.5,0.5,0.5,-0.2,-0.2,-0.2,-0.1,0,0,-0.1,-0.1,-0.1,0,0,0,0.3,0.6,0.3,0.2,0.6,0.4,0.2,0.5,0.3,0.6,0.9,0.6,0,0,0,0.2,0.3,0.2,0.3,0.3,0.3,0.2,0.3,0.2,0.5,0.5,0.5,0,0,0,0,0,0,0,0,0,0,0,0,0,0,0,0,0,0,0,0,0,0,0,0,1,1,1,2,1,1,179.6,29.6,"01:00:00",4225,0,0,0,0,0,0,0,0,0,0,0,0,0,0,0,0,0,0,0,0,30,48,1.3,1.3,0,0]
["2023-09-27T03:21:00",27,30,28,30,38,38,37,38,20.7,57,100,66.2,52.5,52.6,52.5,54.2,26.1,28.3,27.6,120,120,120,120,120,120,119.9,120,119.9,120,120,120,59,59,59,2.2999999999999998,4.9000000000000004,1.9,4.5999999999999996,0.1,0.1,0.1,0.5,0.6,0.5,0.2,0.2,0.2,0.5,0.6,0.5,-0.3,-0.2,-0.2,-0.1,0,0,-0.1,-0.1,-0.1,0,0,0,0.3,0.5,0.3,0.1,0.5,0.4,0.2,0.4,0.2,0.6,0.9,0.7,0,0,0,0.2,0.3,0.2,0.3,0.3,0.3,0.2,0.3,0.3,0.5,0.5,0.5,0,0,0,0,0,0,0,0,0,0,0,0,0,0,0,0,0,0,0,0,0,0,0,0,1,1,1,2,1,1,179.6,29.6,"01:00:00",4226,0,0,0,0,0,0,0,0,0,0,0,0,0,0,0,0,0,0,0,0,30,48,1.4,1.3,0,0]
["2023-09-27T03:22:01",27,30,28,30,38,38,37,38,20.7,57,100,66.2,52.5,52.6,52.5,54.2,25.9,28.4,27.2,120,120,120,120,120,120,119.9,120,119.9,120,120,120,59,59,59,2.4,4.7,2.1,4.4000000000000004,0.1,0.1,0.1,0.5,0.6,0.5,0.2,0.2,0.2,0.5,0.5,0.5,-0.2,-0.2,-0.2,-0.1,0,0,-0.1,-0.1,-0.1,0,0,0,0.2,0.5,0.3,0.2,0.5,0.3,0.2,0.5,0.3,0.6,0.9,0.7,0,0,0,0.2,0.3,0.2,0.3,0.3,0.3,0.2,0.3,0.2,0.5,0.5,0.5,0,0,0,0,0,0,0,0,0,0,0,0,0,0,0,0,0,0,0,0,0,0,0,0,1,1,1,2,1,1,179.6,29.6,"01:00:00",4226,0,0,0,0,0,0,0,0,0,0,0,0,0,0,0,0,0,0,0,0,30,48,1.4,1.3,0,0]
["2023-09-27T03:23:01",27,31,28,30,38,38,37,38,20.7,56.9,100,66.2,52.3,52.6,52.4,54.2,24.7,55.5,38.9,120,120,120,119.8,120,120,119.9,120,119.9,119.8,120,119.9,59,59,59,2.2999999999999998,14.7,2.1,16.8,0.1,0.1,0.1,0.5,2.2000000000000002,0.8,0.1,0.2,0.1,0.4,1.2,0.8,-0.3,-0.2,-0.2,-0.1,0.6,0.2,-0.1,-0.1,-0.1,0,0.5,0.2,0.2,0.5,0.3,0.2,0.6,0.3,0.2,0.5,0.3,0.6,0.9,0.7,0,0,0,0.2,0.3,0.2,0.3,0.3,0.3,0.2,0.3,0.2,0.5,0.6,0.5,0,0,0,0,0,0,0,0,0,0,0,0,0,0,0,0,0,0,0,0,0,0,0,0,1,1,1,2,1,1,179.6,29.6,"01:00:00",4227,0,0,0,0,0,0,0,0,0,0,0,0,0,0,0,0,0,0,0,0,30,48,3.7,1.9,0,0]
["2023-09-27T03:24:02",27,31,28,30,38,38,37,38,20.7,56.8,100,66.2,52.4,52.5,52.4,54.2,22.6,53.3,31,120,120,120,120,120.2,120,119.9,120,119.9,120,120.1,120,59,59,59,2.2000000000000002,11.1,1.9,10.5,0.1,0.1,0.1,0.5,1.3,0.6,0.1,0.2,0.1,0.4,1.2,0.6,-0.3,-0.2,-0.2,-0.1,0.4,0,-0.1,-0.1,-0.1,0,0.5,0.1,0.3,0.5,0.3,0.3,0.5,0.4,0.2,0.5,0.2,0.6,0.9,0.6,0,0,0,0.2,0.3,0.2,0.3,0.3,0.3,0.2,0.3,0.3,0.5,0.5,0.5,0,0,0,0,0,0,0,0,0,0,0,0,0,0,0,0,0,0,0,0,0,0,0,0,1,1,1,2,1,1,179.6,29.6,"01:00:00",4228,0,0,0,0,0,0,0,0,0,0,0,0,0,0,0,0,0,0,0,0,30,48,2.7,1.5,0,0]
["2023-09-27T03:25:02",27,30,28,30,38,38,37,38,20.7,56.7,100,66.2,52.5,52.6,52.5,54.2,23.7,25.8,24.8,120,120,120,120,120,120,119.9,120,119.9,120,120,120,59,59,59,2.2999999999999998,4.2,2.1,3.9,0.1,0.1,0.1,0.5,0.5,0.5,0.2,0.2,0.2,0.4,0.5,0.4,-0.2,-0.2,-0.2,-0.1,0,0,-0.1,-0.1,-0.1,0,0,0,0.2,0.5,0.3,0.2,0.5,0.4,0.2,0.4,0.2,0.6,0.9,0.7,0,0,0,0.2,0.3,0.2,0.3,0.3,0.3,0.2,0.3,0.2,0.5,0.5,0.5,0,0,0,0,0,0,0,0,0,0,0,0,0,0,0,0,0,0,0,0,0,0,0,0,1,1,1,2,1,1,179.5,29.5,"01:00:00",4228,0,0,0,0,0,0,0,0,0,0,0,0,0,0,0,0,0,0,0,0,30,48,1.3,1.2,0,0]
["2023-09-27T03:26:03",27,30,28,30,38,38,37,38,20.7,56.7,100,66.2,52.5,52.6,52.5,54.2,23.2,26.3,24.6,120,120,120,120,120,120,119.9,120,119.9,120,120,120,59,59,59,2.2999999999999998,4.2,2.1,4,0.1,0.1,0.1,0.4,0.5,0.4,0.2,0.2,0.2,0.4,0.5,0.4,-0.2,-0.2,-0.2,-0.1,-0.1,-0.1,-0.1,-0.1,-0.1,0,0,0,0.3,0.5,0.3,0.2,0.5,0.3,0.1,0.4,0.2,0.6,0.9,0.7,0,0,0,0.2,0.3,0.2,0.3,0.3,0.3,0.2,0.3,0.3,0.5,0.6,0.5,0,0,0,0,0,0,0,0,0,0,0,0,0,0,0,0,0,0,0,0,0,0,0,0,1,1,1,2,1,1,179.5,29.5,"01:00:00",4228,0,0,0,0,0,0,0,0,0,0,0,0,0,0,0,0,0,0,0,0,30,48,1.3,1.2,0,0]
["2023-09-27T03:27:04",27,30,28,30,38,38,37,38,20.7,56.6,100,66.2,52.5,52.6,52.5,54.2,23.6,25,24.1,120,120,120,120,120,120,119.9,120,119.9,120,120,120,59,59,59,2.2999999999999998,4,2,3.8,0.1,0.1,0.1,0.4,0.5,0.4,0.2,0.2,0.2,0.4,0.5,0.4,-0.2,-0.2,-0.2,-0.1,0,0,-0.1,-0.1,-0.1,0,0,0,0.3,0.5,0.3,0.2,0.6,0.3,0.2,0.5,0.3,0.6,0.9,0.7,0,0,0,0.2,0.3,0.2,0.3,0.3,0.3,0.2,0.3,0.2,0.5,0.6,0.5,0,0,0,0,0,0,0,0,0,0,0,0,0,0,0,0,0,0,0,0,0,0,0,0,1,1,1,2,1,1,179.5,29.5,"01:00:00",4229,0,0,0,0,0,0,0,0,0,0,0,0,0,0,0,0,0,0,0,0,30,48,1.2,1.2,0,0]
["2023-09-27T03:28:06",27,30,28,30,38,38,37,38,20.7,56.5,100,66.3,52.5,52.6,52.5,54.2,24.1,25,24.5,120,120,120,120,120,120,119.9,120,119.9,120,120,120,59,59,59,2.2999999999999998,4,1.9,3.8,0.1,0.1,0.1,0.5,0.5,0.5,0.2,0.2,0.2,0.4,0.5,0.4,-0.2,-0.2,-0.2,-0.1,0,0,-0.1,-0.1,-0.1,0,0,0,0.2,0.5,0.3,0.2,0.5,0.4,0.1,0.4,0.2,0.6,0.8,0.6,0,0,0,0.2,0.3,0.2,0.3,0.3,0.3,0.2,0.3,0.3,0.5,0.5,0.5,0,0,0,0,0,0,0,0,0,0,0,0,0,0,0,0,0,0,0,0,0,0,0,0,1,1,1,2,1,1,179.5,29.5,"01:00:00",4229,0,0,0,0,0,0,0,0,0,0,0,0,0,0,0,0,0,0,0,0,30,48,1.2,1.2,0,0]
["2023-09-27T03:29:07",27,30,28,29,38,38,37,38,20.7,56.5,100,66.3,52.5,52.6,52.5,54.2,24.1,25.3,24.6,120,120,120,120,120,120,119.9,120,119.9,120,120,120,59,59,59,2.2999999999999998,4.0999999999999996,2,3.8,0.1,0.1,0.1,0.4,0.5,0.4,0.2,0.2,0.2,0.4,0.5,0.4,-0.2,-0.2,-0.2,-0.1,0,0,-0.1,-0.1,-0.1,0,0,0,0.2,0.5,0.3,0.2,0.5,0.4,0.2,0.6,0.2,0.6,0.8,0.6,0,0,0,0.2,0.3,0.3,0.3,0.3,0.3,0.2,0.3,0.2,0.5,0.5,0.5,0,0,0,0,0,0,0,0,0,0,0,0,0,0,0,0,0,0,0,0,0,0,0,0,1,1,1,2,1,1,179.5,29.5,"01:00:00",4230,0,0,0,0,0,0,0,0,0,0,0,0,0,0,0,0,0,0,0,0,30,48,1.3,1.2,0,0]
["2023-09-27T03:30:08",27,30,28,29,38,38,37,38,20.6,56.4,100,66.3,52.5,52.6,52.5,54.2,23,24.2,23.4,120,120,120,120,120,120,119.9,120,119.9,120,120,120,59,59,59,2.2999999999999998,3.9,2,3.7,0.1,0.1,0.1,0.4,0.5,0.4,0.2,0.2,0.2,0.4,0.4,0.4,-0.2,-0.2,-0.2,-0.1,0,0,-0.1,-0.1,-0.1,0,0,0,0.3,0.5,0.3,0.3,0.5,0.4,0,0.4,0.2,0.6,0.9,0.6,0,0,0,0.2,0.3,0.2,0.3,0.3,0.3,0.2,0.3,0.3,0.5,0.5,0.5,0,0,0,0,0,0,0,0,0,0,0,0,0,0,0,0,0,0,0,0,0,0,0,0,1,1,1,2,1,1,179.5,29.5,"01:00:00",4230,0,0,0,0,0,0,0,0,0,0,0,0,0,0,0,0,0,0,0,0,30,48,1.2,1.1000000000000001,0,0]
["2023-09-27T03:31:08",27,30,28,29,38,38,37,38,20.6,56.4,100,66.3,52.5,52.6,52.5,54.2,24,26.3,24.9,120,120,120,120,120,120,119.9,120,119.9,120,120,120,59,59,59,2.2999999999999998,4.3,1.9,4.0999999999999996,0.1,0.1,0.1,0.5,0.5,0.5,0.2,0.2,0.2,0.4,0.5,0.4,-0.2,-0.2,-0.2,-0.1,0,0,-0.1,-0.1,-0.1,0,0,0,0.3,0.6,0.3,0.3,0.6,0.4,0.1,0.4,0.2,0.6,0.9,0.6,0,0,0,0.2,0.3,0.2,0.3,0.3,0.3,0.2,0.3,0.3,0.5,0.5,0.5,0,0,0,0,0,0,0,0,0,0,0,0,0,0,0,0,0,0,0,0,0,0,0,0,1,1,1,2,1,1,179.5,29.5,"01:00:00",4230,0,0,0,0,0,0,0,0,0,0,0,0,0,0,0,0,0,0,0,0,30,48,1.3,1.2,0,0]
["2023-09-27T03:32:09",27,30,28,29,38,38,37,38,20.6,56.3,100,66.3,52.5,52.6,52.5,54.2,25.4,26.5,26.1,120,120,120,120,120,120,119.9,120,119.9,119.9,120,119.9,59,59,59,2.2999999999999998,4.4000000000000004,2.1,4.0999999999999996,0.1,0.1,0.1,0.5,0.5,0.5,0.2,0.2,0.2,0.5,0.5,0.5,-0.2,-0.2,-0.2,-0.1,0,0,-0.2,-0.1,-0.1,0,0,0,0.2,0.4,0.3,0.3,0.5,0.4,0.2,0.5,0.3,0.6,0.9,0.6,0,0,0,0.2,0.3,0.2,0.3,0.3,0.3,0.2,0.3,0.2,0.5,0.5,0.5,0,0,0,0,0,0,0,0,0,0,0,0,0,0,0,0,0,0,0,0,0,0,0,0,1,1,1,2,1,1,179.5,29.5,"01:00:00",4231,0,0,0,0,0,0,0,0,0,0,0,0,0,0,0,0,0,0,0,0,30,48,1.3,1.3,0,0]
["2023-09-27T03:33:10",27,30,28,29,38,38,37,38,20.6,56.2,100,66.3,52.5,52.6,52.5,54.2,25.1,25.7,25.3,120,120,120,120,120,120,119.9,120,119.9,120,120,120,59,59,59,2.2999999999999998,4.0999999999999996,2.1,3.8,0.1,0.1,0.1,0.5,0.5,0.5,0.2,0.2,0.2,0.4,0.5,0.4,-0.2,-0.2,-0.2,-0.1,0,0,-0.2,-0.1,-0.1,0,0,0,0.2,0.4,0.3,0.3,0.5,0.4,0.2,0.5,0.2,0.6,0.9,0.7,0,0,0,0.2,0.3,0.3,0.3,0.3,0.3,0.2,0.3,0.2,0.5,0.5,0.5,0,0,0,0,0,0,0,0,0,0,0,0,0,0,0,0,0,0,0,0,0,0,0,0,1,1,1,2,1,1,179.5,29.5,"01:00:00",4231,0,0,0,0,0,0,0,0,0,0,0,0,0,0,0,0,0,0,0,0,30,48,1.3,1.2,0,0]
["2023-09-27T03:34:11",27,30,28,29,38,38,37,38,20.6,56.1,100,66.3,52.5,52.6,52.5,54.2,23,25,23.7,120,120,120,120,120,120,119.9,120,119.9,120,120,120,59,59,59,2.2000000000000002,4,2.1,3.8,0.1,0.1,0.1,0.4,0.5,0.4,0.2,0.2,0.2,0.4,0.5,0.4,-0.2,-0.2,-0.2,-0.1,0,0,-0.2,-0.1,-0.1,0,0,0,0.3,0.5,0.3,0.3,0.5,0.4,0.2,0.5,0.2,0.6,0.9,0.6,0,0,0,0.2,0.3,0.2,0.3,0.3,0.3,0.2,0.3,0.2,0.5,0.5,0.5,0,0,0,0,0,0,0,0,0,0,0,0,0,0,0,0,0,0,0,0,0,0,0,0,1,1,1,2,1,1,179.5,29.5,"01:00:00",4232,0,0,0,0,0,0,0,0,0,0,0,0,0,0,0,0,0,0,0,0,30,48,1.2,1.1000000000000001,0,0]
["2023-09-27T03:35:11",27,30,28,29,38,38,37,38,20.5,56.1,100,66.3,52.5,52.6,52.5,54.2,21.9,24.6,23.3,120,120,120,120,120,120,119.9,120,119.9,120,120,120,59,59,59,2.2000000000000002,4.0999999999999996,2,3.8,0.1,0.1,0.1,0.4,0.5,0.4,0.2,0.2,0.2,0.4,0.5,0.4,-0.2,-0.2,-0.2,-0.1,0,0,-0.2,-0.1,-0.1,0,0,0,0.2,0.4,0.3,0.2,0.5,0.3,0.2,0.5,0.2,0.6,0.8,0.6,0,0,0,0.2,0.3,0.3,0.3,0.3,0.3,0.2,0.3,0.2,0.5,0.5,0.5,0,0,0,0,0,0,0,0,0,0,0,0,0,0,0,0,0,0,0,0,0,0,0,0,1,1,1,2,1,1,179.5,29.5,"01:00:00",4232,0,0,0,0,0,0,0,0,0,0,0,0,0,0,0,0,0,0,0,0,30,48,1.2,1.1000000000000001,0,0]
["2023-09-27T03:36:12",27,30,28,29,38,38,37,38,20.5,56,100,66.3,52.5,52.6,52.5,54.2,23.4,25.6,24.2,120,120,120,120,120,120,119.9,120,119.9,120,120,120,59,59,59,2.2000000000000002,4,2.2000000000000002,3.8,0.1,0.1,0.1,0.4,0.5,0.4,0.2,0.2,0.2,0.4,0.5,0.4,-0.2,-0.2,-0.2,-0.1,0,0,-0.2,-0.1,-0.1,0,0,0,0.2,0.5,0.3,0.3,0.5,0.4,0.1,0.4,0.2,0.6,0.8,0.6,0,0,0,0.2,0.3,0.2,0.3,0.3,0.3,0.2,0.3,0.3,0.5,0.5,0.5,0,0,0,0,0,0,0,0,0,0,0,0,0,0,0,0,0,0,0,0,0,0,0,0,1,1,1,2,1,1,179.5,29.5,"01:00:00",4232,0,0,0,0,0,0,0,0,0,0,0,0,0,0,0,0,0,0,0,0,30,48,1.3,1.1000000000000001,0,0]
["2023-09-27T03:37:13",27,30,28,29,38,38,37,38,20.5,55.9,100,66.3,52.5,52.6,52.5,54.2,24.2,24.8,24.5,120,120,120,120,120,120,120,120,120,120,120,120,59,59,59,2.2000000000000002,4.0999999999999996,2.1,3.9,0.1,0.1,0.1,0.5,0.5,0.5,0.2,0.2,0.2,0.4,0.5,0.4,-0.2,-0.2,-0.2,-0.1,0,0,-0.2,-0.1,-0.1,0,0,0,0.3,0.5,0.3,0.2,0.5,0.3,0.1,0.4,0.2,0.5,0.9,0.6,0,0,0,0.2,0.3,0.3,0.3,0.3,0.3,0.2,0.3,0.3,0.5,0.5,0.5,0,0,0,0,0,0,0,0,0,0,0,0,0,0,0,0,0,0,0,0,0,0,0,0,1,1,1,2,1,1,179.5,29.5,"01:00:00",4233,0,0,0,0,0,0,0,0,0,0,0,0,0,0,0,0,0,0,0,0,30,48,1.2,1.2,0,0]
["2023-09-27T03:38:14",27,30,28,29,38,38,37,38,20.5,55.9,100,66.3,52.5,52.6,52.5,54.2,24.2,25.7,24.7,120,120,120,120,120,120,119.9,120,119.9,120,120,120,59,59,59,2.2000000000000002,4.3,1.9,4.0999999999999996,0.1,0.1,0.1,0.5,0.5,0.5,0.2,0.2,0.2,0.5,0.5,0.5,-0.2,-0.2,-0.2,-0.1,0,0,-0.1,-0.1,-0.1,0,0,0,0.2,0.5,0.3,0.2,0.5,0.3,0.1,0.3,0.2,0.6,0.9,0.7,0,0,0,0.2,0.3,0.2,0.3,0.3,0.3,0.3,0.3,0.3,0.5,0.6,0.5,0,0,0,0,0,0,0,0,0,0,0,0,0,0,0,0,0,0,0,0,0,0,0,0,1,1,1,2,1,1,179.5,29.5,"01:00:00",4233,0,0,0,0,0,0,0,0,0,0,0,0,0,0,0,0,0,0,0,0,30,48,1.3,1.2,0,0]
["2023-09-27T03:39:14",27,30,28,29,38,38,37,38,20.5,55.8,100,66.3,52.5,52.6,52.5,54.2,23.6,24.9,23.8,120,120,120,120,120,120,119.9,120,119.9,120,120,120,59,59,59,2.2000000000000002,4,1.9,3.8,0.1,0.1,0.1,0.5,0.5,0.5,0.2,0.2,0.2,0.4,0.5,0.4,-0.2,-0.2,-0.2,-0.1,0,0,-0.1,-0.1,-0.1,0,0,0,0.2,0.6,0.3,0.2,0.5,0.3,0.1,0.4,0.2,0.6,0.8,0.6,0,0,0,0.2,0.3,0.2,0.3,0.3,0.3,0.2,0.3,0.3,0.5,0.5,0.5,0,0,0,0,0,0,0,0,0,0,0,0,0,0,0,0,0,0,0,0,0,0,0,0,1,1,1,2,1,1,179.5,29.5,"01:00:00",4234,0,0,0,0,0,0,0,0,0,0,0,0,0,0,0,0,0,0,0,0,30,48,1.2,1.2,0,0]
["2023-09-27T03:40:15",27,30,28,29,38,38,37,38,20.5,55.7,100,66.3,52.5,52.6,52.5,54.2,23.6,25.2,24.6,120,120,120,120,120,120,119.9,120,119.9,120,120,120,59,59,59,2.2999999999999998,4.0999999999999996,2.1,3.8,0.1,0.1,0.1,0.5,0.5,0.5,0.2,0.2,0.2,0.4,0.5,0.4,-0.2,-0.2,-0.2,-0.1,0,0,-0.1,-0.1,-0.1,0,0,0,0.2,0.5,0.3,0.2,0.5,0.3,0.1,0.4,0.2,0.6,0.9,0.6,0,0,0,0.2,0.3,0.2,0.3,0.3,0.3,0.3,0.3,0.3,0.5,0.5,0.5,0,0,0,0,0,0,0,0,0,0,0,0,0,0,0,0,0,0,0,0,0,0,0,0,1,1,1,2,1,1,179.5,29.5,"01:00:00",4234,0,0,0,0,0,0,0,0,0,0,0,0,0,0,0,0,0,0,0,0,30,48,1.3,1.2,0,0]
["2023-09-27T03:41:16",27,30,28,29,38,38,37,38,20.5,55.7,100,66.3,52.5,52.6,52.5,54.2,23.8,25.5,24.4,120,120,120,120,120,120,119.9,120,119.9,120,120,120,59,59,59,2.2999999999999998,4,2.1,3.8,0.1,0.1,0.1,0.4,0.5,0.4,0.2,0.2,0.2,0.4,0.5,0.4,-0.2,-0.2,-0.2,-0.1,0,0,-0.1,-0.1,-0.1,0,0,0,0.2,0.5,0.3,0.2,0.5,0.3,0.1,0.4,0.2,0.6,0.9,0.6,0,0,0,0.2,0.3,0.2,0.3,0.3,0.3,0.3,0.3,0.3,0.5,0.5,0.5,0,0,0,0,0,0,0,0,0,0,0,0,0,0,0,0,0,0,0,0,0,0,0,0,1,1,1,2,1,1,179.5,29.5,"01:00:00",4234,0,0,0,0,0,0,0,0,0,0,0,0,0,0,0,0,0,0,0,0,30,48,1.3,1.2,0,0]
["2023-09-27T03:42:16",27,30,28,29,38,38,37,38,20.5,55.6,100,66.3,52.5,52.6,52.5,54.2,23.3,25.3,24.2,120,120,120,120,120,120,119.9,120,119.9,119.9,120,119.9,59,59,59,2.2000000000000002,4.0999999999999996,1.9,3.9,0.1,0.1,0.1,0.4,0.5,0.4,0.2,0.2,0.2,0.4,0.5,0.4,-0.2,-0.2,-0.2,-0.1,0,0,-0.1,-0.1,-0.1,0,0,0,0.2,0.6,0.3,0.2,0.8,0.4,0.2,0.4,0.3,0.5,0.8,0.6,0,0,0,0.2,0.3,0.2,0.3,0.3,0.3,0.2,0.3,0.2,0.5,0.5,0.5,0,0,0,0,0,0,0,0,0,0,0,0,0,0,0,0,0,0,0,0,0,0,0,0,1,1,1,2,1,1,179.5,29.5,"01:00:00",4235,0,0,0,0,0,0,0,0,0,0,0,0,0,0,0,0,0,0,0,0,30,48,1.2,1.1000000000000001,0,0]
["2023-09-27T03:43:17",27,30,28,29,38,38,37,38,20.5,55.5,100,66.3,52.5,52.5,52.5,54.2,24.4,26.6,25.3,120,120,120,120,120,120,119.9,120,119.9,120,120,120,59,59,59,2.2999999999999998,4.2,2.1,4,0.1,0.1,0.1,0.5,0.5,0.5,0.2,0.2,0.2,0.4,0.5,0.4,-0.2,-0.2,-0.2,-0.1,0,0,-0.2,-0.1,-0.1,0,0,0,0.2,0.5,0.3,0.3,0.5,0.3,0.1,0.4,0.2,0.6,0.9,0.6,0,0,0,0.2,0.3,0.2,0.3,0.3,0.3,0.2,0.3,0.2,0.5,0.5,0.5,0,0,0,0,0,0,0,0,0,0,0,0,0,0,0,0,0,0,0,0,0,0,0,0,1,1,1,2,1,1,179.5,29.5,"01:00:00",4235,0,0,0,0,0,0,0,0,0,0,0,0,0,0,0,0,0,0,0,0,30,48,1.3,1.2,0,0]
["2023-09-27T03:44:18",27,30,28,29,38,38,37,38,20.5,55.5,100,66.3,52.5,52.5,52.5,54.2,23.6,26.7,25.9,120,120,120,120,120,120,119.9,120,119.9,120,120,120,59,59,59,2.2999999999999998,4.3,2.1,4,0.1,0.1,0.1,0.5,0.5,0.5,0.2,0.2,0.2,0.4,0.5,0.4,-0.2,-0.2,-0.2,-0.1,0,0,-0.1,-0.1,-0.1,0,0,0,0.2,0.5,0.3,0.2,0.4,0.3,0.1,0.4,0.2,0.6,0.8,0.6,0,0,0,0.2,0.3,0.3,0.3,0.3,0.3,0.2,0.3,0.3,0.5,0.5,0.5,0,0,0,0,0,0,0,0,0,0,0,0,0,0,0,0,0,0,0,0,0,0,0,0,1,1,1,2,1,1,179.5,29.5,"01:00:00",4236,0,0,0,0,0,0,0,0,0,0,0,0,0,0,0,0,0,0,0,0,30,48,1.3,1.2,0,0]
["2023-09-27T03:45:19",27,30,28,29,38,38,37,38,20.5,55.5,100,66.3,52.5,52.6,52.5,54.2,21.5,23.6,22.4,120,120,120,120,120,120,119.9,120,119.9,120,120,120,59,59,59,2.2000000000000002,3.8,1.9,3.6,0.1,0.1,0.1,0.4,0.5,0.4,0.2,0.2,0.2,0.4,0.4,0.4,-0.2,-0.2,-0.2,-0.1,0,0,-0.2,-0.1,-0.1,0,0,0,0.3,0.5,0.3,0.2,0.5,0.3,0.1,0.3,0.2,0.6,0.9,0.6,0,0,0,0.2,0.3,0.3,0.3,0.3,0.3,0.3,0.3,0.3,0.5,0.5,0.5,0,0,0,0,0,0,0,0,0,0,0,0,0,0,0,0,0,0,0,0,0,0,0,0,1,1,1,2,1,1,179.5,29.5,"01:00:00",4236,0,0,0,0,0,0,0,0,0,0,0,0,0,0,0,0,0,0,0,0,30,48,1.2,1.1000000000000001,0,0]
["2023-09-27T03:46:20",27,30,28,29,38,38,37,38,20.5,55.4,100,66.3,52.5,52.6,52.5,54.2,21.5,23.7,22.3,120,120,120,120,120,120,119.9,120,119.9,119.9,120,119.9,59,59,59,2.2000000000000002,3.8,2,3.6,0.1,0.1,0.1,0.4,0.4,0.4,0.2,0.2,0.2,0.4,0.4,0.4,-0.2,-0.2,-0.2,-0.1,0,0,-0.2,-0.1,-0.1,0,0,0,0.3,0.5,0.3,0.2,0.5,0.3,0.1,0.4,0.2,0.6,0.8,0.6,0,0,0,0.2,0.3,0.2,0.3,0.3,0.3,0.3,0.3,0.3,0.5,0.5,0.5,0,0,0,0,0,0,0,0,0,0,0,0,0,0,0,0,0,0,0,0,0,0,0,0,1,1,1,2,1,1,179.5,29.5,"01:00:00",4236,0,0,0,0,0,0,0,0,0,0,0,0,0,0,0,0,0,0,0,0,30,48,1.2,1.1000000000000001,0,0]
["2023-09-27T03:47:22",27,30,28,29,38,38,37,38,20.5,55.3,100,66.3,52.5,52.5,52.5,54.2,23,25.8,24.3,120,120,120,120,120,120,119.9,120,119.9,120,120,120,59,59,59,2.2999999999999998,4,2.2000000000000002,3.8,0.1,0.1,0.1,0.4,0.5,0.4,0.2,0.2,0.2,0.4,0.5,0.4,-0.2,-0.2,-0.2,-0.1,0,0,-0.1,-0.1,-0.1,0,0,0,0.2,0.5,0.3,0.2,0.5,0.3,0.1,0.4,0.2,0.5,0.9,0.6,0,0,0,0.2,0.3,0.2,0.3,0.3,0.3,0.3,0.3,0.3,0.5,0.5,0.5,0,0,0,0,0,0,0,0,0,0,0,0,0,0,0,0,0,0,0,0,0,0,0,0,1,1,1,2,1,1,179.5,29.5,"01:00:00",4237,0,0,0,0,0,0,0,0,0,0,0,0,0,0,0,0,0,0,0,0,30,48,1.3,1.1000000000000001,0,0]
["2023-09-27T03:48:23",27,31,28,30,38,38,37,38,20.5,55.2,100,66.3,52.3,52.5,52.3,54.2,25.2,58,50.5,120,120,120,119.8,120.1,120,119.9,120,119.9,119.8,120.1,119.9,59,59,59,2.4,11.6,2.2000000000000002,11.3,0.1,0.1,0.1,0.5,1.3,1.1000000000000001,0.2,0.2,0.2,0.4,1.3,1,-0.2,-0.2,-0.2,-0.1,0.5,0.3,-0.1,-0.1,-0.1,0,0.5,0.3,0.2,0.4,0.3,0.2,0.5,0.3,0.1,0.3,0.2,0.5,0.9,0.6,0,0,0,0.2,0.3,0.3,0.3,0.3,0.3,0.3,0.3,0.3,0.5,0.5,0.5,0,0,0,0,0,0,0,0,0,0,0,0,0,0,0,0,0,0,0,0,0,0,0,0,1,1,1,2,1,1,179.5,29.5,"01:00:00",4238,0,0,0,0,0,0,0,0,0,0,0,0,0,0,0,0,0,0,0,0,30,48,2.9,2.4,0,0]
["2023-09-27T03:49:23",27,31,28,30,38,38,37,38,20.5,55.1,100,66.3,52.5,52.5,52.5,54.2,23.7,25.2,24.3,120,120,120,120,120,120,119.9,120,119.9,119.9,120,120,59,59,59,2.2000000000000002,4.0999999999999996,1.9,3.8,0.1,0.1,0.1,0.5,0.5,0.5,0.2,0.2,0.2,0.4,0.5,0.4,-0.2,-0.2,-0.2,-0.1,0,0,-0.1,-0.1,-0.1,0,0,0,0.3,0.5,0.3,0.3,0.5,0.3,0.2,0.4,0.2,0.5,0.7,0.6,0,0,0,0.2,0.3,0.2,0.3,0.3,0.3,0.2,0.3,0.3,0.5,0.5,0.5,0,0,0,0,0,0,0,0,0,0,0,0,0,0,0,0,0,0,0,0,0,0,0,0,1,1,1,2,1,1,179.5,29.5,"01:00:00",4238,0,0,0,0,0,0,0,0,0,0,0,0,0,0,0,0,0,0,0,0,30,48,1.2,1.2,0,0]
["2023-09-27T03:50:24",27,30,28,29,38,38,37,38,20.5,55.1,100,66.3,52.5,52.5,52.5,54.2,23.9,25.7,24.7,120,120,120,120,120,120,119.9,120,119.9,120,120,120,59,59,59,2.2000000000000002,4.3,2,4.0999999999999996,0.1,0.1,0.1,0.5,0.5,0.5,0.2,0.2,0.2,0.4,0.5,0.4,-0.2,-0.2,-0.2,-0.1,0,0,-0.1,-0.1,-0.1,0,0,0,0.3,0.6,0.3,0.2,0.6,0.3,0.2,0.4,0.2,0.5,0.7,0.6,0,0,0,0.2,0.3,0.2,0.3,0.3,0.3,0.2,0.3,0.2,0.5,0.5,0.5,0,0,0,0,0,0,0,0,0,0,0,0,0,0,0,0,0,0,0,0,0,0,0,0,1,1,1,2,1,1,179.5,29.5,"01:00:00",4238,0,0,0,0,0,0,0,0,0,0,0,0,0,0,0,0,0,0,0,0,30,48,1.3,1.2,0,0]
["2023-09-27T03:51:25",27,30,28,29,38,38,37,38,20.5,55,100,66.3,52.5,52.5,52.5,54.2,24.5,26.5,25.5,120,120,120,120,120,120,119.9,120,119.9,120,120,120,59,59,59,2.4,4.0999999999999996,2.2000000000000002,3.9,0.1,0.1,0.1,0.4,0.5,0.4,0.2,0.2,0.2,0.4,0.5,0.4,-0.2,-0.2,-0.2,-0.1,0,0,-0.2,-0.1,-0.1,0,0,0,0.3,0.6,0.3,0.2,0.5,0.4,0.1,0.5,0.2,0.4,0.7,0.6,0,0,0,0.2,0.3,0.2,0.3,0.3,0.3,0.2,0.3,0.2,0.5,0.5,0.5,0,0,0,0,0,0,0,0,0,0,0,0,0,0,0,0,0,0,0,0,0,0,0,0,1,1,1,2,1,1,179.5,29.5,"01:00:00",4239,0,0,0,0,0,0,0,0,0,0,0,0,0,0,0,0,0,0,0,0,30,48,1.3,1.2,0,0]
["2023-09-27T03:52:26",27,30,28,29,38,38,37,38,20.5,55,100,66.3,52.5,52.5,52.5,54.2,22.7,24.5,23.6,120,120,120,120,120,120,119.9,120,119.9,119.9,120,119.9,59,59,59,2.4,3.8,2.1,3.6,0.1,0.1,0.1,0.4,0.4,0.4,0.2,0.2,0.2,0.4,0.4,0.4,-0.2,-0.2,-0.2,-0.1,0,0,-0.1,-0.1,-0.1,0,0,0,0.2,0.5,0.3,0.2,0.5,0.4,0.2,0.4,0.2,0.5,0.8,0.6,0,0,0,0.2,0.3,0.2,0.3,0.3,0.3,0.2,0.3,0.2,0.5,0.5,0.5,0,0,0,0,0,0,0,0,0,0,0,0,0,0,0,0,0,0,0,0,0,0,0,0,1,1,1,2,1,1,179.5,29.5,"01:00:00",4239,0,0,0,0,0,0,0,0,0,0,0,0,0,0,0,0,0,0,0,0,30,48,1.2,1.1000000000000001,0,0]
["2023-09-27T03:53:27",27,30,28,29,38,38,37,38,20.5,54.9,100,66.3,52.5,52.5,52.5,54.2,22.2,23.3,22.7,120,120,120,120,120,120,119.9,120,119.9,120,120,120,59,59,59,2.2000000000000002,3.9,1.7,3.7,0.1,0.1,0.1,0.4,0.5,0.4,0.1,0.2,0.1,0.4,0.4,0.4,-0.3,-0.2,-0.2,-0.1,0,0,-0.1,-0.1,-0.1,0,0,0,0.2,0.5,0.3,0.3,0.6,0.4,0.2,0.5,0.2,0.5,0.8,0.6,0,0,0,0.2,0.3,0.2,0.3,0.3,0.3,0.2,0.3,0.2,0.5,0.5,0.5,0,0,0,0,0,0,0,0,0,0,0,0,0,0,0,0,0,0,0,0,0,0,0,0,1,1,1,2,1,1,179.5,29.5,"01:00:00",4240,0,0,0,0,0,0,0,0,0,0,0,0,0,0,0,0,0,0,0,0,30,48,1.1000000000000001,1.1000000000000001,0,0]
["2023-09-27T03:54:27",27,30,28,29,38,38,37,38,20.5,54.9,100,66.3,52.5,52.5,52.5,54.2,23.5,25.7,24.7,120,120,120,120,120,120,119.9,120,119.9,119.9,120,119.9,59,59,59,2.2999999999999998,4.0999999999999996,2.1,3.9,0.1,0.1,0.1,0.5,0.5,0.5,0.1,0.2,0.1,0.4,0.5,0.4,-0.3,-0.2,-0.2,-0.1,0,0,-0.1,-0.1,-0.1,0,0,0,0.3,0.5,0.3,0.3,0.5,0.4,0.2,0.8,0.3,0.6,0.8,0.6,0,0,0,0.2,0.3,0.2,0.3,0.3,0.3,0.2,0.3,0.2,0.5,0.5,0.5,0,0,0,0,0,0,0,0,0,0,0,0,0,0,0,0,0,0,0,0,0,0,0,0,1,1,1,2,1,1,179.5,29.5,"01:00:00",4240,0,0,0,0,0,0,0,0,0,0,0,0,0,0,0,0,0,0,0,0,30,48,1.3,1.2,0,0]
["2023-09-27T03:55:28",27,30,28,29,38,38,37,38,20.5,54.8,100,66.3,52.5,52.5,52.5,54.2,23.8,25,24.6,120,120,120,120,120,120,119.9,120,119.9,119.9,120,120,59,59,59,2.2999999999999998,3.9,2.1,3.7,0.1,0.1,0.1,0.4,0.5,0.4,0.2,0.2,0.2,0.4,0.4,0.4,-0.2,-0.2,-0.2,-0.1,0,0,-0.1,-0.1,-0.1,0,0,0,0.3,0.6,0.3,0.1,0.6,0.3,0.2,0.5,0.3,0.6,0.7,0.6,0,0,0,0.2,0.3,0.2,0.3,0.3,0.3,0.2,0.3,0.2,0.5,0.5,0.5,0,0,0,0,0,0,0,0,0,0,0,0,0,0,0,0,0,0,0,0,0,0,0,0,1,1,1,2,1,1,179.5,29.5,"01:00:00",4240,0,0,0,0,0,0,0,0,0,0,0,0,0,0,0,0,0,0,0,0,30,48,1.2,1.2,0,0]
["2023-09-27T03:56:29",27,30,28,29,38,38,37,38,20.5,54.7,100,66.3,52.5,52.5,52.5,54.2,22.9,31,27,120,120,120,120,120,120,119.9,120,119.9,119.9,120,119.9,59,59,59,2.2999999999999998,5.5,2,5.3,0.1,0.1,0.1,0.4,0.7,0.5,0.1,0.2,0.1,0.4,0.6,0.5,-0.3,-0.2,-0.2,-0.1,0,0,-0.1,-0.1,-0.1,0,0,0,0.2,0.5,0.3,0.3,0.6,0.4,0.2,0.5,0.3,0.6,0.8,0.6,0,0,0,0.2,0.3,0.2,0.3,0.3,0.3,0.2,0.3,0.2,0.5,0.5,0.5,0,0,0,0,0,0,0,0,0,0,0,0,0,0,0,0,0,0,0,0,0,0,0,0,1,1,1,2,1,1,179.5,29.5,"01:00:00",4241,0,0,0,0,0,0,0,0,0,0,0,0,0,0,0,0,0,0,0,0,30,48,1.6,1.3,0,0]
["2023-09-27T03:57:32",27,30,28,29,38,38,37,38,20.5,54.7,100,66.3,52.5,52.5,52.5,54.2,23.7,28.3,25.1,120,120,120,120,120,120,119.9,120,119.9,119.9,120,119.9,59,59,59,2.2000000000000002,5,1.7,4.8,0.1,0.1,0.1,0.5,0.6,0.5,0.1,0.2,0.1,0.5,0.6,0.5,-0.3,-0.2,-0.2,-0.1,0,0,-0.1,-0.1,-0.1,0,0,0,0.2,0.5,0.3,0.2,0.5,0.3,0.2,0.5,0.3,0.6,0.9,0.6,0,0,0,0.2,0.3,0.3,0.3,0.3,0.3,0.2,0.3,0.2,0.5,0.5,0.5,0,0,0,0,0,0,0,0,0,0,0,0,0,0,0,0,0,0,0,0,0,0,0,0,1,1,1,2,1,1,179.5,29.5,"01:00:00",4241,0,0,0,0,0,0,0,0,0,0,0,0,0,0,0,0,0,0,0,0,30,48,1.4,1.2,0,0]
["2023-09-27T03:58:33",27,30,28,29,38,38,37,38,20.5,54.6,100,66.3,52.5,52.5,52.5,54.2,23.8,25.6,24.7,120,120,120,120,120,120,119.9,120,119.9,120,120,120,59,59,59,2.4,4.0999999999999996,2.1,3.8,0.1,0.1,0.1,0.5,0.5,0.5,0.2,0.2,0.2,0.4,0.5,0.4,-0.3,-0.2,-0.2,-0.1,0,0,-0.1,-0.1,-0.1,0,0,0,0.2,0.4,0.3,0.2,0.4,0.2,0.2,0.5,0.3,0.5,0.7,0.6,0,0,0,0.2,0.3,0.3,0.3,0.3,0.3,0.2,0.3,0.2,0.5,0.5,0.5,0,0,0,0,0,0,0,0,0,0,0,0,0,0,0,0,0,0,0,0,0,0,0,0,1,1,1,2,1,1,179.5,29.5,"01:00:00",4242,0,0,0,0,0,0,0,0,0,0,0,0,0,0,0,0,0,0,0,0,30,48,1.3,1.2,0,0]
["2023-09-27T03:59:34",27,30,28,29,38,38,37,38,20.5,54.5,100,66.3,52.5,52.5,52.5,54.2,24,25.6,24.7,120,120,120,120,120,120,119.9,120,119.9,120,120,120,59,59,59,2.4,4,2.1,3.8,0.1,0.1,0.1,0.5,0.5,0.5,0.2,0.2,0.2,0.4,0.5,0.4,-0.2,-0.2,-0.2,-0.1,0,0,-0.1,-0.1,-0.1,0,0,0,0.3,0.5,0.3,0.2,0.6,0.3,0.2,0.5,0.3,0.5,0.7,0.6,0,0,0,0.2,0.3,0.2,0.3,0.3,0.3,0.2,0.3,0.2,0.5,0.5,0.5,0,0,0,0,0,0,0,0,0,0,0,0,0,0,0,0,0,0,0,0,0,0,0,0,1,1,1,2,1,1,179.5,29.5,"01:00:00",4242,0,0,0,0,0,0,0,0,0,0,0,0,0,0,0,0,0,0,0,0,30,48,1.3,1.2,0,0]
["2023-09-27T04:01:34",27,30,28,29,38,38,37,37,20.399999999999999,54.4,100,66.3,52.5,52.5,52.5,54.2,25,25.9,25.3,120,120,120,120,120,120,119.9,120,119.9,120,120,120,59,59,59,2.2999999999999998,4.4000000000000004,1.9,4.0999999999999996,0.1,0.1,0.1,0.5,0.5,0.5,0.2,0.2,0.2,0.5,0.5,0.5,-0.2,-0.2,-0.2,-0.1,0,0,-0.1,-0.1,-0.1,0,0,0,0.2,0.5,0.3,0.2,0.5,0.3,0.2,0.4,0.2,0.6,0.9,0.6,0,0,0,0.2,0.3,0.2,0.3,0.3,0.3,0.2,0.3,0.2,0.5,0.5,0.5,0,0,0,0,0,0,0,0,0,0,0,0,0,0,0,0,0,0,0,0,0,0,0,0,1,1,1,2,1,1,179.5,29.5,"01:00:00",4243,0,0,0,0,0,0,0,0,0,0,0,0,0,0,0,0,0,0,0,0,30,48,1.3,1.2,0,0]
["2023-09-27T04:05:38",27,30,28,29,38,38,37,38,20.399999999999999,54,100,66.3,52.4,52.5,52.4,54.2,24.3,31.5,28.5,120,120,120,120,120,120,119.9,120,119.9,120,120,120,59,59,59,2.2999999999999998,5.9,1.9,5.6,0.1,0.1,0.1,0.5,0.7,0.5,0.2,0.2,0.2,0.5,0.7,0.5,-0.3,-0.2,-0.2,-0.1,0,0,-0.1,-0.1,-0.1,0,0,0,0.2,0.5,0.3,0.2,0.6,0.4,0.2,0.5,0.3,0.6,0.7,0.6,0,0,0,0.2,0.3,0.2,0.3,0.3,0.3,0.2,0.3,0.2,0.5,0.5,0.5,0,0,0,0,0,0,0,0,0,0,0,0,0,0,0,0,0,0,0,0,0,0,0,0,1,1,1,2,1,1,179.5,29.5,"01:00:00",4245,0,0,0,0,0,0,0,0,0,0,0,0,0,0,0,0,0,0,0,0,30,48,1.6,1.4,0,0]
["2023-09-27T04:12:43",27,30,28,29,38,38,37,38,20.3,53.5,100,66.3,52.4,52.5,52.4,54.2,27.3,29.3,28.4,120,120,120,120,120,120,119.9,120,119.9,119.9,120,119.9,59,59,59,2.2999999999999998,5.0999999999999996,2,4.8,0.1,0.1,0.1,0.6,0.6,0.6,0.1,0.2,0.1,0.5,0.6,0.5,-0.3,-0.2,-0.2,-0.1,0,0,-0.1,-0.1,-0.1,0,0,0,0.2,0.5,0.3,0.3,0.5,0.4,0.2,0.6,0.3,0.6,0.8,0.6,0,0,0,0.2,0.3,0.2,0.3,0.3,0.3,0.2,0.3,0.2,0.5,0.5,0.5,0,0,0,0,0,0,0,0,0,0,0,0,0,0,0,0,0,0,0,0,0,0,0,0,1,1,1,2,1,1,179.5,29.5,"01:00:00",4248,0,0,0,0,0,0,0,0,0,0,0,0,0,0,0,0,0,0,0,0,30,48,1.5,1.4,0,0]
["2023-09-27T04:15:45",27,30,28,29,37,38,37,37,20.3,53.2,100,66.3,52.4,52.5,52.4,54.2,27.7,32,29.4,120,120,120,120,120,120,119.9,120,119.9,120,120,120,59,59,59,2.2999999999999998,5.8,1.7,5.5,0.1,0.1,0.1,0.6,0.7,0.6,0.1,0.2,0.1,0.5,0.7,0.6,-0.3,-0.2,-0.2,-0.1,0,0,-0.1,-0.1,-0.1,0,0,0,0.1,0.5,0.3,0.3,0.5,0.4,0.2,0.5,0.3,0.6,0.9,0.6,0,0,0,0.2,0.3,0.2,0.3,0.4,0.3,0.2,0.3,0.2,0.5,0.5,0.5,0,0,0,0,0,0,0,0,0,0,0,0,0,0,0,0,0,0,0,0,0,0,0,0,1,1,1,2,1,1,179.5,29.5,"01:00:00",4250,0,0,0,0,0,0,0,0,0,0,0,0,0,0,0,0,0,0,0,0,30,48,1.6,1.4,0,0]
["2023-09-27T04:19:49",27,30,28,29,37,38,37,37,20.2,52.9,100,66.3,52.4,52.5,52.4,54.2,27.6,32.700000000000003,30.8,120,120,120,120,120,120,119.9,120,119.9,120,120,120,59,59,59,2.2999999999999998,5.8,1.8,5.5,0.1,0.1,0.1,0.6,0.7,0.6,0.1,0.2,0.1,0.5,0.7,0.6,-0.3,-0.2,-0.2,-0.1,0,0,-0.1,-0.1,-0.1,0,0,0,0.2,0.4,0.3,0.4,0.5,0.4,0.2,0.4,0.2,0.5,0.7,0.6,0,0,0,0.2,0.3,0.3,0.3,0.3,0.3,0.2,0.3,0.3,0.5,0.5,0.5,0,0,0,0,0,0,0,0,0,0,0,0,0,0,0,0,0,0,0,0,0,0,0,0,1,1,1,2,1,1,179.5,29.5,"01:00:00",4252,0,0,0,0,0,0,0,0,0,0,0,0,0,0,0,0,0,0,0,0,30,48,1.6,1.5,0,0]
["2023-09-27T04:24:53",27,30,28,29,37,38,37,37,20.2,52.6,100,66.3,52.4,52.5,52.4,54.2,28.5,29.7,28.9,120,120,120,120,120,120,119.9,120,119.9,120,120,120,59,59,59,2.2999999999999998,5.0999999999999996,1.9,4.8,0.1,0.1,0.1,0.6,0.6,0.6,0.2,0.2,0.2,0.6,0.6,0.6,-0.2,-0.2,-0.2,-0.1,0,0,-0.1,-0.1,-0.1,0,0,0,0.2,0.6,0.3,0.4,0.6,0.4,0.2,0.4,0.2,0.6,0.8,0.6,0,0,0,0.2,0.3,0.2,0.3,0.4,0.3,0.2,0.3,0.2,0.5,0.5,0.5,0,0,0,0,0,0,0,0,0,0,0,0,0,0,0,0,0,0,0,0,0,0,0,0,1,1,1,2,1,1,179.5,29.5,"01:00:00",4254,0,0,0,0,0,0,0,0,0,0,0,0,0,0,0,0,0,0,0,0,30,48,1.5,1.4,0,0]
["2023-09-27T04:30:59",27,30,28,29,37,38,37,37,20.2,52.1,100,66.3,52.4,52.4,52.4,54.2,27.7,31.8,28.8,120,120,120,120,120,120,119.9,120,119.9,119.9,120,120,59,59,59,2.2999999999999998,5.7,1.9,5.4,0.1,0.1,0.1,0.6,0.7,0.6,0.2,0.2,0.2,0.5,0.6,0.6,-0.3,-0.2,-0.2,-0.1,0,0,-0.1,-0.1,-0.1,0,0,0,0.3,0.5,0.3,0.3,0.6,0.4,0.2,0.5,0.2,0.5,0.8,0.6,0,0,0,0.2,0.3,0.2,0.3,0.4,0.3,0.2,0.3,0.3,0.5,0.5,0.5,0,0,0,0,0,0,0,0,0,0,0,0,0,0,0,0,0,0,0,0,0,0,0,0,1,1,1,2,1,1,179.5,29.5,"01:00:00",4257,0,0,0,0,0,0,0,0,0,0,0,0,0,0,0,0,0,0,0,0,30,48,1.6,1.4,0,0]
["2023-09-27T04:35:02",27,30,28,29,37,38,37,37,20.2,51.9,100,66.3,52.4,52.5,52.4,54.2,27.9,29.1,28.4,120,120,120,120,120,120,119.9,120,119.9,119.9,120,119.9,59,59,59,2.2999999999999998,5.0999999999999996,2,4.8,0.1,0.1,0.1,0.6,0.6,0.6,0.1,0.2,0.1,0.5,0.6,0.5,-0.3,-0.2,-0.2,-0.1,0,0,-0.1,-0.1,-0.1,0,0,0,0.2,0.4,0.3,0.4,0.7,0.5,0.1,0.5,0.3,0.6,0.8,0.6,0,0,0,0.2,0.3,0.3,0.3,0.4,0.3,0.2,0.3,0.2,0.5,0.5,0.5,0,0,0,0,0,0,0,0,0,0,0,0,0,0,0,0,0,0,0,0,0,0,0,0,1,1,1,2,1,1,179.5,29.5,"01:00:00",4259,0,0,0,0,0,0,0,0,0,0,0,0,0,0,0,0,0,0,0,0,30,48,1.5,1.4,0,0]
["2023-09-27T04:38:05",27,31,28,30,37,38,37,37,20.2,51.6,100,66.3,52.4,52.4,52.4,54.2,26.5,27.9,27.2,120,120,120,120,120,120,119.9,120,119.9,119.9,120,119.9,59,59,59,2.2000000000000002,4.9000000000000004,1.8,4.5999999999999996,0.1,0.1,0.1,0.6,0.6,0.6,0.1,0.2,0.1,0.5,0.6,0.5,-0.3,-0.2,-0.2,-0.1,0,0,-0.1,-0.1,-0.1,0,0,0,0.2,0.6,0.3,0.3,0.6,0.4,0.2,0.5,0.3,0.4,0.7,0.6,0,0,0,0.2,0.3,0.2,0.3,0.4,0.3,0.2,0.3,0.2,0.5,0.5,0.5,0,0,0,0,0,0,0,0,0,0,0,0,0,0,0,0,0,0,0,0,0,0,0,0,1,1,1,2,1,1,179.5,29.5,"01:00:00",4261,0,0,0,0,0,0,0,0,0,0,0,0,0,0,0,0,0,0,0,0,30,48,1.4,1.3,0,0]
["2023-09-27T04:45:09",27,30,28,29,37,38,37,37,20.3,51.1,100,66.3,52.4,52.5,52.4,54.2,24.9,32.6,27.2,120,120,120,120,120,120,119.9,120,119.9,119.9,120,119.9,59,59,59,2.2000000000000002,6.1,1.9,5.8,0.1,0.1,0.1,0.5,0.7,0.5,0.2,0.2,0.2,0.5,0.7,0.5,-0.2,-0.2,-0.2,-0.1,-0.1,-0.1,-0.1,-0.1,-0.1,0,0,0,0.3,0.5,0.3,0.3,0.5,0.4,0.2,0.5,0.3,0.5,0.8,0.6,0,0,0,0.2,0.3,0.2,0.3,0.4,0.3,0.2,0.3,0.2,0.5,0.5,0.5,0,0,0,0,0,0,0,0,0,0,0,0,0,0,0,0,0,0,0,0,0,0,0,0,1,1,1,2,1,1,179.5,29.5,"01:00:00",4264,0,0,0,0,0,0,0,0,0,0,0,0,0,0,0,0,0,0,0,0,30,48,1.7,1.3,0,0]
["2023-09-27T04:49:13",27,30,28,29,37,38,37,37,20.3,50.9,100,66.3,52.4,52.5,52.4,54.2,22.7,29.6,26.2,120,120,120,120,120,120,119.9,120,120,119.9,120,119.9,59,59,59,2.2000000000000002,5.0999999999999996,2,4.8,0.1,0.1,0.1,0.4,0.6,0.5,0.2,0.2,0.2,0.4,0.6,0.4,-0.2,-0.2,-0.2,-0.1,0,0,-0.2,-0.1,-0.1,0,0,0,0.2,0.4,0.3,0.3,0.5,0.4,0.2,0.4,0.2,0.5,0.9,0.6,0,0,0,0.2,0.3,0.3,0.3,0.3,0.3,0.2,0.3,0.3,0.5,0.5,0.5,0,0,0,0,0,0,0,0,0,0,0,0,0,0,0,0,0,0,0,0,0,0,0,0,1,1,1,2,1,1,179.5,29.5,"01:00:00",4266,0,0,0,0,0,0,0,0,0,0,0,0,0,0,0,0,0,0,0,0,30,48,1.5,1.2,0,0]
["2023-09-27T04:50:14",27,30,28,29,37,38,37,37,20.3,50.8,100,66.3,52.5,52.5,52.5,54.2,21.5,22.9,22.1,120,120,120,120,120,120,120,120,120,120,120,120,59,59,59,2.2000000000000002,3.7,2,3.5,0.1,0.1,0.1,0.4,0.4,0.4,0.2,0.2,0.2,0.4,0.4,0.4,-0.2,-0.2,-0.2,-0.1,0,0,-0.2,-0.1,-0.1,0,0,0,0.2,0.4,0.3,0.3,0.5,0.4,0.2,0.4,0.2,0.5,0.8,0.6,0,0,0,0.3,0.3,0.3,0.3,0.4,0.3,0.2,0.3,0.3,0.5,0.5,0.5,0,0,0,0,0,0,0,0,0,0,0,0,0,0,0,0,0,0,0,0,0,0,0,0,1,1,1,2,1,1,179.5,29.5,"01:00:00",4267,0,0,0,0,0,0,0,0,0,0,0,0,0,0,0,0,0,0,0,0,30,48,1.1000000000000001,1,0,0]
["2023-09-27T04:56:18",27,30,28,29,37,38,37,37,20.3,50.4,100,66.3,52.4,52.5,52.4,54.2,22.2,27.5,24.4,120,120,120,120,120,120,119.9,120,119.9,119.9,120,119.9,59,59,59,2.2000000000000002,4.8,1.8,4.5,0.1,0.1,0.1,0.4,0.6,0.4,0.1,0.2,0.1,0.4,0.5,0.4,-0.2,-0.2,-0.2,-0.1,-0.1,-0.1,-0.1,-0.1,-0.1,0,0,0,0.2,0.5,0.3,0.3,0.5,0.4,0.1,0.4,0.2,0.4,0.7,0.6,0,0,0,0.3,0.3,0.3,0.3,0.4,0.3,0.3,0.3,0.3,0.5,0.5,0.5,0,0,0,0,0,0,0,0,0,0,0,0,0,0,0,0,0,0,0,0,0,0,0,0,1,1,1,2,1,1,179.5,29.5,"01:00:00",4269,0,0,0,0,0,0,0,0,0,0,0,0,0,0,0,0,0,0,0,0,30,48,1.4,1.1000000000000001,0,0]
["2023-09-27T04:59:21",27,30,28,29,37,38,37,37,20.3,50.3,100,66.3,52.4,52.5,52.4,54.2,25.2,29.5,27,120,120,120,120,120,120,119.9,120,119.9,119.9,120,120,59,59,59,2.2999999999999998,4.8,2.1,4.5,0.1,0.1,0.1,0.5,0.6,0.5,0.2,0.2,0.2,0.4,0.5,0.5,-0.2,-0.2,-0.2,-0.1,0,0,-0.1,-0.1,-0.1,0,0,0,0.2,0.5,0.3,0.3,0.5,0.4,0.1,0.5,0.2,0.6,0.7,0.6,0,0,0,0.2,0.3,0.2,0.3,0.4,0.3,0.2,0.3,0.3,0.5,0.5,0.5,0,0,0,0,0,0,0,0,0,0,0,0,0,0,0,0,0,0,0,0,0,0,0,0,1,1,1,2,1,1,179.5,29.5,"01:00:00",4270,0,0,0,0,0,0,0,0,0,0,0,0,0,0,0,0,0,0,0,0,30,48,1.5,1.2,0,0]
["2023-09-27T05:07:27",27,30,28,29,37,38,37,37,20.3,49.7,100,66.3,52.4,52.5,52.4,54.2,23.1,24.9,24.1,120,120,120,120,120,120,119.9,120,119.9,119.9,120,119.9,59,59,59,2.2999999999999998,4.0999999999999996,2,3.9,0.1,0.1,0.1,0.4,0.5,0.4,0.2,0.2,0.2,0.4,0.5,0.4,-0.2,-0.2,-0.2,-0.1,0,-0.1,-0.1,-0.1,-0.1,0,0,0,0.2,0.5,0.3,0.3,0.6,0.4,0.1,0.5,0.2,0.6,0.7,0.6,0,0,0,0.2,0.3,0.3,0.3,0.3,0.3,0.2,0.3,0.3,0.5,0.5,0.5,0,0,0,0,0,0,0,0,0,0,0,0,0,0,0,0,0,0,0,0,0,0,0,0,1,1,1,2,1,1,179.5,29.5,"01:00:00",4274,0,0,0,0,0,0,0,0,0,0,0,0,0,0,0,0,0,0,0,0,30,48,1.2,1.1000000000000001,0,0]
["2023-09-27T05:09:29",27,30,28,29,37,38,37,37,20.3,49.6,100,66.3,52.4,52.4,52.4,54.2,27.3,29.1,28.4,120,120,120,120,120,120,119.9,120,119.9,119.9,120,119.9,59,59,59,2.2000000000000002,5,2,4.7,0.1,0.1,0.1,0.6,0.6,0.6,0.2,0.2,0.2,0.5,0.6,0.5,-0.2,-0.2,-0.2,-0.1,-0.1,-0.1,-0.2,-0.1,-0.1,0,0,0,0.2,0.5,0.3,0.3,0.6,0.4,0.2,0.5,0.2,0.5,0.7,0.6,0,0,0,0.2,0.3,0.2,0.3,0.3,0.3,0.3,0.3,0.3,0.5,0.5,0.5,0,0,0,0,0,0,0,0,0,0,0,0,0,0,0,0,0,0,0,0,0,0,0,0,1,1,1,2,1,1,179.5,29.5,"01:00:00",4275,0,0,0,0,0,0,0,0,0,0,0,0,0,0,0,0,0,0,0,0,30,48,1.5,1.4,0,0]
["2023-09-27T05:14:32",27,30,28,29,37,38,37,37,20.3,49.2,100,66.3,52.4,52.4,52.4,54.2,23.8,28.8,25,120,120,120,120,120,120,119.9,120,119.9,120,120,120,59,59,59,2.2000000000000002,4.8,2.1,4.5,0.1,0.1,0.1,0.5,0.6,0.5,0.2,0.2,0.2,0.4,0.5,0.4,-0.2,-0.2,-0.2,-0.1,0,0,-0.2,-0.1,-0.1,0,0,0,0.3,0.5,0.3,0.3,0.6,0.4,0.2,0.4,0.2,0.4,0.8,0.6,0,0,0,0.2,0.3,0.2,0.3,0.3,0.3,0.2,0.3,0.3,0.5,0.5,0.5,0,0,0,0,0,0,0,0,0,0,0,0,0,0,0,0,0,0,0,0,0,0,0,0,1,1,1,2,1,1,179.5,29.5,"01:00:00",4277,0,0,0,0,0,0,0,0,0,0,0,0,0,0,0,0,0,0,0,0,30,48,1.4,1.2,0,0]
["2023-09-27T05:19:38",27,30,28,29,37,38,37,37,20.399999999999999,48.9,100,66.400000000000006,52.4,52.5,52.4,54.2,22.3,24.2,23.4,120,120,120,120,120,120,119.9,120,119.9,120,120,120,59,59,59,2.2000000000000002,4.0999999999999996,1.8,3.9,0.1,0.1,0.1,0.4,0.5,0.4,0.2,0.2,0.2,0.4,0.5,0.4,-0.2,-0.2,-0.2,-0.1,0,0,-0.1,-0.1,-0.1,0,0,0,0.3,0.5,0.3,0.2,0.5,0.4,0.2,0.4,0.2,0.5,0.8,0.6,0,0,0,0.2,0.3,0.2,0.3,0.3,0.3,0.2,0.3,0.2,0.5,0.5,0.5,0,0,0,0,0,0,0,0,0,0,0,0,0,0,0,0,0,0,0,0,0,0,0,0,1,1,1,2,1,1,179.5,29.5,"01:00:00",4279,0,0,0,0,0,0,0,0,0,0,0,0,0,0,0,0,0,0,0,0,30,48,1.2,1.1000000000000001,0,0]
["2023-09-27T05:25:42",26,30,28,29,37,38,37,37,20.399999999999999,48.6,100,66.400000000000006,52.4,52.4,52.4,54.2,25.3,27,26,120,120,120,120,120,120,119.9,120,119.9,120,120,120,59,59,59,2.2999999999999998,4.5,1.9,4.3,0.1,0.1,0.1,0.5,0.5,0.5,0.1,0.2,0.1,0.5,0.5,0.5,-0.2,-0.2,-0.2,-0.1,0,0,-0.1,-0.1,-0.1,0,0,0,0.3,0.6,0.3,0.3,0.5,0.4,0.2,0.4,0.2,0.6,0.8,0.6,0,0,0,0.2,0.3,0.2,0.3,0.3,0.3,0.2,0.3,0.3,0.5,0.5,0.5,0,0,0,0,0,0,0,0,0,0,0,0,0,0,0,0,0,0,0,0,0,0,0,0,1,1,1,2,1,1,179.5,29.5,"01:00:00",4282,0,0,0,0,0,0,0,0,0,0,0,0,0,0,0,0,0,0,0,0,30,48,1.3,1.2,0,0]
["2023-09-27T05:29:46",26,30,28,29,37,38,37,37,20.399999999999999,48.3,100,66.400000000000006,52.4,52.4,52.4,54.2,25.8,31.3,28,119.9,120,120,120,120,120,119.9,120,119.9,119.9,120,119.9,59,59,59,2.2000000000000002,5.4,2.7,5.0999999999999996,0.1,0.2,0.1,0.5,0.7,0.5,0.1,0.3,0.1,0.5,0.6,0.5,-0.2,0,-0.1,-0.1,0,0,-0.1,0,-0.1,0,0,0,0.3,0.6,0.3,0.3,0.6,0.3,0.2,0.4,0.2,0.5,0.8,0.6,0,0,0,0.2,0.3,0.2,0.3,0.3,0.3,0.3,0.3,0.3,0.5,0.5,0.5,0,0,0,0,0,0,0,0,0,0,0,0,0,0,0,0,0,0,0,0,0,0,0,0,1,1,1,2,1,1,179.5,29.5,"01:00:00",4284,0,0,0,0,0,0,0,0,0,0,0,0,0,0,0,0,0,0,0,0,30,48,1.6,1.3,0,0]
["2023-09-27T05:32:47",26,30,28,29,37,38,37,37,20.399999999999999,48.1,100,66.400000000000006,52.3,52.4,52.3,54.2,32.1,38,34.799999999999997,120,120,120,120,120,120,119.9,120,119.9,119.9,120,119.9,59,59,59,1.9,6.3,2.5,6,0.2,0.2,0.2,0.6,0.8,0.6,0.2,0.3,0.3,0.6,0.7,0.6,-0.1,-0.1,-0.1,-0.1,0,0,0,0,0,0,0,0,0.3,0.5,0.3,0.3,0.5,0.4,0.2,0.4,0.2,0.4,0.7,0.6,0,0,0,0.2,0.3,0.2,0.3,0.3,0.3,0.2,0.3,0.3,0.5,0.5,0.5,0,0,0,0,0,0,0,0,0,0,0,0,0,0,0,0,0,0,0,0,0,0,0,0,1,1,1,2,1,1,179.5,29.5,"01:00:00",4285,0,0,0,0,0,0,0,0,0,0,0,0,0,0,0,0,0,0,0,0,30,48,2,1.7,0,0]
["2023-09-27T05:39:53",26,30,28,29,37,38,37,37,20.399999999999999,47.5,100,66.400000000000006,52.3,52.4,52.3,54.2,30.2,37.700000000000003,34,120,120,120,120,120,120,119.9,120,119.9,119.9,120,119.9,59,59,59,2,6.4,2.5,6.1,0.2,0.2,0.2,0.5,0.8,0.6,0.3,0.3,0.3,0.5,0.7,0.6,-0.1,-0.1,-0.1,-0.1,0,0,0,0,0,0,0,0,0.3,0.6,0.3,0.3,0.6,0.4,0.2,0.6,0.3,0.6,0.8,0.6,0,0,0,0.2,0.3,0.2,0.3,0.4,0.3,0.2,0.3,0.2,0.5,0.5,0.5,0,0,0,0,0,0,0,0,0,0,0,0,0,0,0,0,0,0,0,0,0,0,0,0,1,1,1,2,1,1,179.5,29.5,"01:00:00",4289,0,0,0,0,0,0,0,0,0,0,0,0,0,0,0,0,0,0,0,0,30,48,2,1.7,0,0]
["2023-09-27T05:43:55",26,31,28,30,37,38,37,37,20.399999999999999,47.1,100,66.400000000000006,52.2,52.4,52.2,54.2,25.9,58.1,34.1,120,120,120,120,120.1,120,119.9,120,119.9,120,120.1,120,59,59,59,2.2999999999999998,11.8,2.1,11.2,0.1,0.1,0.1,0.5,1.3,0.6,0.2,0.2,0.2,0.5,1.3,0.6,-0.2,-0.2,-0.2,-0.1,0.4,0,-0.2,-0.1,-0.1,0,0.5,0,0.3,0.5,0.3,0.3,0.5,0.4,0.1,0.5,0.2,0.5,0.9,0.6,0,0,0,0.2,0.3,0.2,0.3,0.3,0.3,0.2,0.3,0.3,0.5,0.5,0.5,0,0,0,0,0,0,0,0,0,0,0,0,0,0,0,0,0,0,0,0,0,0,0,0,1,1,1,2,1,1,179.5,29.5,"01:00:00",4291,0,0,0,0,0,0,0,0,0,0,0,0,0,0,0,0,0,0,0,0,30,48,2.9,1.6,0,0]
["2023-09-27T05:49:00",26,30,28,29,37,38,37,37,20.399999999999999,46.8,100,66.400000000000006,52.4,52.4,52.4,54.2,25.2,31.8,26.9,120,120,120,120,120,120,120,120,120,119.9,120,119.9,59,59,59,2.1,6.1,1.8,5.8,0.1,0.1,0.1,0.5,0.7,0.5,0.1,0.2,0.1,0.5,0.7,0.5,-0.2,-0.2,-0.2,-0.1,0,0,-0.2,-0.1,-0.1,0,0,0,0.2,0.5,0.3,0.4,0.6,0.4,0.2,0.4,0.2,0.5,0.9,0.6,0,0,0,0.2,0.3,0.2,0.3,0.4,0.3,0.2,0.3,0.3,0.5,0.5,0.5,0,0,0,0,0,0,0,0,0,0,0,0,0,0,0,0,0,0,0,0,0,0,0,0,1,1,1,2,1,1,179.4,29.4,"01:00:00",4294,0,0,0,0,0,0,0,0,0,0,0,0,0,0,0,0,0,0,0,0,30,48,1.6,1.3,0,0]
["2023-09-27T05:51:01",26,30,28,29,37,38,37,37,20.399999999999999,46.7,100,66.400000000000006,52.4,52.4,52.4,54.2,25,27.6,26.2,120,120,120,120,120,120,120,120,120,119.9,120,119.9,59,59,59,2.2999999999999998,4.3,2.2000000000000002,4.0999999999999996,0.1,0.1,0.1,0.5,0.5,0.5,0.2,0.2,0.2,0.4,0.5,0.4,-0.2,-0.2,-0.2,-0.1,0,0,-0.2,-0.1,-0.1,0,0,0,0.3,0.6,0.3,0.3,0.6,0.4,0.1,0.3,0.2,0.5,0.9,0.6,0,0,0,0.2,0.3,0.2,0.3,0.4,0.3,0.3,0.3,0.3,0.5,0.6,0.5,0,0,0,0,0,0,0,0,0,0,0,0,0,0,0,0,0,0,0,0,0,0,0,0,1,1,1,2,1,1,179.4,29.4,"01:00:00",4295,0,0,0,0,0,0,0,0,0,0,0,0,0,0,0,0,0,0,0,0,30,48,1.4,1.2,0,0]
["2023-09-27T05:54:04",26,30,28,29,37,38,37,37,20.399999999999999,46.5,100,66.400000000000006,52.4,52.4,52.4,54.2,24.4,29.6,26.6,120,120,120,120,120,120,120,120,120,119.9,120,119.9,59,59,59,2.2999999999999998,5.3,2.1,5.0999999999999996,0.1,0.1,0.1,0.5,0.6,0.5,0.1,0.2,0.1,0.5,0.6,0.5,-0.2,-0.2,-0.2,-0.1,0,0,-0.2,-0.1,-0.1,0,0,0,0.2,0.7,0.3,0.3,0.5,0.4,0.1,0.3,0.1,0.6,0.9,0.6,0,0,0,0.2,0.3,0.2,0.3,0.3,0.3,0.3,0.3,0.3,0.5,0.5,0.5,0,0,0,0,0,0,0,0,0,0,0,0,0,0,0,0,0,0,0,0,0,0,0,0,1,1,1,2,1,1,179.4,29.4,"01:00:00",4296,0,0,0,0,0,0,0,0,0,0,0,0,0,0,0,0,0,0,0,0,30,48,1.5,1.3,0,0]
["2023-09-27T06:02:11",26,30,28,29,37,37,37,37,20.2,45.8,100,66.400000000000006,52.4,52.4,52.4,54.2,23.9,31.2,27.5,120,120,120,120,120,120,119.9,120,119.9,119.9,120,119.9,59,59,59,2.2999999999999998,5.7,2,5.4,0.1,0.1,0.1,0.4,0.7,0.5,0.2,0.2,0.2,0.4,0.7,0.5,-0.2,-0.2,-0.2,-0.1,0,0,-0.1,-0.1,-0.1,0,0,0,0.2,0.5,0.3,0.4,0.6,0.4,0.2,0.4,0.2,0.6,0.8,0.6,0,0,0,0.2,0.3,0.3,0.3,0.3,0.3,0.2,0.3,0.3,0.5,0.5,0.5,0,0,0,0,0,0,0,0,0,0,0,0,0,0,0,0,0,0,0,0,0,0,0,0,1,1,1,2,1,1,179.4,29.4,"01:00:00",4299,0,0,0,0,0,0,0,0,0,0,0,0,0,0,0,0,0,0,0,0,30,48,1.6,1.3,0,0]
["2023-09-27T06:04:12",26,30,28,29,37,37,37,37,20.100000000000001,45.7,100,66.400000000000006,52.4,52.5,52.4,54.2,21.9,32.1,23.6,120,120,120,120,120,120,119.9,120,119.9,119.9,120,119.9,59,59,59,2.2000000000000002,6.1,1.9,5.8,0.1,0.1,0.1,0.4,0.7,0.4,0.2,0.2,0.2,0.4,0.7,0.4,-0.3,-0.2,-0.2,-0.1,0,0,-0.1,-0.1,-0.1,0,0,0,0.2,0.5,0.3,0.3,0.6,0.4,0.2,0.5,0.2,0.4,0.7,0.6,0,0,0,0.2,0.3,0.3,0.3,0.4,0.3,0.2,0.3,0.3,0.5,0.5,0.5,0,0,0,0,0,0,0,0,0,0,0,0,0,0,0,0,0,0,0,0,0,0,0,0,1,1,1,2,1,1,179.4,29.4,"01:00:00",4300,0,0,0,0,0,0,0,0,0,0,0,0,0,0,0,0,0,0,0,0,30,48,1.7,1.1000000000000001,0,0]
["2023-09-27T06:09:17",26,30,28,29,37,37,37,37,20,45.2,100,66.400000000000006,52.3,52.4,52.4,54.2,23.1,34.5,25.9,120,120,120,119.8,120.1,120,119.9,120,119.9,119.8,120,119.9,59,59,59,2.2999999999999998,9.9,2,9.6,0.1,0.1,0.1,0.4,1.1000000000000001,0.5,0.2,0.2,0.2,0.4,1.1000000000000001,0.5,-0.3,-0.2,-0.2,-0.1,0.3,0,-0.1,-0.1,-0.1,0,0.4,0,0.2,0.5,0.3,0.3,0.5,0.4,0.2,0.5,0.3,0.5,0.7,0.6,0,0,0,0.2,0.3,0.3,0.3,0.4,0.3,0.2,0.3,0.2,0.5,0.5,0.5,0,0,0,0,0,0,0,0,0,0,0,0,0,0,0,0,0,0,0,0,0,0,0,0,1,1,1,2,1,1,179.4,29.4,"01:00:00",4302,0,0,0,0,0,0,0,0,0,0,0,0,0,0,0,0,0,0,0,0,30,48,2.4,1.2,0,0]
["2023-09-27T06:14:21",26,30,28,29,37,37,36,37,19.8,44.8,100,66.400000000000006,52.4,52.4,52.4,54.2,24.4,26.1,24.8,120,120,120,120,120,120,119.9,120,119.9,119.9,120,119.9,59,59,59,2.2000000000000002,4.4000000000000004,2,4.2,0.1,0.1,0.1,0.5,0.5,0.5,0.1,0.2,0.1,0.5,0.5,0.5,-0.2,-0.2,-0.2,-0.1,-0.1,-0.1,-0.1,-0.1,-0.1,0,0,0,0.3,0.5,0.3,0.3,0.5,0.4,0.2,0.5,0.3,0.4,0.7,0.6,0,0,0,0.2,0.3,0.2,0.3,0.3,0.3,0.2,0.3,0.2,0.5,0.5,0.5,0,0,0,0,0,0,0,0,0,0,0,0,0,0,0,0,0,0,0,0,0,0,0,0,1,1,1,2,1,1,179.4,29.4,"01:00:00",4305,0,0,0,0,0,0,0,0,0,0,0,0,0,0,0,0,0,0,0,0,30,48,1.3,1.2,0,0]
["2023-09-27T06:20:26",26,30,28,29,37,37,36,37,19.7,44.3,100,66.400000000000006,52.4,52.4,52.4,54.2,24.3,31.7,25.8,120,120,120,120,120,120,119.9,120,119.9,120,120,120,59,59,59,2.2999999999999998,6.3,2,6,0.1,0.1,0.1,0.5,0.7,0.5,0.2,0.2,0.2,0.5,0.7,0.5,-0.2,-0.2,-0.2,-0.1,-0.1,-0.1,-0.2,-0.1,-0.1,0,0,0,0.2,0.5,0.3,0.3,0.5,0.4,0.2,0.5,0.3,0.4,0.7,0.6,0,0,0,0.2,0.3,0.2,0.3,0.4,0.3,0.2,0.3,0.2,0.5,0.5,0.5,0,0,0,0,0,0,0,0,0,0,0,0,0,0,0,0,0,0,0,0,0,0,0,0,1,1,1,2,1,1,179.4,29.4,"01:00:00",4308,0,0,0,0,0,0,0,0,0,0,0,0,0,0,0,0,0,0,0,0,30,48,1.7,1.2,0,0]
["2023-09-27T06:23:28",26,30,28,29,37,37,36,37,19.7,44.1,100,66.400000000000006,52.3,52.4,52.4,54.2,26.8,33.6,28.8,120,120,120,120,120,120,119.9,120,119.9,119.9,120,119.9,59,59,59,2.2000000000000002,6.3,2,6,0.1,0.1,0.1,0.5,0.8,0.5,0.2,0.2,0.2,0.5,0.7,0.5,-0.2,-0.2,-0.2,-0.1,0,0,-0.2,-0.1,-0.1,0,0,0,0.2,0.5,0.3,0.3,0.6,0.4,0.2,0.4,0.2,0.5,0.8,0.6,0,0,0,0.2,0.3,0.2,0.3,0.4,0.3,0.2,0.3,0.3,0.5,0.5,0.5,0,0,0,0,0,0,0,0,0,0,0,0,0,0,0,0,0,0,0,0,0,0,0,0,1,1,1,2,1,1,179.4,29.4,"01:00:00",4309,0,0,0,0,0,0,0,0,0,0,0,0,0,0,0,0,0,0,0,0,30,48,1.7,1.4,0,0]
["2023-09-27T06:27:33",26,30,28,29,37,37,36,37,19.600000000000001,43.8,100,66.400000000000006,52.3,52.4,52.4,54.2,25.3,35,28.4,120,120,120,120,120,120,119.9,120,119.9,119.9,120,119.9,59,59,59,2.4,6.5,2.1,6.2,0.1,0.1,0.1,0.5,0.8,0.5,0.2,0.2,0.2,0.5,0.7,0.5,-0.2,-0.2,-0.2,-0.1,-0.1,-0.1,-0.1,-0.1,-0.1,0,0,0,0.2,0.4,0.3,0.4,0.6,0.4,0.1,0.4,0.2,0.3,0.7,0.5,0,0,0,0.2,0.3,0.3,0.3,0.4,0.3,0.3,0.3,0.3,0.5,0.5,0.5,0,0,0,0,0,0,0,0,0,0,0,0,0,0,0,0,0,0,0,0,0,0,0,0,1,1,1,2,1,1,179.4,29.4,"01:00:00",4311,0,0,0,0,0,0,0,0,0,0,0,0,0,0,0,0,0,0,0,0,30,48,1.8,1.4,0,0]
["2023-09-27T06:33:37",26,30,28,29,37,37,36,37,19.600000000000001,43.3,100,66.400000000000006,52.4,52.4,52.4,54.2,25.5,27,26.5,120,120,120,120,120,120,119.9,120,119.9,119.9,120,119.9,59,59,59,2.2000000000000002,4.5999999999999996,1.9,4.3,0.1,0.1,0.1,0.5,0.6,0.5,0.2,0.2,0.2,0.5,0.5,0.5,-0.2,-0.2,-0.2,-0.1,-0.1,-0.1,-0.1,-0.1,-0.1,0,0,0,0.2,0.5,0.3,0.3,0.5,0.4,0.2,0.4,0.3,0.5,0.8,0.6,0,0,0,0.2,0.3,0.2,0.3,0.4,0.3,0.2,0.3,0.2,0.5,0.5,0.5,0,0,0,0,0,0,0,0,0,0,0,0,0,0,0,0,0,0,0,0,0,0,0,0,1,1,1,2,1,1,179.4,29.4,"01:00:00",4314,0,0,0,0,0,0,0,0,0,0,0,0,0,0,0,0,0,0,0,0,30,48,1.3,1.3,0,0]
["2023-09-27T06:38:43",26,30,27,29,37,37,36,37,19.5,42.9,100,66.400000000000006,52.3,52.4,52.3,54.2,26.7,31,27.2,120,120,120,120,120,120,119.9,120,119.9,120,120,120,59,59,59,2.2999999999999998,5.3,2,5,0.1,0.1,0.1,0.5,0.6,0.5,0.2,0.2,0.2,0.5,0.6,0.5,-0.2,-0.2,-0.2,-0.1,-0.1,-0.1,-0.1,-0.1,-0.1,0,0,0,0.2,0.6,0.3,0.3,0.5,0.4,0.2,0.5,0.2,0.5,0.8,0.6,0,0,0,0.2,0.3,0.2,0.3,0.3,0.3,0.2,0.3,0.3,0.5,0.5,0.5,0,0,0,0,0,0,0,0,0,0,0,0,0,0,0,0,0,0,0,0,0,0,0,0,1,1,1,2,1,1,179.4,29.4,"01:00:00",4316,0,0,0,0,0,0,0,0,0,0,0,0,0,0,0,0,0,0,0,0,30,48,1.5,1.3,0,0]
["2023-09-27T06:43:46",26,30,27,29,37,37,36,37,19.399999999999999,42.5,100,66.400000000000006,52.3,52.4,52.3,54.2,24.5,33.5,27.5,120,120,120,120,120,120,119.9,120,120,119.9,120,119.9,59,59,59,2.2000000000000002,6.3,1.9,6,0.1,0.1,0.1,0.5,0.8,0.5,0.2,0.2,0.2,0.5,0.7,0.5,-0.2,-0.2,-0.2,-0.1,-0.1,-0.1,-0.2,-0.1,-0.1,0,0,0,0.2,0.5,0.3,0.3,0.6,0.4,0.1,0.4,0.2,0.6,0.9,0.6,0,0,0,0.2,0.3,0.2,0.3,0.3,0.3,0.3,0.3,0.3,0.5,0.5,0.5,0,0,0,0,0,0,0,0,0,0,0,0,0,0,0,0,0,0,0,0,0,0,0,0,1,1,1,2,1,1,179.4,29.4,"01:00:00",4318,0,0,0,0,0,0,0,0,0,0,0,0,0,0,0,0,0,0,0,0,30,48,1.7,1.3,0,0]
["2023-09-27T06:45:48",26,30,27,29,37,37,36,37,19.399999999999999,42.4,100,66.400000000000006,52.3,52.4,52.3,54.2,28.4,29.6,29.1,120,120,120,120,120,120,119.9,120,119.9,119.9,120,119.9,59,59,59,2.2999999999999998,5,2.1,4.7,0.1,0.1,0.1,0.6,0.6,0.6,0.2,0.2,0.2,0.5,0.6,0.5,-0.2,-0.2,-0.2,-0.1,0,0,-0.2,-0.1,-0.1,0,0,0,0.2,0.4,0.3,0.2,0.5,0.3,0.1,0.5,0.2,0.6,0.8,0.6,0,0,0,0.2,0.3,0.3,0.3,0.3,0.3,0.2,0.3,0.3,0.5,0.5,0.5,0,0,0,0,0,0,0,0,0,0,0,0,0,0,0,0,0,0,0,0,0,0,0,0,1,1,1,2,1,1,179.4,29.4,"01:00:00",4319,0,0,0,0,0,0,0,0,0,0,0,0,0,0,0,0,0,0,0,0,30,48,1.5,1.4,0,0]
["2023-09-27T06:48:51",26,30,27,29,37,37,36,37,19.399999999999999,42.1,100,66.400000000000006,51.9,52.4,52.2,54.2,29.3,66.7,45.6,120,120,120,119.8,120,120,119.9,120,119.9,119.7,120,119.9,59,59,59,2.4,18.2,2.1,14.1,0.1,0.1,0.1,0.6,1.8,1,0.2,0.2,0.2,0.6,2.1,0.9,-0.3,-0.2,-0.2,-0.1,0.6,0.1,-0.1,-0.1,-0.1,0,0.7,0.2,0.2,0.5,0.3,0.2,0.5,0.4,0.2,0.4,0.2,0.4,0.7,0.6,0,0,0,0.2,0.3,0.2,0.3,0.3,0.3,0.2,0.3,0.3,0.5,0.5,0.5,0,0,0,0,0,0,0,0,0,0,0,0,0,0,0,0,0,0,0,0,0,0,0,0,1,1,1,2,1,1,179.4,29.4,"01:00:00",4321,0,0,0,0,0,0,0,0,0,0,0,0,0,0,0,0,0,0,0,0,30,48,4.3,2.2000000000000002,0,0]
["2023-09-27T06:56:55",26,30,27,29,37,37,36,37,19.3,41.5,100,66.400000000000006,52.3,52.4,52.3,54.2,28.2,33.1,30.9,120,120,120,120,120,120,119.9,120,119.9,119.9,120,119.9,59,59,59,2.9,5.7,2.7,5.3,0.1,0.1,0.1,0.6,0.7,0.6,0.2,0.2,0.2,0.5,0.6,0.5,-0.3,-0.2,-0.2,-0.1,-0.1,-0.1,-0.2,-0.1,-0.1,-0.1,0,0,0.1,0.6,0.3,0.3,0.5,0.4,0.2,0.3,0.2,0.6,0.9,0.7,0,0,0,0.2,0.3,0.2,0.3,0.3,0.3,0.3,0.3,0.3,0.5,0.5,0.5,0,0,0,0,0,0,0,0,0,0,0,0,0,0,0,0,0,0,0,0,0,0,0,0,1,1,1,2,1,1,179.4,29.4,"01:00:00",4325,0,0,0,0,0,0,0,0,0,0,0,0,0,0,0,0,0,0,0,0,30,48,1.7,1.5,0,0]
["2023-09-27T06:57:58",26,30,27,29,37,37,36,37,19.3,41.4,100,66.400000000000006,52.3,52.4,52.3,54.2,27.2,34.4,29.5,120,120,120,120,120,120,119.9,120,119.9,119.9,120,119.9,59,59,59,2.9,6.6,2.5,6.2,0.1,0.1,0.1,0.6,0.8,0.6,0.2,0.2,0.2,0.5,0.7,0.5,-0.3,-0.2,-0.2,-0.1,0,0,-0.2,-0.1,-0.1,-0.1,0,0,0.3,0.5,0.3,0.3,0.5,0.4,0.1,0.5,0.2,0.6,0.9,0.7,0,0,0,0.2,0.3,0.2,0.3,0.3,0.3,0.2,0.3,0.3,0.5,0.5,0.5,0,0,0,0,0,0,0,0,0,0,0,0,0,0,0,0,0,0,0,0,0,0,0,0,1,1,1,2,1,1,179.4,29.4,"01:00:00",4326,0,0,0,0,0,0,0,0,0,0,0,0,0,0,0,0,0,0,0,0,30,48,1.8,1.4,0,0]
["2023-09-27T07:04:02",26,30,27,29,37,37,36,37,19.3,40.9,100,66.400000000000006,52.3,52.3,52.3,54.2,28.1,35.6,30.3,120,120,120,120,120,120,120,120,120,119.9,120,119.9,59,59,59,2.9,6.6,2.6,6.2,0.1,0.1,0.1,0.5,0.8,0.6,0.2,0.2,0.2,0.5,0.7,0.5,-0.3,-0.3,-0.3,-0.1,-0.1,-0.1,-0.2,-0.2,-0.2,-0.1,-0.1,-0.1,0.3,0.6,0.4,0.3,0.6,0.4,0.2,0.4,0.2,0.6,0.8,0.6,0,0,0,0.2,0.3,0.2,0.3,0.3,0.3,0.2,0.3,0.2,0.5,0.5,0.5,0,0,0,0,0,0,0,0,0,0,0,0,0,0,0,0,0,0,0,0,0,0,0,0,1,1,1,2,1,1,179.4,29.4,"01:00:00",4329,0,0,0,0,0,0,0,0,0,0,0,0,0,0,0,0,0,0,0,0,30,48,1.9,1.4,0,0]
["2023-09-27T07:08:06",26,30,27,29,37,37,36,37,19.2,40.6,100,66.5,52.3,52.4,52.3,54.2,25.1,33.799999999999997,28,120,120,120,120,120,120,119.9,120,119.9,119.9,120,119.9,59,59,59,2.7,6.4,2.4,5.9,0.1,0.1,0.1,0.5,0.8,0.5,0.2,0.2,0.2,0.5,0.7,0.5,-0.3,-0.3,-0.3,-0.1,-0.1,-0.1,-0.2,-0.2,-0.2,-0.1,0,0,0.3,0.6,0.4,0.3,0.5,0.4,0.2,0.5,0.3,0.6,0.9,0.7,0,0,0,0.2,0.3,0.2,0.3,0.3,0.3,0.2,0.3,0.2,0.5,0.6,0.5,0,0,0,0,0,0,0,0,0,0,0,0,0,0,0,0,0,0,0,0,0,0,0,0,1,1,1,2,1,1,179.4,29.4,"01:00:00",4331,0,0,0,0,0,0,0,0,0,0,0,0,0,0,0,0,0,0,0,0,30,48,1.8,1.3,0,0]
["2023-09-27T07:15:12",26,30,27,29,37,37,36,37,19.2,40.1,100,66.5,52.3,52.4,52.3,54.2,28.3,32.5,29.1,120,120,120,120,120,120,119.9,120,120,119.9,120,119.9,59,59,59,2.8,5.8,2.4,5.4,0.1,0.1,0.1,0.6,0.7,0.6,0.2,0.2,0.2,0.5,0.6,0.5,-0.3,-0.3,-0.3,-0.1,-0.1,-0.1,-0.2,-0.2,-0.2,-0.1,-0.1,-0.1,0.3,0.6,0.4,0.3,0.5,0.4,0.2,0.5,0.2,0.6,0.7,0.6,0,0,0,0.2,0.3,0.2,0.3,0.4,0.3,0.2,0.3,0.2,0.5,0.5,0.5,0,0,0,0,0,0,0,0,0,0,0,0,0,0,0,0,0,0,0,0,0,0,0,0,1,1,1,2,1,1,179.4,29.4,"01:00:00",4334,0,0,0,0,0,0,0,0,0,0,0,0,0,0,0,0,0,0,0,0,30,48,1.6,1.4,0,0]
["2023-09-27T07:18:14",26,30,27,29,37,37,36,37,19.2,39.799999999999997,100,66.5,52.3,53,52.3,54.2,-107.4,32.5,22.8,120,121.8,120.3,120,121.4,120.1,119.9,121.7,120.3,119.9,121.3,120.1,59,60,59.2,15.2,15.2,14.8,15.6,-1.8,0.2,0,-1.8,0.7,0.4,-1.8,0.2,0,-1.8,0.6,0.4,-0.4,0,-0.2,-0.1,0.1,0,-0.2,0,-0.1,-0.1,0.2,0,121.3,122.1,121.6,120.2,121.4,121,121.1,121.7,121.3,120,121.4,120.8,59.4,60.2,60,0.2,17,1.2,0.3,24,2,0.3,15.7,1.1000000000000001,0.5,16.7,1.4,0,2.1,0.1,0,2.8,0.2,0,1.9,0.1,0,2,0.1,-0.3,0.2,0,-0.1,0.3,0,-0.4,0.1,0,-0.1,0.1,0,6,2,2,2,1,1,179.4,29.4,"01:00:00",4336,0,0,0,0,0,0,0,0,0,0,0,0,0,0,0,0,0,0,0,0,30,48,2.9,1.4,0,0]
["2023-09-27T07:22:18",29,31,29,30,37,37,37,37,19.2,40.6,100,66.5,53.4,53.6,53.5,54.2,-99,-89.9,-94.9,120.7,121,120.8,120.6,120.8,120.6,120.7,120.9,120.8,120.6,120.8,120.6,59.9,60.1,60,14.6,9.6,14.5,9.6999999999999993,-1.8,-1.4,-1.6,-1.2,-0.9,-0.9,-1.8,-1.5,-1.6,-1.1000000000000001,-0.8,-0.9,-0.1,-0.1,-0.1,0,0.1,0,-0.1,0,0,0.1,0.1,0.1,121,121.5,121.1,120.6,121.2,120.8,120.8,121.2,120.9,120.4,121,120.6,60,60.1,60,13.3,16,14.8,13.8,16.100000000000001,14.8,13.4,16,14.8,11.6,13.6,12.5,1.6,1.9,1.7,1.7,1.9,1.7,1.6,1.9,1.7,1.4,1.6,1.5,0,0.1,0,0,0.1,0,-0.1,0,0,-0.1,0,0,6,2,2,2,1,1,179.4,29.4,"01:00:00",4336,0,0,0,0,0,0,0,0,0,0,0,0,0,0,0,0,0,0,0,0,30,48,2.2999999999999998,1.6,0,0]
["2023-09-27T07:28:24",30,31,31,30,37,37,37,37,19.3,42.1,100,66.5,53.6,53.7,53.6,54.2,-98.4,-92.3,-95.4,120.7,120.8,120.7,120.6,120.8,120.7,120.6,120.8,120.7,120.6,120.8,120.6,60,60.1,60,14.6,9.3000000000000007,14.7,9.3000000000000007,-1.8,-1.4,-1.6,-1.1000000000000001,-0.9,-1,-1.8,-1.4,-1.6,-1.1000000000000001,-0.9,-1,-0.1,-0.1,-0.1,0,0.1,0,-0.1,0,0,0,0.1,0.1,120.8,121.4,121.1,120.7,121.3,120.9,120.7,121.2,120.9,120.5,121.1,120.7,60,60.1,60.1,13.1,15.7,14.6,13.7,15.4,14.6,13.6,16.100000000000001,14.9,11.1,12.7,11.9,1.6,1.9,1.7,1.7,1.9,1.7,1.6,1.9,1.7,1.4,1.5,1.4,-0.1,0,0,0,0.1,0,-0.1,0,0,-0.1,0,0,6,2,2,2,1,1,179.4,29.4,"01:00:00",4336,0,0,0,0,0,0,0,0,0,0,0,0,0,0,0,0,0,0,0,0,30,48,1.8,1.4,0,0]
["2023-09-27T07:33:28",31,31,32,30,38,37,37,37,19.3,43.2,100,66.5,53.6,53.8,53.7,54.2,-98.3,-91.5,-95.3,120.6,120.8,120.7,120.7,120.9,120.7,120.6,120.8,120.6,120.7,120.8,120.7,60,60.1,60,14.7,9.3000000000000007,14.7,9.3000000000000007,-1.8,-1.5,-1.6,-1.1000000000000001,-0.8,-0.9,-1.8,-1.5,-1.6,-1.1000000000000001,-0.9,-1,-0.1,-0.1,-0.1,0,0.1,0,-0.1,0,0,0.1,0.1,0.1,120.9,121.4,121,120.8,121.3,121,120.7,121.1,120.8,120.5,121.2,120.8,60,60.1,60,13.4,15.7,14.6,13.7,15.5,14.5,13.4,16.100000000000001,14.9,10.6,11.9,11.2,1.6,1.9,1.7,1.6,1.9,1.7,1.7,1.9,1.8,1.3,1.4,1.3,0,0.1,0,0,0.1,0,-0.1,0,0,-0.1,0,0,6,2,2,2,1,1,179.4,29.4,"01:00:00",4336,0,0,0,0,0,0,0,0,0,0,0,0,0,0,0,0,0,0,0,0,30,48,1.8,1.3,0,0]
["2023-09-27T07:37:32",31,31,32,30,38,38,38,37,19.3,44.1,100,66.5,53.6,53.7,53.6,54.2,-94.3,-84.5,-88.3,120.6,120.9,120.7,121,121.2,121.1,120.6,120.8,120.6,121,121.2,121,60,60.1,60,14.6,8.9,14.8,9,-1.8,-1.4,-1.6,-1,-0.7,-0.8,-1.8,-1.5,-1.6,-1,-0.7,-0.8,-0.1,0,-0.1,0.4,0.4,0.4,-0.1,0,0,0.4,0.5,0.4,120.7,121.3,121,120.8,121.4,121,120.6,121.1,120.8,120.7,121.3,120.9,60,60.1,60,13.1,15.6,14.6,13.7,15.7,14.6,13.3,16,14.9,10.8,12.2,11.4,1.6,1.9,1.7,1.6,1.9,1.7,1.7,1.9,1.7,1.3,1.5,1.3,-0.1,0.1,0,0,0.1,0,-0.1,0,0,-0.1,0,0,6,2,2,2,1,1,179.4,29.4,"01:00:00",4336,0,0,0,0,0,0,0,0,0,0,0,0,0,0,0,0,0,0,0,0,30,48,2.2999999999999998,1.8,0,0]
["2023-09-27T07:40:34",32,31,33,30,38,38,38,37,19.3,44.8,100,66.5,53.6,53.7,53.6,54.2,-88.2,-78.099999999999994,-84.7,120.4,120.7,120.5,121.1,121.3,121.1,120.4,120.7,120.5,121,121.2,121.1,60,60.1,60,15.6,7.5,15.5,7.6,-1.9,-1.5,-1.6,-0.8,-0.5,-0.6,-1.8,-1.5,-1.6,-0.8,-0.5,-0.6,-0.2,-0.1,-0.1,0.3,0.4,0.3,-0.1,0,0,0.4,0.5,0.4,120.7,121.3,120.9,120.8,121.4,121.1,120.6,121,120.7,120.6,121.4,120.9,60,60.1,60.1,13,16.2,14.4,13.1,15.3,14.4,13.8,16.8,14.9,9.5,11,10.4,1.6,2,1.7,1.6,1.8,1.7,1.7,2,1.8,1.2,1.3,1.2,-0.1,0.1,0,-0.1,0.1,0,-0.1,0,0,-0.1,0,0,6,2,2,2,1,1,179.4,29.4,"01:00:00",4336,0,0,0,0,0,0,0,0,0,0,0,0,0,0,0,0,0,0,0,0,30,48,2.4,1.8,0,0]
["2023-09-27T07:47:40",33,31,34,31,38,38,38,37,19.399999999999999,46.3,100,66.5,53.6,53.7,53.7,54.2,-95,-87.6,-89.9,120.4,120.9,120.7,120.9,121.2,121.1,120.5,120.9,120.6,120.9,121.2,121.1,59.9,60,60,14.9,9.1,14.9,9.1999999999999993,-1.8,-1.5,-1.6,-1,-0.7,-0.8,-1.8,-1.5,-1.6,-1,-0.7,-0.8,-0.2,0,-0.1,0.1,0.4,0.3,-0.1,0,0,0.1,0.5,0.4,120.8,121.3,121,120.8,121.3,121,120.5,121.1,120.7,120.6,121.2,120.8,60,60,60,13.1,15.6,14.4,13.6,15.8,14.4,13.6,16.2,14.9,11.1,12.8,11.7,1.6,1.9,1.7,1.6,1.9,1.7,1.7,1.9,1.8,1.3,1.5,1.4,-0.1,0.1,0,-0.1,0.1,0,-0.1,0,0,-0.1,0,0,6,2,2,2,1,1,179.4,29.4,"01:00:00",4336,0,0,0,0,0,0,0,0,0,0,0,0,0,0,0,0,0,0,0,0,30,48,2.1,1.7,0,0]
["2023-09-27T07:51:44",33,32,34,31,39,38,38,37,19.399999999999999,47.3,100,66.5,53.7,53.8,53.7,54.2,-101.4,-93.7,-98.3,120.7,120.9,120.7,120.7,120.9,120.7,120.7,120.8,120.7,120.7,120.8,120.7,60,60,60,15,10,14.9,9.9,-1.8,-1.5,-1.6,-1.2,-0.9,-1,-1.8,-1.5,-1.6,-1.2,-0.9,-1,-0.2,-0.1,-0.1,0,0.1,0,-0.1,0,0,0.1,0.1,0.1,120.9,121.4,121.1,120.6,121.2,120.9,120.7,121.2,120.9,120.5,121.1,120.8,60,60.1,60,13,15.7,14.4,13.3,15.4,14.4,13.4,16.3,14.9,11,12.9,11.9,1.6,1.9,1.7,1.6,1.9,1.7,1.7,2,1.8,1.3,1.6,1.4,0,0.1,0,0,0,0,-0.1,0.1,0,-0.1,0,0,6,2,2,2,1,1,179.4,29.4,"01:00:00",4336,0,0,0,0,0,0,0,0,0,0,0,0,0,0,0,0,0,0,0,0,30,48,1.7,1.2,0,0]
["2023-09-27T07:52:45",33,32,34,31,39,38,38,37,19.399999999999999,47.5,100,66.5,53.7,53.8,53.7,54.2,-96.7,-92.1,-94.1,120.7,120.9,120.8,120.7,120.8,120.7,120.7,120.9,120.7,120.7,120.8,120.7,60,60.1,60,14.9,8.8000000000000007,14.7,8.9,-1.8,-1.5,-1.6,-1.1000000000000001,-0.9,-0.9,-1.8,-1.4,-1.6,-1.1000000000000001,-0.8,-0.9,-0.2,-0.1,-0.1,0,0.1,0,-0.1,0,0,0,0.1,0.1,120.8,121.4,121.1,120.7,121.2,120.9,120.8,121.2,120.9,120.4,121.1,120.7,60,60.1,60,13.2,15.7,14.4,13.6,15.7,14.4,13.7,16,14.9,11,12.6,11.9,1.6,1.9,1.7,1.6,1.8,1.7,1.6,1.9,1.7,1.4,1.5,1.4,0,0,0,0,0.1,0,-0.1,0,0,-0.1,0,0,6,2,2,2,1,1,179.4,29.4,"01:00:00",4336,0,0,0,0,0,0,0,0,0,0,0,0,0,0,0,0,0,0,0,0,30,48,1.9,1.5,0,0]
["2023-09-27T07:58:51",34,32,35,31,39,38,39,37,19.399999999999999,49,100,66.5,53.7,53.8,53.7,54.2,-99.8,-90.8,-93.6,120.7,120.9,120.7,120.7,120.8,120.7,120.7,120.9,120.7,120.6,120.8,120.7,60,60.1,60,14.6,9.5,14.8,9.6999999999999993,-1.8,-1.5,-1.6,-1.1000000000000001,-0.8,-0.9,-1.8,-1.5,-1.6,-1.1000000000000001,-0.8,-0.9,-0.2,-0.1,-0.1,0,0.1,0,-0.1,0,0,0.1,0.1,0.1,120.8,121.4,121.1,120.6,121.3,120.9,120.7,121.2,120.9,120.4,121.2,120.7,60,60.1,60,13.1,15.4,14.4,13.7,15.5,14.4,13.9,16,15,11.2,13.2,11.9,1.6,1.9,1.7,1.7,1.9,1.7,1.7,1.9,1.8,1.4,1.5,1.4,0,0.1,0,-0.1,0,0,-0.1,0,0,-0.1,0,0,6,2,2,2,1,1,179.4,29.4,"01:00:00",4336,0,0,0,0,0,0,0,0,0,0,0,0,0,0,0,0,0,0,0,0,30,48,1.8,1.5,0,0]
["2023-09-27T08:02:53",34,32,35,31,39,38,39,37,19.399999999999999,49.9,100,66.5,53.7,53.8,53.7,54.2,-99.8,-95,-97.7,120.7,120.9,120.7,120.7,120.8,120.7,120.7,120.8,120.7,120.6,120.8,120.7,60,60.1,60,14.7,9.5,14.7,9.5,-1.8,-1.5,-1.6,-1.2,-1,-1,-1.8,-1.5,-1.6,-1.1000000000000001,-0.9,-1,-0.2,-0.1,-0.1,0,0.1,0,-0.1,0,0,0.1,0.1,0.1,120.9,121.4,121.1,120.7,121.2,120.9,120.7,121.1,120.9,120.5,121.1,120.7,60,60.1,60,13.3,15.4,14.4,13.7,15.1,14.4,13.9,16.100000000000001,14.9,11.2,12.7,12,1.6,1.9,1.7,1.7,1.8,1.7,1.7,1.9,1.8,1.4,1.5,1.4,0,0.1,0,0,0,0,-0.1,0,0,-0.1,0,0,6,2,2,2,1,1,179.4,29.4,"01:00:00",4336,0,0,0,0,0,0,0,0,0,0,0,0,0,0,0,0,0,0,0,0,30,48,1.5,1.3,0,0]
["2023-09-27T08:09:59",35,32,35,31,39,38,39,37,19.5,51.6,100,66.5,53.6,53.8,53.6,54.2,-97.9,-61,-73.599999999999994,119.9,120.9,120.6,120.7,121.4,121.1,119.9,120.9,120.5,120.7,121.4,121.1,59.9,60.2,60,17.100000000000001,9.1999999999999993,17.3,9.1999999999999993,-2.1,-1.4,-1.6,-1.1000000000000001,0,-0.4,-1.9,-1.5,-1.6,-1.1000000000000001,-0.1,-0.4,-0.2,0.1,-0.1,0,0.6,0.3,-0.1,0.1,0,0.1,0.7,0.4,120.5,121.3,121,120.8,121.8,121.1,120.2,121.1,120.7,120.5,121.5,120.9,60,60.2,60,12.6,18,14.3,10.1,15.6,14,13.4,19,14.9,7.7,12.4,10.9,1.5,2.2000000000000002,1.7,1.3,1.9,1.6,1.5,2.2999999999999998,1.7,0.9,1.5,1.3,-0.2,0.1,0,-0.1,0.1,0,-0.2,0,0,-0.2,0,0,6,2,2,2,1,1,179.4,29.4,"01:00:00",4336,0,0,0,0,0,0,0,0,0,0,0,0,0,0,0,0,0,0,0,0,30,48,3.3,2.4,0,0]
["2023-09-27T08:13:02",35,32,36,31,40,38,39,37,19.5,52.2,100,66.5,53.7,53.8,53.8,54.2,-97.7,-93.9,-95.8,120.7,120.9,120.7,120.7,120.9,120.7,120.7,120.8,120.7,120.7,120.9,120.7,60,60.1,60,14.6,9.1999999999999993,14.8,9,-1.8,-1.5,-1.6,-1.1000000000000001,-0.9,-1,-1.8,-1.5,-1.6,-1.1000000000000001,-0.9,-1,-0.2,-0.1,-0.1,0,0.1,0,-0.1,0,0,0.1,0.1,0.1,121,121.4,121.1,120.7,121.3,121,120.7,121.2,120.9,120.5,121,120.7,60,60.1,60,13.1,15.4,14.4,13.5,15.2,14.4,13.9,16.2,14.9,11.1,12.6,11.9,1.6,1.9,1.7,1.6,1.8,1.7,1.7,1.9,1.8,1.4,1.5,1.4,0,0.1,0,0,0,0,-0.1,0,0,-0.1,0,0,6,2,2,2,1,1,179.3,29.3,"01:00:00",4336,0,0,0,0,0,0,0,0,0,0,0,0,0,0,0,0,0,0,0,0,30,48,1.7,1.4,0,0]
["2023-09-27T08:17:05",35,32,36,31,40,38,39,37,19.5,53.1,100,66.5,53.7,53.9,53.8,54.2,-97.9,-93.2,-95.8,120.6,120.8,120.7,120.7,120.9,120.7,120.6,120.8,120.7,120.7,120.8,120.7,60,60.1,60,15.3,8.8000000000000007,15.3,8.8000000000000007,-1.8,-1.5,-1.6,-1.1000000000000001,-0.9,-0.9,-1.8,-1.6,-1.6,-1.1000000000000001,-0.9,-0.9,-0.2,-0.1,-0.1,0,0.1,0,-0.1,0,0,0.1,0.1,0.1,120.9,121.4,121.1,120.8,121.3,121,120.7,121.1,120.8,120.5,121.2,120.8,60,60.1,60,12.8,15.6,14.2,13.1,15.1,14.2,13.8,16.2,14.9,11.1,12.3,11.7,1.6,1.9,1.7,1.6,1.8,1.7,1.6,2,1.8,1.3,1.5,1.4,0,0,0,0,0.1,0,-0.1,0,0,-0.1,0,0,6,2,2,2,1,1,179.3,29.3,"01:00:00",4336,0,0,0,0,0,0,0,0,0,0,0,0,0,0,0,0,0,0,0,0,30,48,1.5,1.3,0,0]
["2023-09-27T08:22:09",36,32,37,31,40,38,40,37,19.399999999999999,54.3,100,66.5,53.8,53.9,53.8,54.2,-98.7,-89.8,-94.5,120.6,120.9,120.7,120.7,120.8,120.7,120.6,120.8,120.7,120.7,120.8,120.7,60,60.1,60,15.1,8.9,15.2,8.8000000000000007,-1.8,-1.5,-1.6,-1.1000000000000001,-0.8,-0.9,-1.8,-1.5,-1.6,-1,-0.8,-0.9,-0.2,-0.1,-0.1,0,0.1,0,-0.1,0,0,0,0.1,0.1,120.9,121.4,121.1,120.7,121.3,120.9,120.7,121.1,120.8,120.5,121.2,120.7,60,60.1,60,12.7,15.3,14.2,13.3,15,14.2,13.3,16,14.9,11.1,12.3,11.7,1.5,1.8,1.7,1.6,1.8,1.7,1.7,2,1.7,1.3,1.5,1.4,0,0.1,0,0,0.1,0,-0.1,0.1,0,-0.1,0,0,6,2,2,2,1,1,179.3,29.3,"01:00:00",4336,0,0,0,0,0,0,0,0,0,0,0,0,0,0,0,0,0,0,0,0,30,48,1.8,1.3,0,0]
["2023-09-27T08:28:16",36,32,37,31,40,38,40,37,19.399999999999999,55.7,100,66.5,53.8,53.9,53.8,54.2,-96.3,-91.9,-94,120.6,120.8,120.7,120.7,120.9,120.7,120.6,120.8,120.7,120.6,120.8,120.7,60,60.1,60,14.8,9.1999999999999993,14.8,9,-1.8,-1.4,-1.6,-1.1000000000000001,-0.9,-0.9,-1.8,-1.5,-1.6,-1.1000000000000001,-0.9,-0.9,-0.2,-0.1,-0.2,0,0.1,0,-0.1,0,-0.1,0.1,0.1,0.1,120.9,121.4,121,120.7,121.3,120.9,120.7,121.2,120.9,120.5,121.2,120.9,60,60.1,60,13.3,15.7,14.5,13.7,15.4,14.5,13.3,16.100000000000001,14.9,11.2,12.6,12,1.6,1.9,1.7,1.7,1.8,1.7,1.7,1.9,1.7,1.3,1.5,1.4,0,0.1,0,0,0.1,0,-0.1,0.1,0,-0.1,0,0,6,2,2,2,1,1,179.3,29.3,"01:00:00",4336,0,0,0,0,0,0,0,0,0,0,0,0,0,0,0,0,0,0,0,0,30,48,1.8,1.5,0,0]
["2023-09-27T08:32:19",36,32,37,31,40,38,40,37,19.399999999999999,56.6,100,66.5,53.9,54,53.9,54.2,-97.4,-93,-95.6,120.6,120.8,120.7,120.7,120.9,120.8,120.6,120.8,120.6,120.7,120.8,120.7,60,60.1,60,14.8,9.1999999999999993,14.8,9.3000000000000007,-1.8,-1.5,-1.6,-1.1000000000000001,-0.9,-1,-1.7,-1.5,-1.6,-1.1000000000000001,-0.9,-1,-0.2,-0.1,-0.2,0,0.1,0,-0.1,-0.1,-0.1,0.1,0.1,0.1,120.9,121.4,121.1,120.7,121.3,120.9,120.7,121.1,120.9,120.5,121.2,120.7,60,60.1,60,13.4,15.7,14.4,13.6,15.2,14.5,13.8,15.9,14.9,11.3,12.8,12,1.6,1.9,1.7,1.7,1.8,1.7,1.7,2,1.8,1.4,1.5,1.4,0,0.1,0,0,0,0,0,0,0,-0.1,0,0,6,2,2,2,1,1,179.3,29.3,"01:00:00",4336,0,0,0,0,0,0,0,0,0,0,0,0,0,0,0,0,0,0,0,0,30,48,1.9,1.4,0,0]
["2023-09-27T08:35:21",36,32,37,31,40,38,40,38,19.3,57.2,100,66.5,53.9,54,53.9,54.2,-94.3,-89.7,-91.8,120.9,121.1,120.9,120.6,120.8,120.6,120.9,121,120.9,120.6,120.7,120.6,59.9,60,60,13.8,9.1999999999999993,14,9.1999999999999993,-1.7,-1.4,-1.5,-1.1000000000000001,-0.9,-1,-1.7,-1.4,-1.5,-1.1000000000000001,-0.9,-1,-0.1,0,0,0,0.1,0,0,0.1,0,0.1,0.1,0.1,121,121.5,121.2,120.6,121.2,120.8,120.8,121.3,121,120.4,121.1,120.6,60,60.1,60,13.5,15.8,14.7,13.9,15.6,14.7,13.5,16.100000000000001,14.9,11.6,12.9,12.2,1.6,1.9,1.7,1.7,1.9,1.7,1.6,1.9,1.7,1.4,1.6,1.4,0,0,0,0,0,0,-0.1,0,0,-0.1,0,0,6,2,2,2,1,1,179.3,29.3,"01:00:00",4336,0,0,0,0,0,0,0,0,0,0,0,0,0,0,0,0,0,0,0,0,30,48,2.1,1.7,0,0]
["2023-09-27T08:42:29",36,32,37,31,41,38,40,38,19.3,58.9,100,66.599999999999994,53.9,54,54,54.2,-93.6,-88,-91.4,120.8,121,120.9,120.6,120.8,120.6,120.8,121,120.9,120.6,120.7,120.6,60,60.1,60,14,9,14,9.1999999999999993,-1.7,-1.4,-1.5,-1.1000000000000001,-0.9,-1,-1.7,-1.4,-1.5,-1.1000000000000001,-0.9,-1,-0.1,0,0,0,0.1,0,0,0.1,0,0.1,0.1,0.1,121,121.4,121.2,120.7,121.2,120.8,120.8,121.2,121,120.4,121.1,120.6,60,60.1,60,13.7,15.9,14.7,13.9,15.6,14.7,13.7,16,14.9,11.4,12.7,12.1,1.7,1.9,1.7,1.7,1.9,1.7,1.7,1.9,1.7,1.4,1.5,1.4,0,0,0,0,0,0,-0.1,0,0,-0.1,0,0,6,2,2,2,1,1,179.3,29.3,"01:00:00",4336,0,0,0,0,0,0,0,0,0,0,0,0,0,0,0,0,0,0,0,0,30,48,2.1,1.7,0,0]
["2023-09-27T08:46:32",36,33,37,31,41,38,40,38,19.3,59.8,100,66.599999999999994,54,54.1,54,54.2,-95.8,-91.7,-93.8,120.9,121,120.9,120.6,120.8,120.6,120.9,121,120.9,120.5,120.7,120.6,60,60.1,60,13.6,9.6999999999999993,13.9,9.9,-1.6,-1.4,-1.5,-1.2,-1,-1,-1.7,-1.4,-1.5,-1.2,-1,-1,-0.1,0,0,0,0,0,0,0.1,0,0.1,0.1,0.1,121,121.5,121.2,120.6,121.2,120.8,120.8,121.3,121,120.4,121,120.6,60,60.1,60,13.3,15.7,14.7,13.7,15.5,14.7,13.6,16,14.9,11.5,13.1,12.3,1.6,1.9,1.7,1.7,1.9,1.7,1.7,1.9,1.8,1.4,1.5,1.4,0,0,0,0,0,0,-0.1,0,0,-0.1,0,0,6,2,2,2,1,1,179.3,29.3,"01:00:00",4336,0,0,0,0,0,0,0,0,0,0,0,0,0,0,0,0,0,0,0,0,30,48,2,1.5,0,0]
["2023-09-27T08:47:34",36,33,37,31,41,38,40,38,19.3,60,100,66.599999999999994,54,54.1,54,54.2,-97.3,-91.6,-94.9,120.5,121,120.7,120.6,120.9,120.7,120.6,121,120.7,120.6,120.9,120.7,60,60.1,60,14.6,9.6999999999999993,14.6,9.4,-1.8,-1.4,-1.5,-1.1000000000000001,-0.9,-1,-1.7,-1.4,-1.6,-1.1000000000000001,-0.9,-1,-0.2,0,-0.1,0,0.1,0,-0.1,0.1,0,0.1,0.2,0.1,120.8,121.4,121.1,120.6,121.3,120.9,120.7,121.2,120.9,120.5,121.1,120.7,60,60.1,60,13.2,15.6,14.5,13.7,15.4,14.5,13.5,16.2,15,11,12.8,12.1,1.6,1.9,1.7,1.6,1.8,1.7,1.6,1.9,1.8,1.4,1.5,1.4,0,0.1,0,0,0,0,-0.1,0,0,-0.1,0,0,6,2,2,2,1,1,179.3,29.3,"01:00:00",4336,0,0,0,0,0,0,0,0,0,0,0,0,0,0,0,0,0,0,0,0,30,48,1.8,1.4,0,0]
["2023-09-27T08:53:39",36,32,37,31,41,38,41,38,19.399999999999999,61.4,100,66.599999999999994,54.1,54.2,54.1,54.2,-91.2,-82.9,-87.1,121,121.3,121.1,120.6,120.8,120.6,121,121.2,121.1,120.5,120.7,120.5,59.9,60,60,13.1,9.6999999999999993,13.2,9.6,-1.6,-1.3,-1.4,-1.2,-0.8,-0.9,-1.6,-1.3,-1.4,-1.2,-0.8,-0.9,0.1,0.1,0.1,0,0.1,0,0.2,0.2,0.2,0.1,0.1,0.1,121,121.6,121.2,120.6,121.1,120.8,120.8,121.3,121,120.4,121,120.6,60,60.1,60,13.6,15.9,14.8,13.7,15.9,14.9,13.4,16,14.7,11,12.9,12,1.6,1.9,1.7,1.7,1.9,1.7,1.6,1.9,1.7,1.4,1.5,1.4,0,0,0,0,0,0,-0.1,-0.1,-0.1,-0.1,0,0,6,2,2,2,1,1,179.3,29.3,"01:00:00",4336,0,0,0,0,0,0,0,0,0,0,0,0,0,0,0,0,0,0,0,0,30,48,2.4,1.9,0,0]
["2023-09-27T08:56:42",36,32,37,31,41,38,41,38,19.5,62,100,66.599999999999994,54.1,54.2,54.1,54.2,-89.8,-81,-85.2,121,121.3,121.1,120.5,120.8,120.6,121,121.3,121.1,120.4,120.7,120.5,60,60.1,60,13.4,9.1,13.6,9.1,-1.6,-1.3,-1.4,-1.1000000000000001,-0.7,-0.9,-1.6,-1.3,-1.4,-1.1000000000000001,-0.7,-0.9,0.1,0.2,0.1,0,0.1,0,0.2,0.2,0.2,0.1,0.1,0.1,121.1,121.6,121.3,120.5,121.1,120.8,120.9,121.4,121,120.3,120.9,120.6,60,60.1,60,13.5,16.100000000000001,14.8,13.7,16.5,14.8,13.4,16.2,14.8,11.1,13.2,11.9,1.6,1.9,1.7,1.7,2,1.7,1.6,1.9,1.7,1.3,1.6,1.4,0,0,0,-0.1,0,0,-0.1,-0.1,-0.1,-0.1,0,0,6,2,2,2,1,1,179.3,29.3,"01:00:00",4336,0,0,0,0,0,0,0,0,0,0,0,0,0,0,0,0,0,0,0,0,30,48,2.5,2,0,0]
["2023-09-27T09:04:48",36,32,37,31,42,38,41,38,19.5,63.7,100,66.599999999999994,54.1,54.3,54.2,54.2,-89.7,-80.3,-85.1,121,121.3,121.1,120.5,120.7,120.6,121,121.2,121,120.4,120.7,120.5,60,60.1,60,13.4,9,13.8,9.1,-1.6,-1.3,-1.4,-1.1000000000000001,-0.7,-0.9,-1.6,-1.3,-1.4,-1.1000000000000001,-0.7,-0.9,0.1,0.2,0.1,0,0.1,0,0.2,0.2,0.2,0,0.1,0.1,121,121.6,121.3,120.5,121.2,120.8,120.9,121.3,121,120.4,121.2,120.6,60,60.1,60,13.4,16.100000000000001,14.8,13.2,16.600000000000001,14.8,13.4,16.100000000000001,14.8,10.8,13,11.9,1.6,1.9,1.7,1.6,1.9,1.7,1.6,2,1.7,1.3,1.6,1.4,0,0.1,0,-0.1,0,0,-0.2,-0.1,-0.1,0,0,0,6,2,2,2,1,1,179.3,29.3,"01:00:00",4336,0,0,0,0,0,0,0,0,0,0,0,0,0,0,0,0,0,0,0,0,30,48,2.5,2,0,0]
["2023-09-27T09:06:49",36,32,37,31,42,38,41,38,19.5,64.2,100,66.599999999999994,54.2,54.3,54.2,54.2,-92.5,-83.5,-88.2,120.7,121.1,120.9,120.6,120.8,120.7,120.7,121,120.8,120.5,120.8,120.6,60,60.1,60,14.1,8.9,14.2,9.1,-1.7,-1.4,-1.5,-1.1000000000000001,-0.7,-0.9,-1.7,-1.4,-1.5,-1.1000000000000001,-0.8,-0.8,-0.1,0,0,0,0.1,0,0,0.1,0,0,0.1,0.1,120.9,121.5,121.2,120.7,121.3,120.9,120.8,121.3,120.9,120.4,121.1,120.7,60,60.1,60,13,15.9,14.6,13.5,16.100000000000001,14.7,13.2,16.2,15,10.7,13.2,11.8,1.6,1.9,1.7,1.6,1.9,1.7,1.6,2,1.8,1.3,1.6,1.4,-0.1,0.1,0,0,0,0,-0.1,0,0,-0.1,0,0,6,2,2,2,1,1,179.3,29.3,"00:59:52",4336,0,0,0,0,0,0,0,0,0,0,0,0,0,0,0,0,0,0,0,0,30,48,2.2999999999999998,1.8,0,0]
["2023-09-27T09:11:53",37,32,37,31,42,38,41,38,19.5,65.2,100,66.599999999999994,54.2,54.3,54.2,54.2,-92.5,-80.599999999999994,-86.4,120.6,120.9,120.7,120.7,121,120.8,120.5,120.9,120.6,120.6,121,120.7,60,60.1,60,14.5,8.8000000000000007,14.6,8.9,-1.7,-1.4,-1.5,-1.1000000000000001,-0.7,-0.8,-1.7,-1.4,-1.5,-1.1000000000000001,-0.7,-0.8,-0.2,-0.1,-0.1,0,0.1,0,-0.2,-0.1,-0.1,0.1,0.2,0.1,120.9,121.4,121.1,120.7,121.4,121,120.6,121.2,120.9,120.5,121.3,120.8,60,60.1,60,12.5,15.5,14,12.8,15.4,14,13.1,16.100000000000001,14.6,10.3,12.5,11.5,1.5,1.9,1.6,1.5,1.8,1.6,1.6,1.9,1.7,1.3,1.5,1.3,0,0.1,0,0,0,0,0,0.1,0,-0.1,0,0,6,2,2,2,1,1,179.3,29.3,"00:54:48",4336,0,0,0,0,0,0,0,0,0,0,0,0,0,0,0,0,0,0,0,0,30,48,2.2000000000000002,1.6,0,0]
["2023-09-27T09:16:57",37,32,38,31,42,38,42,38,19.5,66.3,100,66.599999999999994,54.2,54.3,54.2,54.2,-94.2,-80.8,-87.3,120.5,120.9,120.6,120.6,120.9,120.7,120.5,120.8,120.6,120.6,120.9,120.7,60,60.1,60,14.4,9.3000000000000007,14.3,9.1,-1.7,-1.3,-1.5,-1.1000000000000001,-0.7,-0.8,-1.7,-1.3,-1.5,-1.1000000000000001,-0.7,-0.8,-0.2,-0.1,-0.1,0,0.1,0,-0.1,-0.1,-0.1,0,0.1,0.1,120.9,121.4,121.1,120.7,121.4,121,120.7,121.1,120.9,120.5,121.2,120.8,60,60.1,60,12.2,15.7,14.1,12.1,15.9,14.2,12.5,15.7,14.2,9.8000000000000007,12.7,11.4,1.5,1.9,1.7,1.5,1.9,1.7,1.5,1.9,1.7,1.2,1.5,1.3,-0.1,0,0,0,0.1,0,-0.1,0.1,0,-0.1,0,0,6,2,2,2,1,1,179.3,29.3,"00:52:22",4336,0,0,0,0,0,0,0,0,0,0,0,0,0,0,0,0,0,0,0,0,30,48,2.2999999999999998,1.6,0,0]
["2023-09-27T09:23:03",37,31,38,31,42,38,42,38,19.600000000000001,67.5,100,66.599999999999994,54.1,54.2,54.1,54.2,-79,-54.2,-68.8,120.3,121.1,120.6,120.6,121.4,120.9,120.3,121,120.6,120.6,121.3,120.8,59.9,60.2,60,16.100000000000001,5.3,15.9,5.3,-1.9,-1.4,-1.6,-0.6,0.1,-0.3,-1.9,-1.4,-1.6,-0.6,0.2,-0.3,-0.4,-0.1,-0.1,0,0.3,0,-0.1,0,0,0,0.5,0.1,120.8,121.5,121,119.7,121.6,121,120.5,121.2,120.8,120.4,121.5,120.8,59.9,60.2,60,12.9,17.399999999999999,14.8,11.8,18.7,14.8,12.6,17.399999999999999,14.8,8.9,13.9,11.3,1.5,2.1,1.7,1.4,2.2000000000000002,1.7,1.4,2.1,1.7,1.1000000000000001,1.7,1.3,-0.1,0.4,0,-0.2,0.1,0,-0.1,0.1,0,-0.2,0,0,6,2,2,2,1,1,179.3,29.3,"00:50:58",4336,0,0,0,0,0,0,0,0,0,0,0,0,0,0,0,0,0,0,0,0,30,48,4,2.8,0,0]
["2023-09-27T09:27:06",37,31,38,30,42,38,42,38,19.7,68.2,100,66.599999999999994,54.1,54.2,54.2,54.2,-79.2,-67.5,-73.3,120.5,120.9,120.6,120.7,121,120.8,120.5,120.8,120.6,120.6,121,120.8,60,60.1,60,15.5,5.2,15.4,5,-1.9,-1.4,-1.6,-0.6,-0.2,-0.4,-1.9,-1.5,-1.6,-0.6,-0.3,-0.4,-0.2,-0.1,-0.1,0,0.1,0,-0.1,0,0,0,0.1,0,120.9,121.4,121.1,120.7,121.4,121,120.6,121.2,120.8,120.5,121.2,120.8,60,60.1,60,12.7,16.5,14.7,13.1,16.399999999999999,14.8,13,16.600000000000001,14.8,10.1,12.7,11.4,1.5,2,1.7,1.6,1.9,1.7,1.6,2,1.7,1.2,1.5,1.3,-0.1,0.1,0,0,0.1,0,-0.1,0,0,-0.1,0,0,6,2,2,2,1,1,179.3,29.3,"00:50:58",4336,0,0,0,0,0,0,0,0,0,0,0,0,0,0,0,0,0,0,0,0,30,48,3.1,2.6,0,0]
["2023-09-27T09:30:09",37,31,38,30,43,38,42,38,19.7,68.7,100,66.599999999999994,54.1,54.2,54.1,54.2,-77.2,-67.5,-72.400000000000006,120.6,120.9,120.7,120.7,121.1,120.9,120.5,120.9,120.7,120.7,121.1,120.8,59.9,60.1,59.9,15,4.7,15,4.8,-1.8,-1.4,-1.6,-0.6,-0.2,-0.3,-1.8,-1.5,-1.6,-0.6,-0.2,-0.3,-0.2,-0.1,-0.1,0,0.1,0,-0.1,0,0,0,0.1,0.1,120.9,121.3,121.1,120.8,121.4,121,120.6,121.2,120.8,120.5,121.4,120.8,59.9,60.1,60,13.1,16.3,14.7,13.3,16.7,14.8,13.2,16.2,14.8,10,12.8,11.3,1.6,2,1.7,1.6,1.9,1.7,1.7,2,1.7,1.2,1.5,1.3,0,0.1,0,0,0.1,0,-0.1,0,0,-0.1,0,0,6,2,2,2,1,1,179.3,29.3,"00:50:58",4336,0,0,0,0,0,0,0,0,0,0,0,0,0,0,0,0,0,0,0,0,30,48,3.1,2.6,0,0]
["2023-09-27T09:36:13",38,30,38,29,43,38,43,38,19.8,69.8,100,66.599999999999994,54.1,54.2,54.1,54.2,-74.400000000000006,-62.4,-67.599999999999994,120.5,120.9,120.6,120.7,121.1,120.8,120.5,120.8,120.6,120.6,121.1,120.8,59.9,60.1,60,15.2,4.2,15.3,4.3,-1.8,-1.4,-1.5,-0.5,-0.1,-0.2,-1.8,-1.4,-1.6,-0.5,-0.1,-0.2,-0.2,-0.1,-0.1,0,0.1,0,-0.1,0,0,0,0.2,0.1,120.8,121.3,121,120.8,121.4,121,120.6,121.1,120.8,120.4,121.4,120.8,60,60.1,60,13.1,16.5,14.8,13.2,16.7,14.8,12.9,16.7,14.8,9.9,12.5,11.2,1.6,2,1.7,1.6,2,1.7,1.6,2,1.7,1.2,1.5,1.3,0,0.1,0,-0.1,0.1,0,0,0,0,-0.1,0,0,6,2,2,2,1,1,179.3,29.3,"00:50:58",4336,0,0,0,0,0,0,0,0,0,0,0,0,0,0,0,0,0,0,0,0,30,48,3.4,2.9,0,0]
["2023-09-27T09:41:18",38,30,38,29,43,38,43,37,19.899999999999999,70.7,100,66.599999999999994,54.1,54.2,54.2,54.2,-78.400000000000006,-67.400000000000006,-72.900000000000006,120.5,121,120.6,120.7,121,120.8,120.4,120.8,120.6,120.7,121.1,120.8,59.9,60.1,60,15.2,4.8,15.3,4.8,-1.8,-1.4,-1.6,-0.6,-0.3,-0.4,-1.8,-1.5,-1.6,-0.6,-0.2,-0.4,-0.2,-0.1,-0.1,0,0.1,0,-0.1,0,0,0.1,0.2,0.1,120.8,121.4,121,120.7,121.4,121,120.6,121.1,120.8,120.6,121.3,120.8,60,60.1,60,13,16.3,14.7,13.6,16.600000000000001,14.7,13.3,16.5,14.8,10.5,12.8,11.3,1.6,2,1.7,1.7,2,1.7,1.6,2,1.7,1.3,1.5,1.3,-0.1,0.1,0,-0.1,0,0,-0.1,0.1,0,-0.1,0,0,6,2,2,2,1,1,179.3,29.3,"00:50:58",4336,0,0,0,0,0,0,0,0,0,0,0,0,0,0,0,0,0,0,0,0,30,48,3.5,2.5,0,0]
["2023-09-27T09:46:22",38,30,39,29,43,38,43,37,20,71.7,100,66.599999999999994,54.1,54.3,54.2,54.2,-76.400000000000006,-69.7,-73,120.6,120.9,120.7,120.8,121,120.8,120.5,120.8,120.6,120.7,121,120.8,60,60.1,60,14.6,4.9000000000000004,14.5,5.2,-1.8,-1.4,-1.5,-0.6,-0.4,-0.4,-1.8,-1.4,-1.5,-0.6,-0.4,-0.4,-0.2,-0.1,-0.1,0,0.1,0,-0.1,0,0,0.1,0.2,0.1,120.9,121.4,121.1,120.7,121.3,121,120.6,121.1,120.8,120.5,121.3,120.8,60,60.1,60,13.6,16.7,14.9,14,15.8,14.8,13,16.2,14.7,10.7,12.2,11.5,1.6,2,1.7,1.7,1.9,1.7,1.6,1.9,1.7,1.3,1.5,1.3,0,0.1,0,0,0.1,0,-0.1,0,0,-0.1,0,0,6,2,2,2,1,1,179.3,29.3,"00:50:58",4336,0,0,0,0,0,0,0,0,0,0,0,0,0,0,0,0,0,0,0,0,30,48,3.1,2.6,0,0]
["2023-09-27T09:48:25",38,30,38,29,43,38,43,37,20,72,100,66.599999999999994,54.1,54.3,54.2,54.2,-75.599999999999994,-69.599999999999994,-72.7,120.5,120.8,120.7,120.8,121,120.8,120.5,120.8,120.6,120.7,121,120.8,60,60.1,60,14.6,4.5999999999999996,14.8,4.7,-1.8,-1.4,-1.5,-0.5,-0.4,-0.4,-1.7,-1.5,-1.5,-0.5,-0.3,-0.4,-0.2,-0.1,-0.1,0,0.1,0,-0.2,0,0,0.1,0.2,0.1,120.9,121.3,121.1,120.7,121.4,121,120.7,121.1,120.8,120.5,121.2,120.8,60,60.1,60,13.5,16.399999999999999,14.8,14.1,15.8,14.8,13,15.8,14.7,10.8,12,11.4,1.6,2,1.7,1.7,1.9,1.7,1.6,1.9,1.7,1.2,1.5,1.3,0,0.1,0,0,0.1,0,-0.1,0,0,-0.1,0,0,6,2,2,2,1,1,179.3,29.3,"00:50:58",4336,0,0,0,0,0,0,0,0,0,0,0,0,0,0,0,0,0,0,0,0,30,48,3,2.6,0,0]
["2023-09-27T09:51:26",38,30,38,30,43,38,43,37,20.100000000000001,72.599999999999994,100,66.599999999999994,54.2,54.3,54.2,54.2,-90.1,-72.8,-86.1,120.5,120.9,120.6,120.7,121.1,120.8,120.4,120.8,120.6,120.7,121.1,120.8,60,60.1,60,14.4,8.6,14,8.8000000000000007,-1.7,-1.3,-1.5,-1,-0.5,-0.9,-1.7,-1.4,-1.5,-1,-0.5,-0.9,-0.2,-0.1,-0.2,0,0.2,0.1,-0.1,0,-0.1,0.1,0.3,0.2,120.8,121.4,121.1,120.8,121.4,121,120.6,121.2,120.8,120.5,121.2,120.8,60,60.1,60,13,16.2,14.5,12.4,15.6,14.4,12.7,15.8,14.2,9.8000000000000007,12.4,11.5,1.6,2,1.7,1.5,1.9,1.7,1.5,1.9,1.7,1.2,1.5,1.3,-0.1,0.1,0,0,0.1,0,-0.1,0,0,-0.1,0,0,6,2,2,2,1,1,179.3,29.3,"00:50:33",4336,0,0,0,0,0,0,0,0,0,0,0,0,0,0,0,0,0,0,0,0,30,48,2.7,1.7,0,0]
["2023-09-27T09:59:33",38,31,38,30,43,38,43,38,20.399999999999999,74.2,100,66.7,54.2,54.3,54.2,54.2,-82.2,-70.3,-78.400000000000006,120.7,121.3,120.7,120.6,120.9,120.7,120.6,120.9,120.7,120.6,120.8,120.7,60,60.1,60,12.8,8.1999999999999993,12.6,8,-1.5,-1.1000000000000001,-1.3,-1,-0.4,-0.8,-1.5,-1.2,-1.3,-0.9,-0.4,-0.8,-0.3,-0.1,-0.2,0,0.2,0,-0.1,-0.1,-0.1,0,0.2,0.1,121,121.7,121.2,120.2,121.3,120.9,120.7,121.5,120.9,120.5,121.1,120.8,60,60.1,60.1,11.4,14.6,13.2,12.2,14.9,13.3,10.8,14.1,13,9.9,11.6,10.6,1.3,1.8,1.5,1.5,2,1.6,1.4,1.7,1.5,1.2,1.5,1.2,-0.2,0.2,0,0,0.5,0,-0.1,0,0,-0.1,0.4,0,6,2,2,2,1,1,179.3,29.3,"00:44:28",4336,0,0,0,0,0,0,0,0,0,0,0,0,0,0,0,0,0,0,0,0,30,48,3.1,1.6,0,0]
["2023-09-27T10:01:35",38,31,38,30,43,38,43,38,20.399999999999999,74.599999999999994,100,66.7,54.2,54.3,54.2,54.2,-86.6,-76.099999999999994,-80.7,120.6,120.9,120.7,120.6,120.9,120.7,120.6,120.9,120.7,120.6,120.9,120.7,60,60.1,60,13.1,8.6999999999999993,13,8.6999999999999993,-1.6,-1.3,-1.4,-1,-0.7,-0.8,-1.6,-1.3,-1.4,-1,-0.7,-0.8,-0.2,-0.2,-0.2,0,0.1,0,-0.2,-0.1,-0.1,0,0.1,0,120.9,121.4,121.1,120.7,121.3,121,120.7,121.2,120.9,120.5,121.2,120.8,60,60.1,60,12.2,15.1,13.6,12.1,15.1,13.6,12,14.5,13.4,9.6,11.9,10.9,1.5,1.8,1.6,1.5,1.8,1.6,1.4,1.7,1.6,1.2,1.5,1.3,0,0.1,0,0,0,0,0,0,0,-0.1,0,0,6,2,2,2,1,1,179.3,29.3,"00:43:10",4336,0,0,0,0,0,0,0,0,0,0,0,0,0,0,0,0,0,0,0,0,30,48,2.1,1.6,0,0]
["2023-09-27T10:06:40",38,31,38,30,43,38,43,37,20.5,75.599999999999994,100,66.7,54.2,54.3,54.2,54.2,-81,-73.3,-77.099999999999994,120.6,120.9,120.7,120.7,121.1,120.8,120.6,120.9,120.7,120.7,121,120.8,60,60.1,60,13,7.5,12.9,7.7,-1.6,-1.2,-1.3,-0.9,-0.6,-0.7,-1.5,-1.2,-1.3,-0.9,-0.6,-0.7,-0.2,-0.1,-0.2,0.1,0.2,0.1,-0.1,-0.1,-0.1,0.1,0.3,0.2,120.9,121.4,121.1,120.8,121.3,121,120.7,121.3,120.9,120.5,121.3,120.8,60,60.1,60,12.2,14.8,13.4,12.5,15,13.5,11.7,14.6,13.2,9.5,11.8,10.7,1.5,1.8,1.6,1.5,1.8,1.6,1.4,1.8,1.5,1.2,1.4,1.3,-0.1,0.1,0,0,0.1,0,-0.1,0.1,0,-0.1,0,0,6,2,2,2,1,1,179.3,29.3,"00:38:44",4336,0,0,0,0,0,0,0,0,0,0,0,0,0,0,0,0,0,0,0,0,30,48,2.2999999999999998,1.8,0,0]
["2023-09-27T10:10:44",38,31,38,30,44,38,44,38,20.7,76.400000000000006,100,66.7,54.2,54.3,54.2,54.2,-80.8,-72.5,-76.8,120.6,120.9,120.7,120.7,120.9,120.7,120.5,120.9,120.7,120.6,120.9,120.7,60,60.2,60.1,12.1,8,12.1,8.1,-1.4,-1.2,-1.3,-1,-0.7,-0.8,-1.4,-1.2,-1.3,-1,-0.7,-0.8,-0.2,-0.1,-0.2,0,0.1,0,-0.2,-0.1,-0.1,0,0.2,0.1,120.9,121.5,121.1,120.7,121.3,121,120.7,121.3,120.9,120.5,121.1,120.8,60.1,60.2,60.1,11.6,14,12.7,11.7,13.6,12.7,11.1,13.6,12.4,9.5,11,10.199999999999999,1.4,1.7,1.5,1.4,1.7,1.5,1.3,1.6,1.4,1.2,1.3,1.2,-0.1,0.1,0,0,0.1,0,0,0.1,0,-0.1,0,0,6,2,2,2,1,1,179.3,29.3,"00:36:11",4336,0,0,0,0,0,0,0,0,0,0,0,0,0,0,0,0,0,0,0,0,30,48,1.8,1.4,0,0]
["2023-09-27T10:17:49",37,31,38,31,44,38,44,38,20.8,77.8,100,66.7,54.2,54.3,54.2,54.2,-81.2,-73.599999999999994,-77.2,120.6,121.5,120.7,120.2,120.9,120.7,120.6,121.4,120.7,120.3,120.9,120.7,60,60.1,60,12.7,8,12.5,8.5,-1.5,-1.2,-1.3,-0.9,-0.7,-0.7,-1.5,-1.2,-1.3,-0.9,-0.7,-0.7,-0.2,0.3,-0.1,0,0.1,0,-0.1,0.4,0,0.1,0.2,0.1,120.9,121.7,121.1,120.3,121.3,121,120.7,121.3,120.9,120.1,121.2,120.8,60,60.1,60,12.3,14.7,13.4,12.6,14.7,13.5,11.8,14.3,13.1,9.9,12,10.7,1.5,1.8,1.6,1.5,1.8,1.6,1.5,1.7,1.5,1.2,1.4,1.3,-0.2,0.1,0,-0.1,0.1,0,-0.2,0.1,0,-0.1,0,0,6,2,2,2,1,1,179.3,29.3,"00:30:36",4336,0,0,0,0,0,0,0,0,0,0,0,0,0,0,0,0,0,0,0,0,30,48,2.1,1.8,0,0]
["2023-09-27T10:20:50",38,31,38,31,44,38,44,38,20.9,78.400000000000006,100,66.7,54.2,54.3,54.2,54.2,-78.5,-70.900000000000006,-74.099999999999994,120.6,120.9,120.7,120.7,121,120.8,120.6,120.8,120.7,120.6,120.9,120.7,60,60.1,60,12.9,7.2,13.1,7.3,-1.6,-1.2,-1.3,-0.9,-0.6,-0.6,-1.5,-1.3,-1.3,-0.8,-0.6,-0.6,-0.2,-0.1,-0.2,0,0.1,0,-0.2,-0.1,-0.1,0.1,0.2,0.1,120.9,121.4,121.1,120.7,121.4,121,120.7,121.2,120.9,120.5,121.2,120.8,60,60.1,60,12.1,15,13.4,12.2,14.5,13.4,11.7,14.3,13,9.6999999999999993,11.4,10.6,1.5,1.8,1.6,1.5,1.7,1.6,1.4,1.7,1.5,1.2,1.4,1.2,0,0.1,0,0,0.1,0,-0.1,0.1,0,-0.1,0,0,6,2,2,2,1,1,179.3,29.3,"00:28:00",4336,0,0,0,0,0,0,0,0,0,0,0,0,0,0,0,0,0,0,0,0,30,48,2.2000000000000002,1.9,0,0]
["2023-09-27T10:24:53",37,31,38,31,44,38,44,38,20.9,79.099999999999994,100,66.7,54.2,54.3,54.2,54.2,-77.099999999999994,-70.599999999999994,-74.400000000000006,120.7,120.9,120.7,120.7,120.9,120.7,120.6,120.9,120.7,120.6,120.9,120.7,60,60.1,60.1,11.7,7.8,11.6,7.8,-1.4,-1.1000000000000001,-1.2,-0.9,-0.7,-0.8,-1.4,-1.1000000000000001,-1.2,-0.9,-0.7,-0.8,-0.2,-0.2,-0.2,0,0.1,0,-0.2,-0.1,-0.1,0,0.2,0.1,121,121.5,121.2,120.7,121.3,121,120.8,121.3,121,120.5,121.2,120.8,60.1,60.1,60.1,11.2,13.7,12.5,11.3,13.5,12.5,10.8,13.5,12,8.9,11,10,1.3,1.7,1.5,1.4,1.6,1.4,1.3,1.6,1.4,1.1000000000000001,1.3,1.2,-0.1,0.1,0,-0.1,0.1,0,-0.1,0.1,0,-0.1,0,0,6,2,2,2,1,1,179.3,29.3,"00:24:11",4336,0,0,0,0,0,0,0,0,0,0,0,0,0,0,0,0,0,0,0,0,30,48,1.9,1.5,0,0]
["2023-09-27T10:30:59",36,31,37,31,44,38,44,38,21.1,79.900000000000006,100,66.7,53.4,53.5,53.4,54.2,31.3,35.4,33.1,120,120,120,120,120,120,119.9,120,119.9,120,120,120,59,59,59,3.1,5.7,3,5.5,0.2,0.2,0.2,0.6,0.7,0.6,0.3,0.3,0.3,0.5,0.7,0.5,-0.3,-0.2,-0.2,0,0,0,-0.2,-0.1,-0.1,0,0.1,0,121.4,121.9,121.6,120.8,121.4,121.1,121.2,121.6,121.3,120.7,121.3,120.9,60,60.2,60,0.3,0.3,0.3,0.3,0.4,0.3,0.2,0.3,0.2,0.5,0.5,0.5,0,0,0,0,0,0,0,0,0,0,0,0,0,0,0,0,0,0,0,0,0,0,0,0,9,1,2,2,1,1,179.3,29.3,"00:21:38",4337,0,0,0,0,0,0,0,0,0,0,0,0,0,0,0,0,0,0,0,0,30,48,1.8,1.6,0,0]
["2023-09-27T10:36:02",35,31,35,30,43,38,43,38,21.2,79.5,100,66.7,53.3,53.3,53.3,54.2,36.200000000000003,38.1,37,120,120,120,120,120,120,119.9,120,119.9,119.9,120,119.9,59,59,59,3.4,5.7,3.4,5.4,0.2,0.3,0.2,0.6,0.7,0.6,0.3,0.4,0.3,0.6,0.6,0.6,-0.3,-0.3,-0.3,-0.1,0,0,-0.2,-0.2,-0.2,0,0,0,0.8,1.1000000000000001,0.9,0.8,1.1000000000000001,0.8,0.9,1,0.9,0.8,1.1000000000000001,0.9,0,0,0,0.3,0.3,0.3,0.3,0.4,0.3,0.2,0.3,0.2,0.5,0.5,0.5,0,0,0,0,0,0,0,0,0,0,0,0,0,0,0,0,0,0,0,0,0,0,0,0,10,1,1,2,1,1,179.3,29.2,"01:00:00",4340,0,0,0,0,0,0,0,0,0,0,0,0,0,0,0,0,0,0,0,0,30,48,1.9,1.8,0,0]
["2023-09-27T10:41:07",35,32,35,31,43,38,43,38,21.3,79.099999999999994,100,66.7,53.3,54.1,53.8,54.2,-91.5,35.5,-74.8,119.9,120,120,119.9,120,120,119.9,119.9,119.9,119.9,120,119.9,59,59,59,12.8,9.1,12.6,8.9,-1.5,0.1,-1.2,-1.1000000000000001,0.7,-0.8,-1.5,0.3,-1.2,-1.1000000000000001,0.7,-0.8,-0.4,-0.2,-0.2,-0.1,0.1,0,-0.3,-0.1,-0.1,-0.1,0.1,0,0.2,0.5,0.3,0.3,0.5,0.4,0.1,0.4,0.2,0.5,0.7,0.6,0,0,0,0.3,0.3,0.3,0.3,0.4,0.3,0.2,0.3,0.2,0.5,0.5,0.5,0,0,0,0,0,0,0,0,0,0,0,0,0,0,0,0,0,0,0,0,0,0,0,0,10,1,1,2,1,1,179.2,29.2,"01:00:00",4342,0,0,0,0,0,0,0,0,0,0,0,0,0,0,0,0,0,0,0,0,30,48,1.8,-4.2,0,0]
["2023-09-27T10:43:09",36,32,36,31,43,38,43,38,21.4,79.5,100,66.7,54.2,54.3,54.2,54.2,-89.7,-86.9,-88.4,120,120,120,120,120,120,119.9,119.9,119.9,119.9,120,119.9,59,59,59,12.1,9.1,12.5,8.6,-1.4,-1.4,-1.4,-1.1000000000000001,-1,-1,-1.5,-1.5,-1.5,-1,-0.9,-1,-0.3,-0.2,-0.2,0,0,0,-0.1,-0.1,-0.1,0,0.1,0,0.2,0.5,0.3,0.3,0.5,0.4,0.2,0.4,0.2,0.5,0.7,0.6,0,0,0,0.3,0.3,0.3,0.3,0.4,0.3,0.2,0.3,0.2,0.5,0.5,0.5,0,0,0,0,0,0,0,0,0,0,0,0,0,0,0,0,0,0,0,0,0,0,0,0,10,1,1,2,1,1,179.2,29.2,"01:00:00",4342,0,0,0,0,0,0,0,0,0,0,0,0,0,0,0,0,0,0,0,0,30,48,-4.9000000000000004,-4.9000000000000004,0,0]
["2023-09-27T10:50:16",36,33,37,32,44,38,43,38,21.7,81.2,100,66.7,54.3,54.3,54.3,54.2,-81.2,-79.599999999999994,-80.7,120,120,120,120,120,120,119.9,120,119.9,119.9,120,119.9,59.4,59.5,59.4,8.5,11.2,8.4,10.6,-1,-0.9,-0.9,-1.3,-1.3,-1.3,-1,-0.9,-1,-1.3,-1.2,-1.2,-0.2,-0.2,-0.2,0,0,0,-0.1,-0.1,-0.1,0,0.1,0,0.2,0.4,0.3,0.3,0.5,0.3,0.1,0.3,0.2,0.4,0.7,0.5,0,0,0,0.3,0.3,0.3,0.3,0.4,0.3,0.2,0.3,0.3,0.5,0.5,0.5,0,0,0,0,0,0,0,0,0,0,0,0,0,0,0,0,0,0,0,0,0,0,0,0,1,1,1,2,1,1,179.2,29.2,"00:53:14",4342,0,0,0,0,0,0,0,0,0,0,0,0,0,0,0,0,0,0,0,0,30,48,-4.5,-4.5,0,0]
["2023-09-27T10:54:19",36,34,37,32,44,38,43,38,21.7,81.900000000000006,100,66.7,54.3,54.4,54.3,54.2,-83.2,-81.599999999999994,-82.4,120,120,120,120,120,120,119.9,119.9,119.9,119.9,120,119.9,59.4,59.5,59.4,8.8000000000000007,11.5,8.6999999999999993,10.9,-1,-1,-1,-1.4,-1.3,-1.3,-1,-1,-1,-1.3,-1.3,-1.3,-0.2,-0.2,-0.2,0,0,0,-0.1,-0.1,-0.1,0,0.1,0,0.2,0.4,0.3,0.3,0.4,0.3,0.2,0.4,0.2,0.5,0.7,0.6,0,0,0,0.3,0.3,0.3,0.3,0.3,0.3,0.2,0.3,0.2,0.5,0.5,0.5,0,0,0,0,0,0,0,0,0,0,0,0,0,0,0,0,0,0,0,0,0,0,0,0,1,1,1,2,1,1,179.2,29.2,"00:49:59",4342,0,0,0,0,0,0,0,0,0,0,0,0,0,0,0,0,0,0,0,0,30,48,-4.5999999999999996,-4.5999999999999996,0,0]
["2023-09-27T10:55:20",36,34,37,32,44,39,43,38,21.8,82.1,100,66.7,54.3,54.4,54.3,54.2,-85.8,-82.7,-84.4,120,120,120,120,120,120,119.9,120,119.9,119.9,120,120,59.5,59.6,59.5,8.8000000000000007,12,8.6999999999999993,11.3,-1,-1,-1,-1.4,-1.4,-1.4,-1,-1,-1,-1.3,-1.3,-1.3,-0.2,-0.2,-0.2,0,0,0,-0.1,-0.1,-0.1,0,0.1,0,0.2,0.5,0.3,0.3,0.5,0.3,0.2,0.5,0.2,0.5,0.7,0.5,0,0,0,0.2,0.3,0.3,0.3,0.3,0.3,0.2,0.3,0.2,0.5,0.5,0.5,0,0,0,0,0,0,0,0,0,0,0,0,0,0,0,0,0,0,0,0,0,0,0,0,1,1,1,2,1,1,179.2,29.2,"00:48:58",4342,0,0,0,0,0,0,0,0,0,0,0,0,0,0,0,0,0,0,0,0,30,48,-4.5999999999999996,-4.7,0,0]
["2023-09-27T11:01:25",36,35,37,33,44,39,43,38,21.8,83.4,100,66.7,54.4,54.4,54.4,54.2,-88.4,-85.1,-86.8,120,120,120,120,120,120,119.9,120,119.9,119.9,120,119.9,60,60.1,60,9.1,12.3,9.1,11.6,-1.1000000000000001,-1,-1,-1.5,-1.4,-1.4,-1.1000000000000001,-1,-1,-1.4,-1.3,-1.3,-0.3,-0.2,-0.2,-0.1,0,0,-0.1,-0.1,-0.1,0,0.1,0,0.2,0.5,0.3,0.3,0.5,0.3,0.1,0.4,0.2,0.5,0.7,0.6,0,0,0,0.2,0.3,0.3,0.3,0.3,0.3,0.2,0.3,0.2,0.5,0.5,0.5,0,0,0,0,0,0,0,0,0,0,0,0,0,0,0,0,0,0,0,0,0,0,0,0,1,1,1,2,1,1,179.2,29.2,"00:42:53",4342,0,0,0,0,0,0,0,0,0,0,0,0,0,0,0,0,0,0,0,0,30,48,-4.8,-4.8,0,0]
["2023-09-27T11:05:28",36,35,37,33,44,39,43,38,21.7,84.2,100,66.7,54.3,54.4,54.3,54.2,-88,-83.1,-85.3,120,120,120,119.9,120,120,119.9,120,119.9,119.9,120,119.9,60.4,60.5,60.4,9,12.2,9,11.5,-1,-1,-1,-1.5,-1.3,-1.3,-1.1000000000000001,-1,-1,-1.4,-1.2,-1.3,-0.3,-0.2,-0.2,-0.1,0.1,0,-0.1,-0.1,-0.1,0,0.2,0,0.2,0.5,0.3,0.3,0.4,0.3,0.1,0.3,0.2,0.5,0.7,0.6,0,0,0,0.2,0.3,0.3,0.3,0.3,0.3,0.2,0.3,0.3,0.5,0.5,0.5,0,0,0,0,0,0,0,0,0,0,0,0,0,0,0,0,0,0,0,0,0,0,0,0,1,1,1,2,1,1,179.2,29.2,"00:38:49",4342,0,0,0,0,0,0,0,0,0,0,0,0,0,0,0,0,0,0,0,0,30,48,-4.5999999999999996,-4.7,0,0]
["2023-09-27T11:12:36",36,35,37,34,44,39,43,39,21.9,85.8,100,66.8,54.3,54.3,54.3,54.2,-72.099999999999994,-68.900000000000006,-71.099999999999994,120,120,120,120,120,120,119.9,120,119.9,119.9,120,119.9,61.5,61.5,61.5,7.5,10.3,7.3,9.6999999999999993,-0.9,-0.8,-0.8,-1.2,-1.1000000000000001,-1.1000000000000001,-0.9,-0.8,-0.8,-1.2,-1.1000000000000001,-1.1000000000000001,-0.3,-0.3,-0.3,-0.1,-0.1,-0.1,-0.2,-0.2,-0.2,0,0,0,0.2,0.4,0.2,0.2,0.4,0.3,0.1,0.3,0.2,0.5,0.7,0.6,0,0,0,0.3,0.3,0.3,0.3,0.3,0.3,0.3,0.3,0.3,0.5,0.5,0.5,0,0,0,0,0,0,0,0,0,0,0,0,0,0,0,0,0,0,0,0,0,0,0,0,1,1,1,2,1,1,179.2,29.2,"00:31:42",4342,0,0,0,0,0,0,0,0,0,0,0,0,0,0,0,0,0,0,0,0,30,48,-3.8,-3.9,0,0]
["2023-09-27T11:15:38",36,35,37,33,44,39,43,39,22.1,86.3,100,66.8,54.1,54.4,54.3,54.2,-87.1,-53.3,-81.099999999999994,120,120,120,120,120.2,120,119.9,119.9,119.9,119.9,120.2,119.9,61.4,61.4,61.4,9.1,11.9,9.1,11.2,-1.1000000000000001,-0.9,-1,-1.4,-0.5,-1.2,-1.1000000000000001,-1,-1,-1.4,-0.4,-1.2,-0.3,-0.2,-0.3,-0.1,0.4,0,-0.2,-0.1,-0.1,0,0.5,0,0.2,0.4,0.2,0.2,0.5,0.3,0.1,0.3,0.2,0.6,0.8,0.6,0,0,0,0.3,0.3,0.3,0.3,0.3,0.3,0.2,0.3,0.3,0.5,0.5,0.5,0,0,0,0,0,0,0,0,0,0,0,0,0,0,0,0,0,0,0,0,0,0,0,0,1,1,1,2,1,1,179.2,29.2,"00:29:34",4342,0,0,0,0,0,0,0,0,0,0,0,0,0,0,0,0,0,0,0,0,30,48,-3,-4.5,0,0]
["2023-09-27T11:19:43",36,35,36,34,44,39,43,39,22.5,87.1,100,66.8,54.3,54.3,54.3,54.2,-72.599999999999994,-70.7,-71.5,120,120,120,120,120,120,119.9,120,119.9,119.9,120,119.9,61.4,61.5,61.4,7.5,10.199999999999999,7.3,9.6999999999999993,-0.9,-0.8,-0.8,-1.2,-1.2,-1.2,-0.9,-0.8,-0.8,-1.2,-1.1000000000000001,-1.1000000000000001,-0.3,-0.3,-0.3,-0.1,-0.1,-0.1,-0.2,-0.2,-0.2,0,0,0,0.2,0.4,0.2,0.3,0.5,0.3,0.1,0.3,0.2,0.5,0.7,0.6,0,0,0,0.3,0.3,0.3,0.3,0.3,0.3,0.2,0.3,0.3,0.5,0.5,0.5,0,0,0,0,0,0,0,0,0,0,0,0,0,0,0,0,0,0,0,0,0,0,0,0,1,1,1,2,1,1,179.2,29.2,"00:25:30",4342,0,0,0,0,0,0,0,0,0,0,0,0,0,0,0,0,0,0,0,0,30,48,-4,-4,0,0]
["2023-09-27T11:25:47",35,36,36,34,44,39,43,39,22.4,88.1,100,66.8,54.3,54.3,54.3,54.2,-72.900000000000006,-71.400000000000006,-72.099999999999994,120,120,120,120,120,120,119.9,120,119.9,119.9,120,119.9,61.5,61.5,61.5,7.6,10.199999999999999,7.4,9.6999999999999993,-0.9,-0.8,-0.8,-1.2,-1.2,-1.2,-0.9,-0.8,-0.8,-1.2,-1.1000000000000001,-1.1000000000000001,-0.3,-0.3,-0.3,-0.1,-0.1,-0.1,-0.2,-0.2,-0.2,0,0,0,0.2,0.4,0.3,0.2,0.5,0.3,0.1,0.3,0.1,0.5,0.7,0.6,0,0,0,0.3,0.3,0.3,0.3,0.4,0.3,0.2,0.3,0.3,0.5,0.5,0.5,0,0,0,0,0,0,0,0,0,0,0,0,0,0,0,0,0,0,0,0,0,0,0,0,1,1,1,2,1,1,179.2,29.2,"00:19:25",4342,0,0,0,0,0,0,0,0,0,0,0,0,0,0,0,0,0,0,0,0,30,48,-4,-4,0,0]
["2023-09-27T11:30:52",35,36,36,34,44,39,43,39,22.6,89,100,66.8,54.3,54.3,54.3,54.2,-70.7,-68.599999999999994,-69.599999999999994,120,120,120,120,120,120,119.9,120,119.9,120,120,120,61.5,61.5,61.5,7.5,9.9,7.3,9.3000000000000007,-0.8,-0.8,-0.8,-1.2,-1.1000000000000001,-1.1000000000000001,-0.9,-0.8,-0.8,-1.1000000000000001,-1.1000000000000001,-1.1000000000000001,-0.3,-0.3,-0.3,-0.1,-0.1,-0.1,-0.2,-0.2,-0.2,0,0,0,0.2,0.4,0.2,0.3,0.5,0.4,0,0.4,0.1,0.5,0.8,0.6,0,0,0,0.3,0.3,0.3,0.3,0.4,0.3,0.3,0.3,0.3,0.5,0.5,0.5,0,0,0,0,0,0,0,0,0,0,0,0,0,0,0,0,0,0,0,0,0,0,0,0,1,1,1,2,1,1,179.2,29.2,"00:14:21",4342,0,0,0,0,0,0,0,0,0,0,0,0,0,0,0,0,0,0,0,0,30,48,-3.8,-3.9,0,0]
["2023-09-27T11:34:55",35,36,36,34,44,39,43,39,22.8,89.6,100,66.8,54.3,54.4,54.3,54.2,-76.900000000000006,-67.900000000000006,-71.3,120,120,120,120,120,120,119.9,120,119.9,119.9,120,119.9,61.4,61.5,61.4,8,10.6,7.9,10,-0.9,-0.8,-0.8,-1.3,-1.1000000000000001,-1.1000000000000001,-0.9,-0.8,-0.8,-1.2,-1.1000000000000001,-1.1000000000000001,-0.3,-0.3,-0.3,-0.1,-0.1,-0.1,-0.2,-0.2,-0.2,0,0,0,0.2,0.4,0.2,0.3,0.5,0.3,0.1,0.3,0.2,0.6,0.8,0.6,0,0,0,0.3,0.3,0.3,0.3,0.4,0.3,0.3,0.3,0.3,0.5,0.5,0.5,0,0,0,0,0,0,0,0,0,0,0,0,0,0,0,0,0,0,0,0,0,0,0,0,1,1,1,2,1,1,179.2,29.2,"00:10:59",4342,0,0,0,0,0,0,0,0,0,0,0,0,0,0,0,0,0,0,0,0,30,48,-3.8,-3.9,0,0]
["2023-09-27T11:37:58",35,35,36,34,44,39,43,39,22.9,90.1,100,66.8,54.3,54.3,54.3,54.2,-68.7,-63.8,-65.7,120,120,120,120,120,120,119.9,119.9,119.9,119.9,120,119.9,61.6,61.6,61.6,9.1,7.6,9.1,7.1,-1,-1,-1,-0.9,-0.8,-0.8,-1.1000000000000001,-1,-1,-0.8,-0.8,-0.8,-0.3,-0.3,-0.3,-0.1,-0.1,-0.1,-0.2,-0.2,-0.2,-0.1,0,0,0.2,0.4,0.2,0.2,0.6,0.3,0.1,0.3,0.2,0.5,0.8,0.6,0,0,0,0.3,0.3,0.3,0.3,0.3,0.3,0.2,0.3,0.3,0.5,0.5,0.5,0,0,0,0,0,0,0,0,0,0,0,0,0,0,0,0,0,0,0,0,0,0,0,0,1,1,1,2,1,1,179.2,29.2,"00:07:56",4342,0,0,0,0,0,0,0,0,0,0,0,0,0,0,0,0,0,0,0,0,30,48,-3.6,-3.6,0,0]
["2023-09-27T11:45:03",36,35,36,33,44,39,43,39,23.2,91.2,100,66.8,54.2,54.3,54.3,54.2,-62.6,-52.1,-59.7,120,120,120,119.7,120.1,120,119.9,119.9,119.9,119.8,120.1,119.9,61.6,61.6,61.6,9.1,6.7,9.1,6.3,-1,-0.9,-1,-0.8,-0.2,-0.7,-1.1000000000000001,-1,-1,-0.7,-0.1,-0.6,-0.4,-0.3,-0.3,-0.2,0.4,-0.1,-0.2,-0.1,-0.1,-0.1,0.4,0,0.2,0.4,0.3,0.3,0.5,0.4,0.1,0.3,0.1,0.5,0.8,0.6,0,0,0,0.3,0.3,0.3,0.3,0.3,0.3,0.3,0.3,0.3,0.5,0.5,0.5,0,0,0,0,0,0,0,0,0,0,0,0,0,0,0,0,0,0,0,0,0,0,0,0,1,1,1,2,1,1,179.2,29.2,"00:00:51",4342,0,0,0,0,0,0,0,0,0,0,0,0,0,0,0,0,0,0,0,0,30,48,-2.1,-3.3,0,0]
["2023-09-27T11:49:07",36,35,36,33,44,39,43,39,23.4,91.8,100,66.8,54.3,54.3,54.3,54.2,-61.1,-60,-60.6,120,120,120,120,120,120,119.9,119.9,119.9,119.9,120,119.9,61.6,61.6,61.6,8.6999999999999993,6.3,8.6,6,-1,-1,-1,-0.7,-0.7,-0.7,-1,-1,-1,-0.7,-0.7,-0.7,-0.3,-0.3,-0.3,-0.1,-0.1,-0.1,-0.2,-0.2,-0.2,-0.1,-0.1,-0.1,0.3,0.5,0.3,0.3,0.5,0.4,0.1,0.3,0.2,0.5,0.8,0.6,0,0,0,0.2,0.3,0.3,0.3,0.4,0.3,0.3,0.3,0.3,0.5,0.5,0.5,0,0,0,0,0,0,0,0,0,0,0,0,0,0,0,0,0,0,0,0,0,0,0,0,1,1,1,2,3,1,180,30,"00:00:00",4342,0,0,0,0,0,0,0,0,0,0,0,0,0,0,0,0,0,0,0,0,30,48,-3.4,-3.4,0,0]
["2023-09-27T11:50:08",36,35,36,33,44,39,43,39,23.5,91.9,100,66.8,54.3,54.3,54.3,54.2,-61.4,-60.1,-60.7,120,120,120,120,120,120,119.9,119.9,119.9,119.9,120,119.9,61.6,61.6,61.6,8.6,6.6,8.5,6.2,-1,-0.9,-0.9,-0.8,-0.7,-0.7,-1,-1,-1,-0.7,-0.7,-0.7,-0.3,-0.3,-0.3,-0.1,-0.1,-0.1,-0.2,-0.2,-0.2,-0.1,0,0,0.2,0.5,0.3,0.3,0.6,0.4,0.1,0.3,0.2,0.5,0.7,0.6,0,0,0,0.2,0.3,0.3,0.3,0.4,0.3,0.3,0.3,0.3,0.5,0.5,0.5,0,0,0,0,0,0,0,0,0,0,0,0,0,0,0,0,0,0,0,0,0,0,0,0,1,1,1,2,3,1,180,30,"00:00:00",4342,0,0,0,0,0,0,0,0,0,0,0,0,0,0,0,0,0,0,0,0,30,48,-3.4,-3.4,0,0]
["2023-09-27T11:56:13",36,34,36,33,44,39,43,39,23.6,92.8,100,66.8,54.3,54.3,54.3,54.2,-58,-56.9,-57.6,120,120,120,120,120,120,119.9,120,119.9,119.9,120,119.9,61.6,61.6,61.6,8.6999999999999993,5.8,8.6,5.4,-1,-1,-1,-0.7,-0.6,-0.6,-1,-1,-1,-0.6,-0.6,-0.6,-0.3,-0.3,-0.3,-0.2,-0.1,-0.1,-0.2,-0.2,-0.2,-0.1,-0.1,-0.1,0.2,0.4,0.3,0.4,0.6,0.4,0.1,0.5,0.2,0.5,0.9,0.6,0,0,0,0.3,0.3,0.3,0.3,0.4,0.3,0.3,0.3,0.3,0.5,0.5,0.5,0,0,0,0,0,0,0,0,0,0,0,0,0,0,0,0,0,0,0,0,0,0,0,0,1,1,1,2,3,1,180,30,"00:00:00",4342,0,0,0,0,0,0,0,0,0,0,0,0,0,0,0,0,0,0,0,0,30,48,-3.2,-3.2,0,0]
["2023-09-27T12:00:17",36,34,36,33,44,39,43,39,23.7,93.3,100,66.8,54.3,54.3,54.3,54.2,-56.5,-54,-55.8,120,120,120,120,120,120,119.9,119.9,119.9,119.9,120,119.9,61.6,61.6,61.6,8.3000000000000007,5.9,8,5.6,-0.9,-0.9,-0.9,-0.7,-0.6,-0.6,-0.9,-0.9,-0.9,-0.7,-0.6,-0.6,-0.3,-0.3,-0.3,-0.2,-0.1,-0.1,-0.2,-0.2,-0.2,-0.1,-0.1,-0.1,0.2,0.5,0.3,0.3,0.7,0.4,0.1,0.4,0.2,0.6,0.9,0.7,0,0,0,0.3,0.3,0.3,0.3,0.4,0.3,0.2,0.3,0.2,0.5,0.6,0.5,0,0,0,0,0,0,0,0,0,0,0,0,0,0,0,0,0,0,0,0,0,0,0,0,1,1,1,2,3,1,180,30,"00:00:00",4342,0,0,0,0,0,0,0,0,0,0,0,0,0,0,0,0,0,0,0,0,30,48,-3,-3.1,0,0]
["2023-09-27T12:07:23",36,34,36,32,44,39,43,39,23.6,94.2,100,66.8,54.2,54.3,54.2,54.2,-56.7,-37.1,-47.2,120,120,120,119.8,120.1,120,119.9,120,119.9,119.9,120,119.9,61.6,61.7,61.6,8.5,5.6,8.3000000000000007,8.1999999999999993,-1,-0.8,-0.9,-0.7,0.1,-0.3,-1,-0.9,-0.9,-0.6,0,-0.3,-0.4,-0.3,-0.3,-0.2,0.4,0,-0.3,-0.2,-0.2,-0.1,0,0,0.2,0.4,0.2,0.4,0.6,0.4,0.2,0.4,0.2,0.5,0.9,0.6,0,0,0,0.3,0.3,0.3,0.3,0.4,0.3,0.2,0.3,0.2,0.5,0.5,0.5,0,0,0,0,0,0,0,0,0,0,0,0,0,0,0,0,0,0,0,0,0,0,0,0,1,1,1,2,3,1,180,30,"00:00:00",4342,0,0,0,0,0,0,0,0,0,0,0,0,0,0,0,0,0,0,0,0,30,48,-1.7,-2.6,0,0]
["2023-09-27T12:09:25",36,34,36,32,44,39,43,39,23.8,94.5,100,66.8,54.2,54.3,54.3,54.2,-52.4,-42.5,-44.8,120,120,120,120,120,120,119.9,120,119.9,119.9,120,119.9,61.6,61.7,61.6,7.9,6.9,7.7,6.6,-0.9,-0.4,-0.5,-0.8,-0.6,-0.7,-0.9,-0.4,-0.4,-0.8,-0.6,-0.7,-0.4,-0.3,-0.3,-0.2,-0.1,-0.1,-0.2,-0.2,-0.2,-0.1,-0.1,-0.1,0.2,0.4,0.2,0.3,0.6,0.4,0.1,0.4,0.2,0.5,0.8,0.6,0,0,0,0.3,0.3,0.3,0.3,0.4,0.3,0.2,0.3,0.2,0.5,0.5,0.5,0,0,0,0,0,0,0,0,0,0,0,0,0,0,0,0,0,0,0,0,0,0,0,0,1,1,1,2,3,1,180,30,"00:00:00",4342,0,0,0,0,0,0,0,0,0,0,0,0,0,0,0,0,0,0,0,0,30,48,-2.1,-2.4,0,0]
["2023-09-27T12:14:27",35,34,35,33,44,39,43,39,23.7,94.9,100,66.8,54.3,54.3,54.3,54.2,-47,-45.3,-45.9,120,120,120,120,120,120,119.9,120,119.9,119.9,120,119.9,61.6,61.6,61.6,5.0999999999999996,7.1,4.4000000000000004,6.7,-0.5,-0.5,-0.5,-0.8,-0.8,-0.8,-0.5,-0.5,-0.5,-0.8,-0.8,-0.8,-0.3,-0.3,-0.3,-0.1,-0.1,-0.1,-0.2,-0.2,-0.2,-0.1,-0.1,-0.1,0.2,0.3,0.2,0.4,0.6,0.4,0.1,0.5,0.2,0.5,0.7,0.6,0,0,0,0.3,0.3,0.3,0.3,0.4,0.3,0.2,0.3,0.2,0.5,0.5,0.5,0,0,0,0,0,0,0,0,0,0,0,0,0,0,0,0,0,0,0,0,0,0,0,0,1,1,1,2,3,1,180,30,"00:00:00",4342,0,0,0,0,0,0,0,0,0,0,0,0,0,0,0,0,0,0,0,0,30,48,-2.5,-2.6,0,0]
["2023-09-27T12:19:32",35,34,35,33,44,39,43,39,23.8,94.9,100,66.8,54.3,54.3,54.3,54.2,-41.4,-40.200000000000003,-40.799999999999997,120,120,120,120,120,120,119.9,120,119.9,119.9,120,119.9,61.6,61.6,61.6,4,6.8,3.3,6.4,-0.4,-0.4,-0.4,-0.8,-0.8,-0.8,-0.4,-0.4,-0.4,-0.8,-0.7,-0.7,-0.2,-0.2,-0.2,-0.1,-0.1,-0.1,-0.1,-0.1,-0.1,-0.1,0,0,0.1,0.3,0.2,0.3,0.6,0.4,0.1,0.5,0.2,0.5,0.9,0.6,0,0,0,0.3,0.3,0.3,0.3,0.4,0.3,0.2,0.3,0.2,0.5,0.5,0.5,0,0,0,0,0,0,0,0,0,0,0,0,0,0,0,0,0,0,0,0,0,0,0,0,1,1,1,2,3,1,180,30,"00:00:00",4342,0,0,0,0,0,0,0,0,0,0,0,0,0,0,0,0,0,0,0,0,30,48,-2.2999999999999998,-2.2999999999999998,0,0]
["2023-09-27T12:25:36",35,34,35,32,44,39,43,39,23.9,94.9,100,66.8,54.2,54.4,54.3,54.2,-54.6,-34.700000000000003,-39.1,120,120,120,120,120,120,119.9,120,119.9,119.9,120,119.9,61.5,61.5,61.5,5.4,8.4,4.8,8.1,-0.6,-0.5,-0.6,-1,-0.4,-0.5,-0.6,-0.5,-0.5,-1,-0.4,-0.5,-0.2,-0.2,-0.2,-0.1,-0.1,-0.1,-0.1,-0.1,-0.1,-0.1,0,0,0.1,0.4,0.2,0.3,0.6,0.4,0.1,0.3,0.2,0.5,0.7,0.6,0,0,0,0.3,0.3,0.3,0.3,0.3,0.3,0.3,0.3,0.3,0.5,0.5,0.5,0,0,0,0,0,0,0,0,0,0,0,0,0,0,0,0,0,0,0,0,0,0,0,0,1,1,1,2,3,1,180,30,"00:00:00",4342,0,0,0,0,0,0,0,0,0,0,0,0,0,0,0,0,0,0,0,0,30,48,-2,-2.2000000000000002,0,0]
["2023-09-27T12:29:39",34,34,34,33,44,39,43,39,23.8,94.9,100,66.8,54.3,54.3,54.3,54.2,-39.4,-36.200000000000003,-37.700000000000003,120,120,120,120,120,120,119.9,120,119.9,119.9,120,119.9,61.6,61.6,61.6,3.8,6.5,3,6.1,-0.4,-0.4,-0.4,-0.8,-0.6,-0.7,-0.3,-0.3,-0.3,-0.7,-0.6,-0.7,-0.2,-0.2,-0.2,-0.1,-0.1,-0.1,-0.1,-0.1,-0.1,-0.1,0,0,0.1,0.4,0.2,0.2,0.6,0.3,0.1,0.3,0.2,0.5,0.7,0.6,0,0,0,0.3,0.3,0.3,0.3,0.4,0.3,0.2,0.3,0.3,0.5,0.5,0.5,0,0,0,0,0,0,0,0,0,0,0,0,0,0,0,0,0,0,0,0,0,0,0,0,1,1,1,2,3,1,180,30,"00:00:00",4342,0,0,0,0,0,0,0,0,0,0,0,0,0,0,0,0,0,0,0,0,30,48,-2,-2.1,0,0]
["2023-09-27T12:32:42",34,34,34,33,44,39,43,39,23.8,94.9,100,66.8,54.1,54.4,54.2,54.2,-51.1,-16.399999999999999,-46.3,120,120,120,120,120.2,120,119.9,120,119.9,119.9,120.2,119.9,61.5,61.6,61.5,5.7,7.6,5,7.4,-0.6,-0.4,-0.5,-0.9,0,-0.7,-0.6,-0.4,-0.5,-0.9,0,-0.7,-0.3,-0.1,-0.2,-0.2,0.4,0,-0.2,0,-0.1,-0.1,0.4,0,0.1,0.4,0.2,0.2,0.5,0.3,0.1,0.3,0.2,0.5,0.7,0.5,0,0,0,0.3,0.3,0.3,0.3,0.3,0.3,0.3,0.3,0.3,0.5,0.5,0.5,0,0,0,0,0,0,0,0,0,0,0,0,0,0,0,0,0,0,0,0,0,0,0,0,1,1,1,2,3,1,180,30,"00:00:00",4342,0,0,0,0,0,0,0,0,0,0,0,0,0,0,0,0,0,0,0,0,30,48,-0.8,-2.6,0,0]
["2023-09-27T12:39:48",34,33,34,32,43,39,43,39,23.8,94.9,100,66.8,54.3,54.4,54.3,54.2,-38.4,-28.6,-33.4,120,120,120,120,120,120,119.9,120,119.9,119.9,120,119.9,61.6,61.6,61.6,4.3,6.1,3.5,5.9,-0.4,-0.3,-0.3,-0.7,-0.4,-0.5,-0.4,-0.3,-0.3,-0.7,-0.4,-0.5,-0.3,-0.3,-0.3,-0.2,-0.1,-0.1,-0.2,-0.2,-0.2,-0.1,0,-0.1,0.1,0.4,0.2,0.3,0.5,0.4,0.1,0.3,0.2,0.4,0.7,0.5,0,0,0,0.3,0.3,0.3,0.3,0.3,0.3,0.2,0.3,0.3,0.5,0.5,0.5,0,0,0,0,0,0,0,0,0,0,0,0,0,0,0,0,0,0,0,0,0,0,0,0,1,1,1,2,3,1,180,30,"00:00:00",4342,0,0,0,0,0,0,0,0,0,0,0,0,0,0,0,0,0,0,0,0,30,48,-1.6,-1.8,0,0]
["2023-09-27T12:43:51",34,33,34,32,43,39,43,39,24,94.9,100,66.8,54.3,54.3,54.3,54.2,-26.1,-25.2,-25.7,120,120,120,120,120,120,119.9,120,119.9,119.9,120,119.9,61.7,61.7,61.7,3.3,4.8,2.5,4.5,-0.2,-0.2,-0.2,-0.6,-0.5,-0.5,-0.2,-0.2,-0.2,-0.5,-0.5,-0.5,-0.3,-0.3,-0.3,-0.1,-0.1,-0.1,-0.2,-0.2,-0.2,-0.1,-0.1,-0.1,0.1,0.3,0.2,0.3,0.5,0.3,0.2,0.4,0.2,0.4,0.8,0.5,0,0,0,0.3,0.3,0.3,0.3,0.3,0.3,0.2,0.3,0.2,0.5,0.5,0.5,0,0,0,0,0,0,0,0,0,0,0,0,0,0,0,0,0,0,0,0,0,0,0,0,1,1,1,2,3,1,180,30,"00:00:00",4342,0,0,0,0,0,0,0,0,0,0,0,0,0,0,0,0,0,0,0,0,30,48,-1.4,-1.4,0,0]
["2023-09-27T12:48:55",34,33,34,32,43,39,43,39,24.2,95,100,66.8,54.3,54.4,54.3,54.2,-31.5,-20.6,-26.7,120,120,120,120,120,120,119.9,120,119.9,119.9,120,119.9,61.7,61.8,61.7,5.9,3.2,5.2,2.8,-0.6,-0.5,-0.5,-0.3,-0.1,-0.2,-0.6,-0.4,-0.4,-0.3,-0.1,-0.1,-0.4,-0.3,-0.3,-0.2,-0.1,-0.1,-0.2,-0.2,-0.2,-0.1,-0.1,-0.1,0.1,0.3,0.2,0.3,0.6,0.4,0.1,0.3,0.2,0.5,0.8,0.6,0,0,0,0.3,0.3,0.3,0.3,0.4,0.3,0.3,0.3,0.3,0.5,0.5,0.5,0,0,0,0,0,0,0,0,0,0,0,0,0,0,0,0,0,0,0,0,0,0,0,0,1,1,1,2,3,1,180,30,"00:00:00",4342,0,0,0,0,0,0,0,0,0,0,0,0,0,0,0,0,0,0,0,0,30,48,-1.2,-1.5,0,0]
["2023-09-27T12:50:56",34,33,34,32,43,39,43,39,24.3,95,100,66.8,54.2,54.3,54.3,54.2,-22.2,-19.600000000000001,-20.9,120,120,120,120,120,120,119.9,120,119.9,119.9,120,119.9,61.8,61.8,61.8,5.0999999999999996,2.2999999999999998,4.3,2,-0.5,-0.4,-0.5,-0.2,-0.1,-0.1,-0.5,-0.4,-0.4,-0.2,-0.1,-0.1,-0.4,-0.3,-0.3,-0.2,-0.1,-0.1,-0.2,-0.2,-0.2,-0.1,-0.1,-0.1,0.1,0.3,0.2,0.3,0.6,0.4,0.1,0.4,0.2,0.4,0.9,0.6,0,0,0,0.3,0.3,0.3,0.3,0.4,0.3,0.2,0.3,0.2,0.5,0.5,0.5,0,0,0,0,0,0,0,0,0,0,0,0,0,0,0,0,0,0,0,0,0,0,0,0,1,1,1,2,3,1,180,30,"00:00:00",4342,0,0,0,0,0,0,0,0,0,0,0,0,0,0,0,0,0,0,0,0,30,48,-1.1000000000000001,-1.2,0,0]
["2023-09-27T12:53:58",34,33,34,32,43,39,43,39,24.3,95,100,66.8,54,54.4,54.2,54.2,-43.3,7.2,-24.6,120,120,120,119.9,120.3,120,119.9,120,119.9,119.9,120.2,119.9,61.7,61.8,61.7,7.4,7.8,7,7.7,-0.8,-0.6,-0.7,-0.4,0.7,0,-0.8,-0.6,-0.7,-0.4,0.7,0,-0.4,-0.3,-0.3,-0.2,0.5,0.1,-0.2,-0.2,-0.2,-0.1,0.5,0.1,0.2,0.4,0.2,0.3,0.5,0.4,0,0.3,0.2,0.6,0.9,0.6,0,0,0,0.3,0.3,0.3,0.3,0.3,0.3,0.3,0.3,0.3,0.5,0.5,0.5,0,0,0,0,0,0,0,0,0,0,0,0,0,0,0,0,0,0,0,0,0,0,0,0,1,1,1,2,3,1,180,30,"00:00:00",4342,0,0,0,0,0,0,0,0,0,0,0,0,0,0,0,0,0,0,0,0,30,48,0.3,-1.4,0,0]
["2023-09-27T13:02:06",34,32,34,31,43,39,43,39,24.3,95,100,66.8,54.3,54.3,54.3,54.2,-19,-16.600000000000001,-18.100000000000001,120,120,120,120,120,120,119.9,120,119.9,119.9,120,119.9,61.8,61.8,61.8,4.8,2.1,4,1.9,-0.5,-0.4,-0.4,-0.2,-0.1,-0.1,-0.4,-0.4,-0.4,-0.2,-0.1,-0.1,-0.4,-0.3,-0.3,-0.2,-0.1,-0.1,-0.3,-0.2,-0.2,-0.1,-0.1,-0.1,0.1,0.3,0.2,0.3,0.6,0.4,0.1,0.3,0.1,0.5,0.9,0.6,0,0,0,0.3,0.3,0.3,0.3,0.4,0.3,0.3,0.3,0.3,0.5,0.5,0.5,0,0,0,0,0,0,0,0,0,0,0,0,0,0,0,0,0,0,0,0,0,0,0,0,1,1,1,2,3,1,180,30,"00:00:00",4342,0,0,0,0,0,0,0,0,0,0,0,0,0,0,0,0,0,0,0,0,30,48,-1,-1,0,0]
["2023-09-27T13:04:07",34,32,34,31,43,39,43,39,24.4,95,100,66.8,54.3,54.3,54.3,54.2,-19.100000000000001,-15.5,-17.399999999999999,120,120,120,120,120,120,119.9,120,119.9,119.9,120,119.9,61.8,61.8,61.8,4.9000000000000004,2.1,4.0999999999999996,1.9,-0.5,-0.4,-0.4,-0.1,0,0,-0.4,-0.4,-0.4,-0.1,0,0,-0.4,-0.4,-0.4,-0.2,-0.1,-0.1,-0.3,-0.2,-0.2,-0.1,-0.1,-0.1,0.1,0.3,0.2,0.2,0.6,0.4,0,0.3,0.1,0.5,0.8,0.6,0,0,0,0.3,0.3,0.3,0.3,0.3,0.3,0.3,0.3,0.3,0.5,0.5,0.5,0,0,0,0,0,0,0,0,0,0,0,0,0,0,0,0,0,0,0,0,0,0,0,0,1,1,1,2,3,1,180,30,"00:00:00",4342,0,0,0,0,0,0,0,0,0,0,0,0,0,0,0,0,0,0,0,0,30,48,-0.9,-1,0,0]
["2023-09-27T13:09:12",34,32,34,31,43,39,43,39,24.6,95,100,66.8,54.3,54.3,54.3,54.2,-16.7,-15.1,-15.9,120,120,120,120,120,120,119.9,120,119.9,119.9,120,119.9,61.8,61.8,61.8,4.7,2,3.9,1.8,-0.4,-0.4,-0.4,-0.1,-0.1,-0.1,-0.4,-0.3,-0.3,-0.1,-0.1,-0.1,-0.4,-0.4,-0.4,-0.2,-0.1,-0.1,-0.3,-0.2,-0.2,-0.1,-0.1,-0.1,0.1,0.4,0.2,0.2,0.5,0.4,0.1,0.3,0.1,0.5,0.9,0.6,0,0,0,0.3,0.3,0.3,0.3,0.3,0.3,0.3,0.3,0.3,0.5,0.5,0.5,0,0,0,0,0,0,0,0,0,0,0,0,0,0,0,0,0,0,0,0,0,0,0,0,1,1,1,2,3,1,180,30,"00:00:00",4342,0,0,0,0,0,0,0,0,0,0,0,0,0,0,0,0,0,0,0,0,30,48,-0.9,-0.9,0,0]
["2023-09-27T13:14:15",33,32,33,31,43,39,43,39,24.7,95,100,66.8,54.2,54.3,54.2,54.2,-11.8,-9.6,-11,120,120,120,120,120,120,119.9,120,119.9,119.9,120,120,61.8,61.8,61.8,4.3,1.5,3.4,1.1000000000000001,-0.4,-0.3,-0.3,0,0,0,-0.3,-0.3,-0.3,0,0,0,-0.4,-0.4,-0.4,-0.2,-0.2,-0.2,-0.3,-0.2,-0.2,-0.1,-0.1,-0.1,0.1,0.3,0.2,0.3,0.5,0.4,0,0.3,0.1,0.5,0.9,0.6,0,0,0,0.3,0.3,0.3,0.3,0.4,0.3,0.3,0.3,0.3,0.5,0.5,0.5,0,0,0,0,0,0,0,0,0,0,0,0,0,0,0,0,0,0,0,0,0,0,0,0,1,1,1,2,3,1,180,30,"00:00:00",4342,0,0,0,0,0,0,0,0,0,0,0,0,0,0,0,0,0,0,0,0,30,48,-0.6,-0.6,0,0]
["2023-09-27T13:20:21",33,32,33,31,43,39,42,39,24.7,95,100,66.8,54,54.3,54,54.2,-16.100000000000001,27,8.8000000000000007,120,120,120,119.8,120.3,120,119.9,120,119.9,119.7,120.2,119.9,61.7,61.9,61.7,6.2,10.4,5.6,13.2,-0.7,-0.2,-0.4,-0.1,1.1000000000000001,0.6,-0.6,-0.2,-0.3,-0.2,1,0.5,-0.4,-0.3,-0.3,-0.2,0.4,0.2,-0.3,-0.2,-0.2,-0.1,0.4,0.2,0.1,0.4,0.2,0.3,0.5,0.4,0.1,0.3,0.1,0.6,0.9,0.6,0,0,0,0.3,0.3,0.3,0.3,0.4,0.3,0.3,0.3,0.3,0.5,0.5,0.5,0,0,0,0,0,0,0,0,0,0,0,0,0,0,0,0,0,0,0,0,0,0,0,0,1,1,1,2,3,1,180,30,"00:00:00",4342,0,0,0,0,0,0,0,0,0,0,0,0,0,0,0,0,0,0,0,0,30,48,1.6,0.3,0,0]
["2023-09-27T13:23:23",33,32,33,31,43,39,42,39,24.6,95,100,66.8,54.2,54.3,54.2,54.2,-3.9,0.6,-0.7,120,120,120,120,120,120,119.9,120,119.9,119.9,120,119.9,61.9,61.9,61.9,3.9,2.5,2.9,2,-0.3,-0.2,-0.2,0.1,0.2,0.1,-0.2,-0.2,-0.2,0.1,0.2,0.1,-0.4,-0.4,-0.4,-0.2,-0.2,-0.2,-0.3,-0.3,-0.3,-0.1,-0.1,-0.1,0.1,0.4,0.2,0.3,0.5,0.4,0,0.3,0.2,0.6,0.9,0.6,0,0,0,0.3,0.3,0.3,0.3,0.3,0.3,0.3,0.3,0.3,0.5,0.5,0.5,0,0,0,0,0,0,0,0,0,0,0,0,0,0,0,0,0,0,0,0,0,0,0,0,1,1,1,2,3,1,180,30,"00:00:00",4342,0,0,0,0,0,0,0,0,0,0,0,0,0,0,0,0,0,0,0,0,30,48,0,-0.1,0,0]
["2023-09-27T13:27:26",33,31,33,31,43,39,42,39,24.6,95,100,66.8,54.3,54.3,54.3,54.2,-11.4,-7.1,-8.6999999999999993,120,120,120,120,120,120,119.9,120,119.9,119.9,120,119.9,61.8,61.8,61.8,3.7,1.6,2.7,1.1000000000000001,-0.4,-0.3,-0.3,0,0.1,0,-0.3,-0.2,-0.2,0,0.1,0,-0.3,-0.2,-0.2,-0.2,-0.1,-0.1,-0.1,-0.1,-0.1,-0.1,-0.1,-0.1,0.1,0.3,0.2,0.3,0.6,0.4,0.1,0.3,0.2,0.6,1,0.7,0,0,0,0.3,0.3,0.3,0.3,0.3,0.3,0.3,0.3,0.3,0.5,0.6,0.5,0,0,0,0,0,0,0,0,0,0,0,0,0,0,0,0,0,0,0,0,0,0,0,0,1,1,1,2,3,1,180,30,"00:00:00",4342,0,0,0,0,0,0,0,0,0,0,0,0,0,0,0,0,0,0,0,0,30,48,-0.4,-0.5,0,0]
["2023-09-27T13:33:30",33,31,33,31,43,39,42,39,24.7,95,100,66.8,54.2,54.3,54.2,54.2,-2.7,4.9000000000000004,0.2,119.9,120,120,120,120.1,120,119.9,120,119.9,119.9,120,119.9,61.8,61.9,61.8,2.2000000000000002,4.4000000000000004,1.3,4,-0.2,-0.1,-0.1,0,0.4,0.1,-0.1,-0.1,-0.1,0,0.4,0,-0.2,-0.1,-0.1,-0.2,-0.2,-0.2,-0.1,0,0,-0.2,-0.1,-0.1,0.1,0.4,0.2,0.3,0.5,0.4,0,0.3,0.2,0.6,1,0.7,0,0,0,0.3,0.3,0.3,0.3,0.3,0.3,0.3,0.3,0.3,0.5,0.6,0.5,0,0,0,0,0,0,0,0,0,0,0,0,0,0,0,0,0,0,0,0,0,0,0,0,1,1,1,2,3,1,180,30,"00:00:00",4343,0,0,0,0,0,0,0,0,0,0,0,0,0,0,0,0,0,0,0,0,30,48,0.4,0,0,0]
["2023-09-27T13:38:36",33,31,33,31,43,39,42,39,24.7,95,100,66.8,54.3,54.3,54.3,54.2,-11.2,-3.6,-7.2,120,120,120,120,120,120,119.9,120,119.9,119.9,120,119.9,61.8,61.8,61.8,3.7,1.9,2.7,1.4,-0.3,-0.3,-0.3,0,0.1,0,-0.3,-0.2,-0.2,0,0.1,0,-0.3,-0.2,-0.2,-0.2,-0.1,-0.1,-0.1,-0.1,-0.1,-0.1,-0.1,-0.1,0.2,0.5,0.3,0.3,0.5,0.4,0.1,0.4,0.2,0.6,0.9,0.6,0,0,0,0.3,0.3,0.3,0.3,0.3,0.3,0.3,0.3,0.3,0.5,0.6,0.5,0,0,0,0,0,0,0,0,0,0,0,0,0,0,0,0,0,0,0,0,0,0,0,0,1,1,1,2,3,1,180,30,"00:00:00",4343,0,0,0,0,0,0,0,0,0,0,0,0,0,0,0,0,0,0,0,0,30,48,-0.3,-0.4,0,0]
["2023-09-27T13:43:40",33,31,33,31,43,39,42,39,24.8,95,100,66.8,54.2,54.3,54.2,54.2,-10.6,2.2000000000000002,-5.6,120,120,120,119.9,120.2,120,119.9,120,119.9,119.9,120,119.9,61.6,61.7,61.7,2.5,4.4000000000000004,2.9,4.2,0.1,0.3,0.1,-0.5,-0.2,-0.4,0.2,0.4,0.2,-0.5,-0.2,-0.3,-0.1,-0.1,-0.1,-0.2,-0.1,-0.1,0,0,0,-0.1,0,0,0.2,0.4,0.2,0.3,0.6,0.4,0.1,0.4,0.2,0.5,0.7,0.6,0,0,0,0.3,0.3,0.3,0.3,0.4,0.3,0.2,0.3,0.2,0.5,0.5,0.5,0,0,0,0,0,0,0,0,0,0,0,0,0,0,0,0,0,0,0,0,0,0,0,0,1,1,1,2,3,1,180,30,"00:00:00",4343,0,0,0,0,0,0,0,0,0,0,0,0,0,0,0,0,0,0,0,0,30,48,0.1,-0.3,0,0]
["2023-09-27T13:45:42",32,32,33,31,43,39,42,39,24.9,95,100,66.8,54,54.4,54.2,54.2,-11.4,32.4,1.8,119.7,120,120,119.8,120.1,120,119.7,120,119.9,119.7,120.1,119.9,61.7,61.7,61.7,3.2,12,3,13.9,-0.2,0.3,0.1,-0.4,0.7,-0.1,-0.1,0.3,0.1,-0.4,0.7,-0.1,-0.4,0.1,-0.1,-0.2,0.5,0,-0.2,0.3,0,-0.1,0.5,0,0.2,0.5,0.3,0.3,0.6,0.4,0.1,0.3,0.2,0.5,0.7,0.6,0,0,0,0.3,0.3,0.3,0.3,0.4,0.3,0.2,0.3,0.2,0.5,0.5,0.5,0,0,0,0,0,0,0,0,0,0,0,0,0,0,0,0,0,0,0,0,0,0,0,0,1,1,1,2,3,1,180,30,"00:00:00",4343,0,0,0,0,0,0,0,0,0,0,0,0,0,0,0,0,0,0,0,0,30,48,1.9,0.1,0,0]
["2023-09-27T13:48:45",32,32,33,31,43,39,42,39,25.1,95,100,66.8,54.3,54.5,54.3,54.2,-11.3,9,0.3,119.9,120.2,120,119.9,120.1,120,119.9,120,119.9,119.9,120,119.9,61.7,61.8,61.7,3.6,4.9000000000000004,4.4000000000000004,4.5,0,0.4,0.1,-0.6,-0.1,-0.2,0,0.5,0.2,-0.5,0,-0.2,-0.2,-0.1,-0.1,-0.2,-0.1,-0.1,-0.1,0,0,-0.1,0,0,0.2,0.5,0.2,0.3,0.5,0.4,0.1,0.4,0.2,0.5,0.9,0.7,0,0,0,0.3,0.3,0.3,0.3,0.4,0.3,0.2,0.3,0.2,0.5,0.6,0.5,0,0,0,0,0,0,0,0,0,0,0,0,0,0,0,0,0,0,0,0,0,0,0,0,1,1,1,2,3,1,180,30,"00:00:00",4343,0,0,0,0,0,0,0,0,0,0,0,0,0,0,0,0,0,0,0,0,30,48,0.5,0,0,0]
["2023-09-27T13:56:50",32,31,33,31,43,39,42,39,25,95,100,66.900000000000006,54.3,54.3,54.3,54.2,-8.3000000000000007,-2.2999999999999998,-4.7,120,120,120,119.9,120,120,119.9,120,119.9,119.9,120,119.9,61.8,61.8,61.8,3.1,2.2000000000000002,2.1,2,-0.1,0,0,-0.2,-0.1,-0.1,0,0,0,-0.2,0,-0.1,-0.4,-0.3,-0.3,-0.2,-0.1,-0.1,-0.3,-0.2,-0.2,-0.1,-0.1,-0.1,0.2,0.4,0.2,0.3,0.6,0.4,0.1,0.4,0.2,0.6,1,0.7,0,0,0,0.3,0.3,0.3,0.3,0.4,0.3,0.2,0.3,0.2,0.5,0.6,0.5,0,0,0,0,0,0,0,0,0,0,0,0,0,0,0,0,0,0,0,0,0,0,0,0,1,1,1,2,3,1,180,30,"00:00:00",4343,0,0,0,0,0,0,0,0,0,0,0,0,0,0,0,0,0,0,0,0,30,48,-0.2,-0.3,0,0]
["2023-09-27T13:58:53",32,32,33,31,43,39,42,39,25,95,100,66.900000000000006,54,54.3,54.1,54.2,-18.100000000000001,33.9,15.4,119.9,120,120,119.8,120.2,120,119.9,120,119.9,119.6,120.2,119.9,61.6,61.8,61.7,4.3,9.3000000000000007,3.3,15.6,-0.4,0.1,-0.1,-0.4,1.6,0.4,-0.3,0.2,-0.1,-0.5,1.4,0.4,-0.4,-0.3,-0.3,-0.2,0.8,0.2,-0.3,-0.2,-0.2,-0.1,0.8,0.2,0.1,0.4,0.2,0.4,0.6,0.4,0.1,0.3,0.2,0.6,0.9,0.7,0,0,0,0.3,0.3,0.3,0.3,0.4,0.3,0.2,0.3,0.2,0.5,0.6,0.5,0,0,0,0,0,0,0,0,0,0,0,0,0,0,0,0,0,0,0,0,0,0,0,0,1,1,1,2,3,1,180,30,"00:00:00",4343,0,0,0,0,0,0,0,0,0,0,0,0,0,0,0,0,0,0,0,0,30,48,3.3,0.7,0,0]
["2023-09-27T14:03:57",32,31,33,31,43,39,42,39,25,95,100,66.900000000000006,54.2,54.3,54.2,54.2,-4.4000000000000004,0.9,-2.7,120,120,120,120,120.1,120,119.9,120,119.9,119.9,120,119.9,61.8,61.8,61.8,3.1,2,2.2000000000000002,1.7,0,0,0,-0.2,0,-0.1,0,0.1,0,-0.2,0,-0.1,-0.4,-0.3,-0.3,-0.2,-0.1,-0.1,-0.3,-0.2,-0.2,-0.1,0,0,0.2,0.3,0.2,0.4,0.7,0.4,0.1,0.4,0.2,0.6,0.9,0.7,0,0,0,0.3,0.3,0.3,0.3,0.4,0.3,0.2,0.3,0.2,0.5,0.6,0.5,0,0,0,0,0,0,0,0,0,0,0,0,0,0,0,0,0,0,0,0,0,0,0,0,1,1,1,2,3,1,180,30,"00:00:00",4343,0,0,0,0,0,0,0,0,0,0,0,0,0,0,0,0,0,0,0,0,30,48,0,-0.2,0,0]
["2023-09-27T14:08:02",32,31,33,31,43,39,42,39,25,95,100,66.900000000000006,54.2,54.3,54.2,54.2,-6.4,6.5,0.7,120,120,120,119.9,120.1,120,119.9,120,119.9,119.9,120,119.9,61.8,61.8,61.8,3.1,2.1,2.1,1.7,-0.1,0,0,-0.2,0.2,0,0,0,0,-0.2,0.2,0,-0.4,-0.3,-0.3,-0.2,-0.1,-0.1,-0.3,-0.2,-0.2,-0.1,-0.1,-0.1,0.1,0.4,0.2,0.4,0.6,0.4,0.1,0.3,0.2,0.6,0.9,0.6,0,0,0,0.3,0.3,0.3,0.3,0.4,0.3,0.3,0.3,0.3,0.5,0.5,0.5,0,0,0,0,0,0,0,0,0,0,0,0,0,0,0,0,0,0,0,0,0,0,0,0,1,1,1,2,3,1,180,30,"00:00:00",4343,0,0,0,0,0,0,0,0,0,0,0,0,0,0,0,0,0,0,0,0,30,48,0.3,0,0,0]
["2023-09-27T14:15:08",32,31,33,31,43,39,42,39,25.4,95,100,66.900000000000006,54.3,54.4,54.3,54.2,-10.199999999999999,6.5,-1.7,119.9,120,120,119.9,120,120,119.9,120,119.9,119.9,120,119.9,61.8,61.9,61.8,4.3,2.2000000000000002,3.3,2,-0.3,0.1,-0.1,0,0.2,0,-0.3,0.1,-0.1,-0.1,0.2,0,-0.4,-0.4,-0.4,-0.2,0,-0.1,-0.3,-0.2,-0.2,-0.1,0,-0.1,0.2,0.4,0.2,0.3,0.5,0.4,0.1,0.3,0.2,0.6,0.9,0.7,0,0,0,0.3,0.3,0.3,0.3,0.3,0.3,0.3,0.3,0.3,0.5,0.6,0.5,0,0,0,0,0,0,0,0,0,0,0,0,0,0,0,0,0,0,0,0,0,0,0,0,1,1,1,2,3,1,180,30,"00:00:00",4343,0,0,0,0,0,0,0,0,0,0,0,0,0,0,0,0,0,0,0,0,30,48,0.6,-0.1,0,0]
["2023-09-27T14:18:12",33,32,33,31,43,39,42,39,25.4,95,100,66.900000000000006,54.4,54.5,54.4,54.2,-29.9,2.6,-13.9,120,120,120,120,120,120,119.9,120,119.9,119.9,120,119.9,61.7,61.9,61.7,6,2.7,5.3,2.4,-0.6,-0.2,-0.4,-0.3,0.3,0,-0.6,-0.2,-0.3,-0.2,0.2,0,-0.4,-0.3,-0.3,-0.2,-0.2,-0.2,-0.3,-0.2,-0.2,-0.1,-0.1,-0.1,0.1,0.4,0.2,0.3,0.6,0.4,0.1,0.3,0.1,0.6,0.9,0.6,0,0,0,0.3,0.3,0.3,0.3,0.3,0.3,0.3,0.3,0.3,0.5,0.5,0.5,0,0,0,0,0,0,0,0,0,0,0,0,0,0,0,0,0,0,0,0,0,0,0,0,1,1,1,2,3,1,180,30,"00:00:00",4344,0,0,0,0,0,0,0,0,0,0,0,0,0,0,0,0,0,0,0,0,30,48,0.2,-0.7,0,0]
["2023-09-27T14:22:14",32,31,33,31,43,39,42,39,25.5,95,100,66.900000000000006,54.2,54.3,54.3,54.2,-7.7,-4.5999999999999996,-5.9,120,120,120,119.9,120,120,119.9,120,119.9,119.9,120,119.9,61.8,61.8,61.8,3.1,2.4,2.2000000000000002,2.1,-0.1,0,0,-0.2,-0.1,-0.1,0,0,0,-0.2,-0.1,-0.1,-0.4,-0.3,-0.3,-0.2,-0.1,-0.1,-0.3,-0.2,-0.2,-0.1,0,0,0.2,0.4,0.2,0.3,0.5,0.4,0.1,0.3,0.1,0.6,0.7,0.6,0,0,0,0.3,0.3,0.3,0.3,0.3,0.3,0.3,0.3,0.3,0.5,0.5,0.5,0,0,0,0,0,0,0,0,0,0,0,0,0,0,0,0,0,0,0,0,0,0,0,0,1,1,1,2,3,1,180,30,"00:00:00",4344,0,0,0,0,0,0,0,0,0,0,0,0,0,0,0,0,0,0,0,0,30,48,-0.3,-0.3,0,0]
["2023-09-27T14:28:19",32,31,33,31,43,39,42,39,25.5,95,100,66.900000000000006,54.3,54.3,54.3,54.2,-5.0999999999999996,-1,-2.6,120,120,120,120,120,120,120,120,120,119.9,120,119.9,61.8,61.8,61.8,3.1,2.2999999999999998,2.2999999999999998,2,0,0,0,-0.2,-0.1,-0.1,0,0.1,0,-0.2,-0.1,-0.1,-0.4,-0.3,-0.3,-0.2,-0.1,-0.1,-0.3,-0.2,-0.2,-0.1,0,0,0.2,0.5,0.3,0.3,0.6,0.4,0.1,0.3,0.1,0.6,0.9,0.7,0,0,0,0.3,0.3,0.3,0.3,0.3,0.3,0.3,0.3,0.3,0.5,0.5,0.5,0,0,0,0,0,0,0,0,0,0,0,0,0,0,0,0,0,0,0,0,0,0,0,0,1,1,1,2,3,1,180,30,"00:00:00",4344,0,0,0,0,0,0,0,0,0,0,0,0,0,0,0,0,0,0,0,0,30,48,-0.1,-0.2,0,0]
["2023-09-27T14:33:23",32,31,33,31,43,39,42,39,25.6,95,100,66.900000000000006,54.3,54.4,54.3,54.2,-0.8,3.1,1.4,120,120,120,120,120,120,119.9,120,119.9,119.9,120,119.9,61.9,61.9,61.9,3.5,2.5,2.5,2.1,-0.2,-0.1,-0.1,0.1,0.2,0.1,-0.1,-0.1,-0.1,0,0.2,0.1,-0.4,-0.4,-0.4,-0.2,-0.2,-0.2,-0.3,-0.3,-0.3,-0.1,-0.1,-0.1,0.2,0.4,0.3,0.4,0.6,0.4,0.1,0.3,0.2,0.6,0.9,0.7,0,0,0,0.3,0.3,0.3,0.3,0.3,0.3,0.3,0.3,0.3,0.5,0.6,0.5,0,0,0,0,0,0,0,0,0,0,0,0,0,0,0,0,0,0,0,0,0,0,0,0,1,1,1,2,3,1,180,30,"00:00:00",4344,0,0,0,0,0,0,0,0,0,0,0,0,0,0,0,0,0,0,0,0,30,48,0.2,0,0,0]
["2023-09-27T14:38:28",33,31,33,31,43,39,42,39,25.8,95,100,66.900000000000006,54.2,54.3,54.2,54.2,-5.8,-0.3,-4.0999999999999996,120,120,120,120,120,120,119.9,120,119.9,119.9,120,119.9,61.9,61.9,61.9,4,2.2000000000000002,3.1,1.8,-0.3,-0.3,-0.3,0.1,0.2,0.1,-0.2,-0.2,-0.2,0,0.2,0.1,-0.4,-0.4,-0.4,-0.2,-0.1,-0.1,-0.3,-0.3,-0.3,-0.1,-0.1,-0.1,0.2,0.5,0.3,0.2,0.6,0.4,0.1,0.3,0.2,0.6,0.9,0.6,0,0,0,0.3,0.3,0.3,0.3,0.4,0.3,0.3,0.3,0.3,0.5,0.5,0.5,0,0,0,0,0,0,0,0,0,0,0,0,0,0,0,0,0,0,0,0,0,0,0,0,1,1,1,2,3,1,180,30,"00:00:00",4344,0,0,0,0,0,0,0,0,0,0,0,0,0,0,0,0,0,0,0,0,30,48,-0.1,-0.2,0,0]
["2023-09-27T14:40:29",32,31,33,31,43,39,42,39,25.9,95,100,66.900000000000006,54.3,54.3,54.3,54.2,-1.4,1.5,-0.6,120,120,120,120,120,120,119.9,120,119.9,119.9,120,119.9,61.9,61.9,61.9,3.7,2.1,2.7,1.7,-0.2,-0.2,-0.2,0.1,0.2,0.1,-0.2,-0.2,-0.2,0.1,0.2,0.1,-0.4,-0.4,-0.4,-0.2,-0.1,-0.1,-0.3,-0.3,-0.3,-0.1,-0.1,-0.1,0.3,0.5,0.3,0.3,0.5,0.4,0.1,0.4,0.2,0.5,0.8,0.6,0,0,0,0.3,0.3,0.3,0.3,0.3,0.3,0.2,0.3,0.2,0.5,0.5,0.5,0,0,0,0,0,0,0,0,0,0,0,0,0,0,0,0,0,0,0,0,0,0,0,0,1,1,1,2,3,1,180,30,"00:00:00",4344,0,0,0,0,0,0,0,0,0,0,0,0,0,0,0,0,0,0,0,0,30,48,0,-0.1,0,0]
["2023-09-27T14:47:34",33,32,33,31,43,39,42,39,26,95,100,66.900000000000006,54,54.3,54.1,54.2,-6.2,28.9,9.4,120,120,120,119.6,120,120,119.9,120,119.9,119.7,120,119.9,61.7,61.8,61.7,6.7,18.399999999999999,6.1,14.5,-0.7,-0.4,-0.5,0.3,1.3,0.7,-0.7,-0.4,-0.5,0.2,1.2,0.6,-0.4,-0.4,-0.4,-0.3,0.4,0.1,-0.2,-0.2,-0.2,-0.2,0.4,0.1,0.3,0.6,0.3,0.3,0.6,0.4,0.1,0.4,0.2,0.5,0.8,0.6,0,0,0,0.2,0.3,0.3,0.3,0.4,0.3,0.2,0.3,0.2,0.5,0.5,0.5,0,0,0,0,0,0,0,0,0,0,0,0,0,0,0,0,0,0,0,0,0,0,0,0,1,1,1,2,3,1,180,30,"00:00:00",4344,0,0,0,0,0,0,0,0,0,0,0,0,0,0,0,0,0,0,0,0,30,48,1.6,0.4,0,0]
["2023-09-27T14:51:37",33,32,33,31,43,39,42,39,26.1,95,100,66.900000000000006,54.3,54.4,54.3,54.2,1.6,3.6,2.5,120,120,120,120,120,120,119.9,120,119.9,119.9,120,119.9,61.8,61.9,61.8,4.5,3.8,3.5,3.4,-0.4,-0.3,-0.3,0.3,0.4,0.3,-0.3,-0.3,-0.3,0.3,0.4,0.3,-0.4,-0.4,-0.4,-0.2,-0.2,-0.2,-0.3,-0.3,-0.3,-0.2,-0.1,-0.1,0.2,0.5,0.3,0.3,0.6,0.4,0.1,0.4,0.2,0.6,0.8,0.6,0,0,0,0.3,0.3,0.3,0.3,0.4,0.3,0.2,0.3,0.3,0.5,0.5,0.5,0,0,0,0,0,0,0,0,0,0,0,0,0,0,0,0,0,0,0,0,0,0,0,0,1,1,1,2,3,1,180,30,"00:00:00",4344,0,0,0,0,0,0,0,0,0,0,0,0,0,0,0,0,0,0,0,0,30,48,0.1,0,0,0]
["2023-09-27T14:52:38",33,32,33,31,43,39,42,39,26.1,95,100,66.900000000000006,54.2,54.3,54.2,54.2,0.6,3.2,2,120,120,120,120,120,120,119.9,120,119.9,119.9,120,119.9,61.8,61.8,61.8,4.5,3.8,3.6,3.3,-0.4,-0.3,-0.3,0.3,0.4,0.3,-0.3,-0.3,-0.3,0.3,0.4,0.3,-0.4,-0.4,-0.4,-0.2,-0.2,-0.2,-0.3,-0.2,-0.3,-0.2,-0.1,-0.1,0.1,0.4,0.3,0.3,0.5,0.4,0.1,0.4,0.2,0.4,0.8,0.6,0,0,0,0.3,0.3,0.3,0.3,0.4,0.3,0.2,0.3,0.2,0.5,0.5,0.5,0,0,0,0,0,0,0,0,0,0,0,0,0,0,0,0,0,0,0,0,0,0,0,0,1,1,1,2,3,1,180,30,"00:00:00",4344,0,0,0,0,0,0,0,0,0,0,0,0,0,0,0,0,0,0,0,0,30,48,0.1,0,0,0]
["2023-09-27T14:58:44",33,32,33,31,43,39,42,39,25.8,95,100,66.900000000000006,54.3,54.4,54.3,54.2,0,1.2,0.6,120,120,120,120,120,120,119.9,120,119.9,119.9,120,119.9,61.9,61.9,61.9,3.6,2.2000000000000002,2.6,1.6,-0.2,-0.2,-0.2,0.1,0.2,0.1,-0.1,-0.1,-0.1,0.1,0.1,0.1,-0.4,-0.4,-0.4,-0.2,-0.2,-0.2,-0.3,-0.3,-0.3,-0.1,-0.1,-0.1,0.2,0.4,0.3,0.4,0.7,0.4,0.1,0.4,0.2,0.5,1.1000000000000001,0.6,0,0,0,0.3,0.3,0.3,0.3,0.4,0.3,0.3,0.3,0.3,0.5,0.5,0.5,0,0,0,0,0,0,0,0,0,0,0,0,0,0,0,0,0,0,0,0,0,0,0,0,1,1,1,2,3,1,180,30,"00:00:00",4344,0,0,0,0,0,0,0,0,0,0,0,0,0,0,0,0,0,0,0,0,30,48,0,0,0,0]
["2023-09-27T15:02:47",33,32,33,31,43,39,42,39,26,95,100,66.900000000000006,54.2,54.3,54.3,54.2,-8,-0.7,-4.7,120,120,120,119.9,120,120,119.9,120,119.9,119.9,120,120,61.8,61.8,61.8,4.5999999999999996,5,3.7,5.6,-0.4,-0.3,-0.3,0.1,0.3,0.1,-0.4,-0.3,-0.3,0.1,0.5,0.1,-0.4,-0.4,-0.4,0.1,0.3,0.1,-0.3,-0.2,-0.2,0.2,0.3,0.2,0.2,0.4,0.3,0.3,0.6,0.4,0.2,0.4,0.2,0.6,0.9,0.7,0,0,0,0.3,0.3,0.3,0.3,0.4,0.3,0.2,0.3,0.2,0.5,0.5,0.5,0,0,0,0,0,0,0,0,0,0,0,0,0,0,0,0,0,0,0,0,0,0,0,0,1,1,1,2,3,1,180,30,"00:00:00",4344,0,0,0,0,0,0,0,0,0,0,0,0,0,0,0,0,0,0,0,0,30,48,0,-0.3,0,0]
["2023-09-27T15:09:53",34,33,34,32,43,39,42,39,26.1,95,100,66.900000000000006,54,54.3,54.2,54.2,-3.6,30,7.6,120,120,120,119.7,120,120,119.9,119.9,119.9,119.8,120,119.9,61.7,61.8,61.7,7.2,19.3,6.6,16.600000000000001,-0.8,-0.5,-0.6,0.5,2.1,0.8,-0.8,-0.5,-0.6,0.4,1.4,0.7,-0.4,-0.4,-0.4,0.1,0.8,0.3,-0.2,-0.2,-0.2,0.2,0.7,0.3,0.2,0.4,0.3,0.2,0.5,0.3,0.1,0.4,0.2,0.5,0.8,0.6,0,0,0,0.3,0.3,0.3,0.3,0.3,0.3,0.2,0.3,0.3,0.5,0.5,0.5,0,0,0,0,0,0,0,0,0,0,0,0,0,0,0,0,0,0,0,0,0,0,0,0,1,1,1,2,3,1,180,30,"00:00:00",4345,0,0,0,0,0,0,0,0,0,0,0,0,0,0,0,0,0,0,0,0,30,48,2.4,0.3,0,0]
["2023-09-27T15:12:54",34,33,34,32,43,39,42,39,26,95,100,66.900000000000006,54.3,54.5,54.4,54.2,0.3,6.6,1.9,120,120,120,120,120,120,119.9,120,119.9,120,120,120,61.8,61.8,61.8,5.5,5.9,4.8,5.7,-0.6,-0.5,-0.5,0.5,0.7,0.5,-0.5,-0.5,-0.5,0.5,0.7,0.5,-0.4,-0.4,-0.4,0.1,0.1,0.1,-0.2,-0.2,-0.2,0.2,0.2,0.2,0.2,0.4,0.3,0.3,0.5,0.4,0.1,0.4,0.2,0.6,0.9,0.7,0,0,0,0.3,0.3,0.3,0.3,0.3,0.3,0.2,0.3,0.3,0.5,0.5,0.5,0,0,0,0,0,0,0,0,0,0,0,0,0,0,0,0,0,0,0,0,0,0,0,0,1,1,1,2,3,1,180,30,"00:00:00",4345,0,0,0,0,0,0,0,0,0,0,0,0,0,0,0,0,0,0,0,0,30,48,0.3,0,0,0]
["2023-09-27T15:16:57",34,33,34,32,43,39,42,39,25.9,95,100,66.900000000000006,54.2,54.3,54.2,54.2,-3.1,8,-1.2,120,120,120,119.8,120.1,120,119.9,119.9,119.9,119.8,120,120,61.7,61.8,61.7,6,10.7,5.2,10.4,-0.6,-0.5,-0.6,0.5,1.1000000000000001,0.5,-0.6,-0.5,-0.6,0.5,1.1000000000000001,0.5,-0.4,-0.4,-0.4,0.1,0.6,0.1,-0.2,-0.2,-0.2,0.2,0.6,0.2,0.2,0.4,0.2,0.3,0.5,0.4,0.2,0.5,0.2,0.5,0.8,0.6,0,0,0,0.3,0.3,0.3,0.3,0.3,0.3,0.2,0.3,0.2,0.5,0.5,0.5,0,0,0,0,0,0,0,0,0,0,0,0,0,0,0,0,0,0,0,0,0,0,0,0,1,1,1,2,3,1,180,30,"00:00:00",4345,0,0,0,0,0,0,0,0,0,0,0,0,0,0,0,0,0,0,0,0,30,48,1.1000000000000001,-0.1,0,0]
["2023-09-27T15:22:03",34,33,34,32,43,39,42,39,25.9,95,100,66.900000000000006,54.2,54.3,54.2,54.2,-2.8,0.4,-1,120,120,120,120,120,120,119.9,120,119.9,120,120,120,61.8,61.8,61.8,5.3,4,4.5999999999999996,4.0999999999999996,-0.5,-0.5,-0.5,0.4,0.5,0.4,-0.5,-0.5,-0.5,0.4,0.4,0.4,-0.4,-0.4,-0.4,0.1,0.1,0.1,-0.2,-0.2,-0.2,0.2,0.2,0.2,0.2,0.4,0.2,0.3,0.5,0.4,0.1,0.3,0.2,0.5,0.8,0.6,0,0,0,0.3,0.3,0.3,0.3,0.3,0.3,0.3,0.3,0.3,0.5,0.5,0.5,0,0,0,0,0,0,0,0,0,0,0,0,0,0,0,0,0,0,0,0,0,0,0,0,1,1,1,2,3,1,180,30,"00:00:00",4345,0,0,0,0,0,0,0,0,0,0,0,0,0,0,0,0,0,0,0,0,30,48,-0.1,-0.1,0,0]
["2023-09-27T15:28:09",34,33,34,32,43,39,42,39,25.9,95,100,66.900000000000006,54.3,54.3,54.3,54.2,-4,-2.4,-3.5,120,120,120,120,120,120,119.9,120,119.9,119.9,120,119.9,61.8,61.8,61.8,5.3,3.6,4.5,3.1,-0.5,-0.5,-0.5,0.3,0.4,0.3,-0.5,-0.4,-0.4,0.3,0.4,0.3,-0.4,-0.4,-0.4,-0.2,-0.2,-0.2,-0.3,-0.2,-0.2,-0.1,-0.1,-0.1,0.2,0.4,0.2,0.4,0.7,0.4,0.1,0.3,0.1,0.5,0.9,0.7,0,0,0,0.3,0.3,0.3,0.3,0.4,0.3,0.3,0.3,0.3,0.5,0.5,0.5,0,0,0,0,0,0,0,0,0,0,0,0,0,0,0,0,0,0,0,0,0,0,0,0,1,1,1,2,3,1,180,30,"00:00:00",4345,0,0,0,0,0,0,0,0,0,0,0,0,0,0,0,0,0,0,0,0,30,48,-0.2,-0.2,0,0]
["2023-09-27T15:32:11",34,33,34,32,43,39,42,39,25.8,95,100,66.900000000000006,54.3,54.3,54.3,54.2,-4.7,-1.8,-3.2,120,120,120,120,120,120,119.9,120,119.9,119.9,120,119.9,61.8,61.8,61.8,5.5,4,4.5999999999999996,3.5,-0.5,-0.5,-0.5,0.4,0.5,0.4,-0.5,-0.5,-0.5,0.3,0.4,0.3,-0.4,-0.4,-0.4,-0.2,-0.2,-0.2,-0.2,-0.2,-0.2,-0.1,-0.1,-0.1,0.2,0.3,0.2,0.3,0.6,0.4,0.1,0.3,0.2,0.7,1.1000000000000001,0.8,0,0,0,0.3,0.3,0.3,0.3,0.4,0.3,0.3,0.3,0.3,0.5,0.6,0.5,0,0,0,0,0,0,0,0,0,0,0,0,0,0,0,0,0,0,0,0,0,0,0,0,1,1,1,2,3,1,180,30,"00:00:00",4345,0,0,0,0,0,0,0,0,0,0,0,0,0,0,0,0,0,0,0,0,30,48,-0.1,-0.2,0,0]
["2023-09-27T15:35:14",34,33,34,32,43,39,42,39,25.8,95,100,66.900000000000006,54.1,54.4,54.2,54.2,-12.7,30.6,14.1,120,120,120,119.8,120.3,120,119.9,120,119.9,119.6,120.2,119.9,61.7,61.9,61.8,5.2,17.100000000000001,4.4000000000000004,10.6,-0.5,-0.2,-0.3,-0.1,1.8,0.6,-0.5,-0.1,-0.2,-0.2,1.4,0.6,-0.4,-0.3,-0.4,-0.2,0.5,0.2,-0.3,-0.2,-0.2,-0.1,0.6,0.2,0.2,0.4,0.3,0.4,0.6,0.4,0.1,0.4,0.2,0.6,0.9,0.7,0,0,0,0.3,0.3,0.3,0.3,0.4,0.3,0.2,0.3,0.3,0.5,0.5,0.5,0,0,0,0,0,0,0,0,0,0,0,0,0,0,0,0,0,0,0,0,0,0,0,0,1,1,1,2,3,1,180,30,"00:00:00",4345,0,0,0,0,0,0,0,0,0,0,0,0,0,0,0,0,0,0,0,0,30,48,2.9,0.6,0,0]
["2023-09-27T15:42:20",34,32,34,32,43,39,42,39,25.9,95,100,67,54.2,54.3,54.2,54.2,-4.0999999999999996,1,-1.6,120,120,120,120,120,120,119.9,120,119.9,119.9,120,119.9,61.9,61.9,61.9,4.2,2.8,3.3,2.2000000000000002,-0.3,-0.2,-0.2,0.1,0.2,0.1,-0.3,-0.2,-0.2,0.1,0.2,0.1,-0.4,-0.4,-0.4,-0.2,-0.2,-0.2,-0.3,-0.3,-0.3,-0.2,-0.1,-0.1,0.2,0.4,0.2,0.4,0.6,0.4,0.1,0.3,0.2,0.6,1,0.7,0,0,0,0.3,0.3,0.3,0.3,0.4,0.3,0.2,0.3,0.3,0.5,0.6,0.5,0,0,0,0,0,0,0,0,0,0,0,0,0,0,0,0,0,0,0,0,0,0,0,0,1,1,1,2,3,1,180,30,"00:00:00",4345,0,0,0,0,0,0,0,0,0,0,0,0,0,0,0,0,0,0,0,0,30,48,0,-0.1,0,0]
["2023-09-27T15:46:24",34,32,34,32,43,39,42,39,26,95,100,67,54.3,54.3,54.3,54.2,-5,4.2,-0.6,120,120,120,120,120,120,119.9,120,119.9,119.9,120,119.9,61.9,61.9,61.9,4,3.1,3,2.7,-0.3,-0.3,-0.3,0.1,0.3,0.1,-0.2,-0.2,-0.2,0.1,0.3,0.1,-0.4,-0.4,-0.4,-0.2,-0.2,-0.2,-0.3,-0.3,-0.3,-0.1,-0.1,-0.1,0.1,0.4,0.2,0.4,0.7,0.5,0.1,0.4,0.2,0.6,1,0.7,0,0,0,0.3,0.3,0.3,0.3,0.4,0.3,0.2,0.3,0.2,0.5,0.6,0.5,0,0,0,0,0,0,0,0,0,0,0,0,0,0,0,0,0,0,0,0,0,0,0,0,1,1,1,2,3,1,180,30,"00:00:00",4345,0,0,0,0,0,0,0,0,0,0,0,0,0,0,0,0,0,0,0,0,30,48,0.2,0,0,0]
["2023-09-27T15:47:25",34,32,34,32,43,39,42,39,26,95,100,67,54.3,54.3,54.3,54.2,-2.8,0,-1,120,120,120,120,120,120,119.9,120,119.9,119.9,120,119.9,61.9,61.9,61.9,4,2.4,2.9,1.9,-0.3,-0.3,-0.3,0.1,0.2,0.2,-0.2,-0.2,-0.2,0.1,0.2,0.1,-0.4,-0.4,-0.4,-0.2,-0.1,-0.2,-0.3,-0.3,-0.3,-0.1,-0.1,-0.1,0.2,0.4,0.2,0.3,0.6,0.4,0.1,0.4,0.2,0.6,0.9,0.8,0,0,0,0.3,0.3,0.3,0.3,0.4,0.3,0.2,0.3,0.3,0.5,0.6,0.5,0,0,0,0,0,0,0,0,0,0,0,0,0,0,0,0,0,0,0,0,0,0,0,0,1,1,1,2,3,1,180,30,"00:00:00",4345,0,0,0,0,0,0,0,0,0,0,0,0,0,0,0,0,0,0,0,0,30,48,0,-0.1,0,0]
["2023-09-27T15:53:30",34,32,34,32,43,39,42,39,25.9,95,100,67,54.4,54.5,54.4,54.2,-5.0999999999999996,1.5,0.3,120,120,120,120,120,120,119.9,120,119.9,119.9,120,119.9,61.9,61.9,61.9,3.8,2.2999999999999998,2.8,1.8,-0.3,-0.2,-0.2,0.1,0.2,0.1,-0.2,-0.2,-0.2,0.1,0.2,0.1,-0.4,-0.4,-0.4,-0.2,-0.2,-0.2,-0.3,-0.3,-0.3,-0.1,-0.1,-0.1,0.2,0.4,0.2,0.4,0.6,0.4,0.1,0.4,0.2,0.6,0.9,0.6,0,0,0,0.3,0.3,0.3,0.3,0.4,0.3,0.2,0.3,0.3,0.5,0.5,0.5,0,0,0,0,0,0,0,0,0,0,0,0,0,0,0,0,0,0,0,0,0,0,0,0,1,1,1,2,3,1,180,30,"00:00:00",4346,0,0,0,0,0,0,0,0,0,0,0,0,0,0,0,0,0,0,0,0,30,48,0,0,0,0]
["2023-09-27T15:56:32",34,32,34,31,43,39,42,39,25.9,95,100,67,54.3,54.3,54.3,54.2,-2,1.1000000000000001,-1,120,120,120,120,120,120,119.9,120,119.9,119.9,120,119.9,61.9,61.9,61.9,3.8,2.2000000000000002,2.8,1.7,-0.2,-0.2,-0.2,0.1,0.2,0.1,-0.2,-0.2,-0.2,0.1,0.2,0.1,-0.4,-0.4,-0.4,-0.2,-0.1,-0.1,-0.3,-0.3,-0.3,-0.1,-0.1,-0.1,0.2,0.4,0.2,0.4,0.6,0.4,0.1,0.4,0.2,0.6,1,0.8,0,0,0,0.3,0.3,0.3,0.3,0.4,0.3,0.2,0.3,0.3,0.5,0.6,0.5,0,0,0,0,0,0,0,0,0,0,0,0,0,0,0,0,0,0,0,0,0,0,0,0,1,1,1,2,3,1,180,30,"00:00:00",4346,0,0,0,0,0,0,0,0,0,0,0,0,0,0,0,0,0,0,0,0,30,48,0,-0.1,0,0]
["2023-09-27T16:04:40",33,32,34,31,43,39,42,39,26.1,95,100,67,54.3,54.3,54.3,54.2,-3.8,0.8,-2,120,120,120,120,120,120,119.9,120,119.9,119.9,120,119.9,61.9,61.9,61.9,3.9,2,2.9,1.5,-0.3,-0.2,-0.2,0.1,0.2,0.1,-0.2,-0.1,-0.1,0.1,0.2,0.1,-0.4,-0.4,-0.4,-0.2,-0.1,-0.1,-0.3,-0.3,-0.3,-0.1,-0.1,-0.1,0.2,0.4,0.3,0.4,0.6,0.4,0.1,0.3,0.2,0.6,1,0.7,0,0,0,0.3,0.3,0.3,0.3,0.4,0.3,0.2,0.3,0.3,0.5,0.6,0.5,0,0,0,0,0,0,0,0,0,0,0,0,0,0,0,0,0,0,0,0,0,0,0,0,1,1,1,2,3,1,180,30,"00:00:00",4346,0,0,0,0,0,0,0,0,0,0,0,0,0,0,0,0,0,0,0,0,30,48,0,-0.1,0,0]
["2023-09-27T16:06:41",33,32,33,31,43,39,42,39,26.2,95,100,67,54.2,54.3,54.2,54.2,-0.9,2.6,0.9,120,120,120,119.9,120,120,119.9,120,119.9,119.9,120,119.9,61.9,61.9,61.9,3.8,2.2000000000000002,2.8,1.8,-0.3,-0.2,-0.2,0.2,0.2,0.2,-0.2,-0.1,-0.1,0.1,0.2,0.1,-0.4,-0.4,-0.4,-0.2,-0.1,-0.1,-0.3,-0.3,-0.3,-0.1,-0.1,-0.1,0.2,0.4,0.3,0.4,0.6,0.4,0,0.3,0.1,0.6,1,0.7,0,0,0,0.3,0.3,0.3,0.3,0.4,0.3,0.3,0.3,0.3,0.5,0.6,0.5,0,0,0,0,0,0,0,0,0,0,0,0,0,0,0,0,0,0,0,0,0,0,0,0,1,1,1,2,3,1,180,30,"00:00:00",4346,0,0,0,0,0,0,0,0,0,0,0,0,0,0,0,0,0,0,0,0,30,48,0.1,0,0,0]
["2023-09-27T16:11:47",34,32,34,31,43,39,42,39,26.1,95,100,67,54.4,54.5,54.4,54.2,-19.399999999999999,4.9000000000000004,-5.7,120,120,120,120,120,120,119.9,120,119.9,119.9,120,119.9,61.8,61.9,61.8,4.9000000000000004,2.6,4.2,2.2999999999999998,-0.5,-0.2,-0.2,-0.2,0.3,0,-0.4,-0.1,-0.2,-0.2,0.2,0,-0.4,-0.4,-0.4,-0.2,-0.1,-0.2,-0.3,-0.2,-0.2,-0.1,-0.1,-0.1,0.2,0.4,0.3,0.4,0.7,0.5,0.1,0.4,0.2,0.6,0.9,0.7,0,0,0,0.3,0.3,0.3,0.3,0.4,0.3,0.2,0.3,0.2,0.5,0.6,0.5,0,0,0,0,0,0,0,0,0,0,0,0,0,0,0,0,0,0,0,0,0,0,0,0,1,1,1,2,3,1,180,30,"00:00:00",4346,0,0,0,0,0,0,0,0,0,0,0,0,0,0,0,0,0,0,0,0,30,48,0.2,-0.3,0,0]
["2023-09-27T16:16:50",33,32,34,31,43,39,42,39,26.2,95,100,67,54.3,54.3,54.3,54.2,-5.4,-2.4,-3.3,120,120,120,120,120,120,120,120,120,119.9,120,119.9,61.7,61.7,61.7,2.9,3,2.5,2.8,0.1,0.1,0.1,-0.3,-0.2,-0.2,0.2,0.2,0.2,-0.3,-0.2,-0.2,-0.3,-0.3,-0.3,-0.2,-0.1,-0.1,-0.2,-0.2,-0.2,-0.1,0,0,0.2,0.4,0.2,0.3,0.7,0.5,0.1,0.3,0.1,0.6,0.8,0.6,0,0,0,0.3,0.3,0.3,0.3,0.4,0.3,0.3,0.3,0.3,0.5,0.5,0.5,0,0,0,0,0,0,0,0,0,0,0,0,0,0,0,0,0,0,0,0,0,0,0,0,1,1,1,2,3,1,180,30,"00:00:00",4346,0,0,0,0,0,0,0,0,0,0,0,0,0,0,0,0,0,0,0,0,30,48,-0.2,-0.2,0,0]
["2023-09-27T16:22:56",33,32,33,31,43,39,42,39,26.3,95,100,67,54.3,54.3,54.3,54.2,-4.7,-2.6,-3.6,120,120,120,120,120,120,120,120,120,119.9,120,119.9,61.7,61.7,61.7,2.8,2.7,2.4,2.4,0.1,0.1,0.1,-0.3,-0.2,-0.2,0.1,0.2,0.1,-0.3,-0.2,-0.2,-0.3,-0.3,-0.3,-0.2,-0.1,-0.1,-0.2,-0.2,-0.2,-0.1,0,0,0.2,0.4,0.3,0.4,0.6,0.5,0,0.3,0.1,0.6,0.8,0.6,0,0,0,0.3,0.3,0.3,0.3,0.4,0.3,0.3,0.3,0.3,0.5,0.5,0.5,0,0,0,0,0,0,0,0,0,0,0,0,0,0,0,0,0,0,0,0,0,0,0,0,1,1,1,2,3,1,180,30,"00:00:00",4346,0,0,0,0,0,0,0,0,0,0,0,0,0,0,0,0,0,0,0,0,30,48,-0.2,-0.2,0,0]
["2023-09-27T16:26:59",33,32,33,31,43,39,42,39,26.2,95,100,67,54.3,54.4,54.3,54.2,-11.7,-2.2000000000000002,-6.5,120,120,120,120,120,120,119.9,120,119.9,119.9,120,119.9,61.8,61.9,61.8,4.5,1.9,3.4,1.4,-0.4,-0.2,-0.2,0,0.1,0,-0.3,-0.2,-0.2,0,0.1,0,-0.4,-0.4,-0.4,-0.2,-0.1,-0.1,-0.3,-0.2,-0.2,-0.1,-0.1,-0.1,0.2,0.4,0.3,0.4,0.7,0.4,0.1,0.4,0.1,0.6,0.9,0.7,0,0,0,0.3,0.3,0.3,0.3,0.4,0.3,0.3,0.3,0.3,0.5,0.6,0.5,0,0,0,0,0,0,0,0,0,0,0,0,0,0,0,0,0,0,0,0,0,0,0,0,1,1,1,2,3,1,180,30,"00:00:00",4346,0,0,0,0,0,0,0,0,0,0,0,0,0,0,0,0,0,0,0,0,30,48,-0.2,-0.4,0,0]
["2023-09-27T16:30:03",33,32,33,31,43,39,42,39,26.1,95,100,67,53.9,54.3,54.2,54.2,-1.2,32.1,7.8,120,120,120,119.6,120,120,119.9,120,119.9,119.8,120,119.9,61.8,61.9,61.8,4.2,17.399999999999999,3.2,11.3,-0.3,-0.1,-0.2,0.1,1.2,0.3,-0.3,-0.1,-0.1,0.1,1.7,0.3,-0.4,-0.4,-0.4,-0.2,0.4,0,-0.3,-0.2,-0.3,-0.1,0.5,0,0.2,0.5,0.3,0.4,0.8,0.5,0,0.3,0.1,0.6,1,0.7,0,0,0,0.3,0.3,0.3,0.3,0.4,0.3,0.3,0.3,0.3,0.5,0.6,0.5,0,0,0,0,0,0,0,0,0,0,0,0,0,0,0,0,0,0,0,0,0,0,0,0,1,1,1,2,3,1,180,30,"00:00:00",4346,0,0,0,0,0,0,0,0,0,0,0,0,0,0,0,0,0,0,0,0,30,48,2.6,0.4,0,0]
["2023-09-27T16:37:08",33,32,33,31,43,39,42,39,25.9,95,100,67,54.2,54.3,54.2,54.2,0.2,1.6,0.9,120,120,120,120,120,120,119.9,120,119.9,119.9,120,119.9,61.9,61.9,61.9,3.6,2.2999999999999998,2.6,1.7,-0.2,-0.2,-0.2,0.2,0.2,0.2,-0.1,-0.1,-0.1,0.1,0.2,0.1,-0.4,-0.4,-0.4,-0.2,-0.2,-0.2,-0.3,-0.3,-0.3,-0.1,-0.1,-0.1,0.3,0.5,0.3,0.4,0.7,0.5,0.1,0.3,0.2,0.5,0.9,0.7,0,0,0,0.3,0.3,0.3,0.3,0.4,0.3,0.3,0.3,0.3,0.5,0.5,0.5,0,0,0,0,0,0,0,0,0,0,0,0,0,0,0,0,0,0,0,0,0,0,0,0,1,1,1,2,3,1,180,30,"00:00:00",4347,0,0,0,0,0,0,0,0,0,0,0,0,0,0,0,0,0,0,0,0,30,48,0,0,0,0]
["2023-09-27T16:41:12",33,33,33,32,43,39,42,39,26,95,100,67,54,54.3,54.2,54.2,-4.0999999999999996,33.5,9.3000000000000007,120,120,120,119.8,120,120,119.9,120,119.9,119.7,120,119.9,61.8,61.9,61.8,4.5999999999999996,16,3.6,16.600000000000001,-0.4,-0.1,-0.2,0.1,1.9,0.4,-0.3,-0.1,-0.2,0,1.2,0.4,-0.5,-0.4,-0.4,-0.2,0.7,0,-0.3,-0.2,-0.2,-0.1,0.4,0.1,0.2,0.5,0.3,0.3,0.6,0.4,0,0.3,0.2,0.6,0.9,0.7,0,0,0,0.2,0.3,0.3,0.3,0.3,0.3,0.2,0.3,0.3,0.5,0.6,0.5,0,0,0,0,0,0,0,0,0,0,0,0,0,0,0,0,0,0,0,0,0,0,0,0,1,1,1,2,3,1,180,30,"00:00:00",4347,0,0,0,0,0,0,0,0,0,0,0,0,0,0,0,0,0,0,0,0,30,48,3,0.5,0,0]
["2023-09-27T16:46:15",33,32,33,31,43,39,42,39,26.1,95,100,67,54.2,54.4,54.3,54.2,2.2000000000000002,4.9000000000000004,3.8,120,120,120,120,120,120,119.9,120,119.9,119.9,120,119.9,61.9,61.9,61.9,3.5,2.5,2.5,1.9,-0.2,-0.1,-0.1,0.1,0.2,0.1,-0.1,-0.1,-0.1,0.1,0.2,0.1,-0.4,-0.4,-0.4,-0.2,-0.2,-0.2,-0.3,-0.3,-0.3,-0.1,-0.1,-0.1,0.2,0.4,0.3,0.2,0.5,0.4,0.1,0.3,0.2,0.6,0.9,0.7,0,0,0,0.3,0.3,0.3,0.3,0.3,0.3,0.2,0.3,0.3,0.5,0.5,0.5,0,0,0,0,0,0,0,0,0,0,0,0,0,0,0,0,0,0,0,0,0,0,0,0,1,1,1,2,3,1,180,30,"00:00:00",4347,0,0,0,0,0,0,0,0,0,0,0,0,0,0,0,0,0,0,0,0,30,48,0.2,0.1,0,0]
["2023-09-27T16:48:18",33,32,33,31,43,39,41,39,26,95,100,67,54.2,54.3,54.2,54.2,-3.5,-0.3,-1.8,120,120,120,120,120,120,119.9,120,119.9,119.9,120,119.9,61.9,61.9,61.9,3.7,1.9,2.7,1.4,-0.2,-0.2,-0.2,0.1,0.1,0.1,-0.2,-0.1,-0.1,0.1,0.1,0.1,-0.4,-0.4,-0.4,-0.2,-0.2,-0.2,-0.3,-0.3,-0.3,-0.1,-0.1,-0.1,0.2,0.4,0.3,0.3,0.6,0.4,0.1,0.3,0.2,0.6,0.9,0.6,0,0,0,0.3,0.3,0.3,0.3,0.4,0.3,0.3,0.3,0.3,0.5,0.5,0.5,0,0,0,0,0,0,0,0,0,0,0,0,0,0,0,0,0,0,0,0,0,0,0,0,1,1,1,2,3,1,180,30,"00:00:00",4347,0,0,0,0,0,0,0,0,0,0,0,0,0,0,0,0,0,0,0,0,30,48,-0.1,-0.1,0,0]
["2023-09-27T16:51:21",33,32,33,31,43,39,41,39,26.1,95,100,67,54.3,54.3,54.3,54.2,-3.5,0.5,-0.4,120,120,120,120,120,120,119.9,120,119.9,119.9,120,119.9,61.9,61.9,61.9,3.7,2,2.5,1.5,-0.2,-0.2,-0.2,0.1,0.1,0.1,-0.1,-0.1,-0.1,0,0.1,0.1,-0.4,-0.4,-0.4,-0.2,-0.2,-0.2,-0.3,-0.3,-0.3,-0.1,-0.1,-0.1,0.2,0.5,0.3,0.3,0.5,0.4,0.1,0.3,0.2,0.6,1,0.8,0,0,0,0.3,0.3,0.3,0.3,0.4,0.3,0.3,0.3,0.3,0.5,0.6,0.5,0,0,0,0,0,0,0,0,0,0,0,0,0,0,0,0,0,0,0,0,0,0,0,0,1,1,1,2,3,1,180,30,"00:00:00",4347,0,0,0,0,0,0,0,0,0,0,0,0,0,0,0,0,0,0,0,0,30,48,0,0,0,0]
["2023-09-27T16:59:28",33,32,33,31,43,40,41,39,26.1,95,100,67,54.3,54.3,54.3,54.2,-2.1,1,-1,120,120,120,120,120,120,119.9,120,119.9,119.9,120,119.9,61.9,61.9,61.9,2.8,2,1.6,1.6,-0.2,-0.1,-0.1,0,0.2,0,-0.1,-0.1,-0.1,0,0.1,0,-0.3,-0.3,-0.3,-0.2,-0.2,-0.2,-0.2,-0.1,-0.1,-0.1,-0.1,-0.1,0.2,0.5,0.3,0.3,0.5,0.4,0.1,0.4,0.2,0.5,0.9,0.6,0,0,0,0.3,0.3,0.3,0.3,0.4,0.3,0.2,0.3,0.2,0.5,0.5,0.5,0,0,0,0,0,0,0,0,0,0,0,0,0,0,0,0,0,0,0,0,0,0,0,0,1,1,1,2,3,1,180,30,"00:00:00",4347,0,0,0,0,0,0,0,0,0,0,0,0,0,0,0,0,0,0,0,0,30,48,0,-0.1,0,0]
["2023-09-27T17:01:29",33,32,33,31,43,39,41,39,26.2,95,100,67,54.2,54.3,54.2,54.2,-0.6,2.2999999999999998,0.5,120,120,120,120,120,120,119.9,120,119.9,119.9,120,119.9,61.9,61.9,61.9,2.7,1.9,1.6,1.4,-0.2,-0.1,-0.1,0.1,0.2,0.1,-0.1,-0.1,-0.1,0.1,0.1,0.1,-0.3,-0.3,-0.3,-0.2,-0.1,-0.2,-0.2,-0.1,-0.1,-0.1,-0.1,-0.1,0.2,0.5,0.3,0.3,0.5,0.4,0.1,0.3,0.2,0.6,0.8,0.6,0,0,0,0.3,0.3,0.3,0.3,0.4,0.3,0.2,0.3,0.3,0.5,0.5,0.5,0,0,0,0,0,0,0,0,0,0,0,0,0,0,0,0,0,0,0,0,0,0,0,0,1,1,1,2,3,1,180,30,"00:00:00",4347,0,0,0,0,0,0,0,0,0,0,0,0,0,0,0,0,0,0,0,0,30,48,0.1,0,0,0]
["2023-09-27T17:06:33",33,32,33,31,43,40,41,39,26.3,95,100,67,54.3,54.4,54.3,54.2,0.6,15.2,5.2,120,120,120,119.8,120.1,120,119.9,120,119.9,119.8,120,119.9,61.9,61.9,61.9,2.7,7.5,1.6,7.3,-0.2,-0.1,-0.1,0,0.8,0.1,-0.1,0,0,0,0.6,0.1,-0.3,-0.1,-0.1,-0.2,0.3,-0.1,-0.2,0,0,-0.1,0.2,-0.1,0.2,0.5,0.3,0.4,0.6,0.4,0.1,0.4,0.2,0.6,0.9,0.7,0,0,0,0.2,0.3,0.3,0.3,0.4,0.3,0.2,0.3,0.2,0.5,0.5,0.5,0,0,0,0,0,0,0,0,0,0,0,0,0,0,0,0,0,0,0,0,0,0,0,0,1,1,1,2,3,1,180,30,"00:00:00",4347,0,0,0,0,0,0,0,0,0,0,0,0,0,0,0,0,0,0,0,0,30,48,1.3,0.2,0,0]
["2023-09-27T17:11:38",33,32,33,31,43,40,41,39,26.2,95,100,67.099999999999994,54.3,54.3,54.3,54.2,-5.2,2.1,-1.1000000000000001,120,120,120,120,120,120,119.9,120,119.9,119.9,120,119.9,61.8,61.8,61.8,3.2,2.7,2.2000000000000002,2.2000000000000002,-0.3,-0.3,-0.3,0.1,0.3,0.1,-0.2,-0.2,-0.2,0,0.2,0.1,-0.3,-0.2,-0.2,-0.2,-0.1,-0.1,-0.2,-0.1,-0.1,-0.1,-0.1,-0.1,0.2,0.4,0.3,0.3,0.5,0.4,0,0.3,0.1,0.4,0.8,0.6,0,0,0,0.3,0.3,0.3,0.3,0.4,0.3,0.3,0.3,0.3,0.5,0.5,0.5,0,0,0,0,0,0,0,0,0,0,0,0,0,0,0,0,0,0,0,0,0,0,0,0,1,1,1,2,3,1,180,30,"00:00:00",4347,0,0,0,0,0,0,0,0,0,0,0,0,0,0,0,0,0,0,0,0,30,48,0.1,-0.1,0,0]
["2023-09-27T17:17:44",33,32,33,31,43,40,41,39,26.1,95,100,67.099999999999994,54.2,54.3,54.2,54.2,-10.7,0.5,-3.8,120,120,120,120,120,120,119.9,120,119.9,119.9,120,119.9,61.8,61.8,61.8,4.4000000000000004,2.6,3.5,2.2999999999999998,-0.4,-0.3,-0.3,0,0.3,0.1,-0.3,-0.2,-0.2,0,0.3,0.1,-0.4,-0.4,-0.4,-0.2,-0.1,-0.1,-0.3,-0.2,-0.2,-0.1,-0.1,-0.1,0.2,0.4,0.3,0.4,0.6,0.4,0,0.3,0.1,0.6,0.9,0.7,0,0,0,0.3,0.3,0.3,0.3,0.4,0.3,0.3,0.3,0.3,0.5,0.6,0.5,0,0,0,0,0,0,0,0,0,0,0,0,0,0,0,0,0,0,0,0,0,0,0,0,1,1,1,2,3,1,180,30,"00:00:00",4347,0,0,0,0,0,0,0,0,0,0,0,0,0,0,0,0,0,0,0,0,30,48,0,-0.2,0,0]
["2023-09-27T17:20:47",33,32,33,31,43,40,41,39,26,95,100,67.099999999999994,54.3,54.3,54.3,54.2,-1.7,1,-0.4,120,120,120,120,120,120,119.9,120,119.9,119.9,120,119.9,61.9,61.9,61.9,3.7,2.2999999999999998,2.7,1.8,-0.2,-0.2,-0.2,0.1,0.2,0.1,-0.2,-0.2,-0.2,0.1,0.2,0.1,-0.4,-0.4,-0.4,-0.2,-0.1,-0.2,-0.3,-0.3,-0.3,-0.1,-0.1,-0.1,0.2,0.5,0.3,0.3,0.6,0.4,0.1,0.3,0.1,0.6,1.2,0.8,0,0,0,0.3,0.3,0.3,0.3,0.4,0.3,0.3,0.3,0.3,0.5,0.6,0.5,0,0,0,0,0,0,0,0,0,0,0,0,0,0,0,0,0,0,0,0,0,0,0,0,1,1,1,2,3,1,180,30,"00:00:00",4347,0,0,0,0,0,0,0,0,0,0,0,0,0,0,0,0,0,0,0,0,30,48,0,0,0,0]
["2023-09-27T17:24:49",33,32,33,31,43,39,41,39,25.9,95,100,67.099999999999994,54.3,54.3,54.3,54.2,-1.9,1.3,-0.8,120,120,120,120,120,120,119.9,120,119.9,119.9,120,119.9,61.9,61.9,61.9,3.8,2.4,2.8,1.9,-0.3,-0.2,-0.2,0.1,0.2,0.1,-0.2,-0.2,-0.2,0.1,0.2,0.1,-0.4,-0.4,-0.4,-0.2,-0.1,-0.2,-0.3,-0.3,-0.3,-0.1,-0.1,-0.1,0.2,0.4,0.2,0.4,0.7,0.4,0,0.3,0.1,0.6,0.9,0.7,0,0,0,0.3,0.3,0.3,0.3,0.4,0.3,0.3,0.3,0.3,0.5,0.5,0.5,0,0,0,0,0,0,0,0,0,0,0,0,0,0,0,0,0,0,0,0,0,0,0,0,1,1,1,2,3,1,180,30,"00:00:00",4347,0,0,0,0,0,0,0,0,0,0,0,0,0,0,0,0,0,0,0,0,30,48,0,-0.1,0,0]
["2023-09-27T17:30:54",34,32,34,32,43,40,41,39,25.7,95,100,67.099999999999994,54.4,54.5,54.4,54.2,-21.8,3.4,-8.6999999999999993,120,120,120,120,120,120,119.9,120,119.9,119.9,120,119.9,61.8,61.9,61.8,5.6,3.4,4.9000000000000004,2.9,-0.6,-0.2,-0.3,-0.1,0.3,0.1,-0.5,-0.2,-0.3,-0.1,0.3,0.1,-0.4,-0.4,-0.4,-0.2,-0.1,-0.1,-0.3,-0.2,-0.2,-0.1,-0.1,-0.1,0.2,0.4,0.2,0.4,0.5,0.4,0.1,0.4,0.2,0.5,0.8,0.6,0,0,0,0.3,0.3,0.3,0.3,0.4,0.3,0.2,0.3,0.2,0.5,0.5,0.5,0,0,0,0,0,0,0,0,0,0,0,0,0,0,0,0,0,0,0,0,0,0,0,0,1,1,1,2,3,1,180,30,"00:00:00",4348,0,0,0,0,0,0,0,0,0,0,0,0,0,0,0,0,0,0,0,0,30,48,0.2,-0.5,0,0]
["2023-09-27T17:35:58",33,32,33,32,43,40,41,39,25.8,95,100,67.099999999999994,54.3,54.3,54.3,54.2,-5.6,-0.8,-3.6,120,120,120,120,120,120,119.9,120,119.9,119.9,120,119.9,61.9,61.9,61.9,4.0999999999999996,2.1,3,1.8,-0.3,-0.3,-0.3,0.1,0.2,0.1,-0.2,-0.2,-0.2,0,0.2,0.1,-0.4,-0.4,-0.4,-0.2,-0.1,-0.1,-0.3,-0.3,-0.3,-0.1,-0.1,-0.1,0.2,0.4,0.2,0.3,0.7,0.5,0,0.3,0.1,0.4,0.7,0.6,0,0,0,0.3,0.3,0.3,0.3,0.4,0.3,0.3,0.3,0.3,0.5,0.5,0.5,0,0,0,0,0,0,0,0,0,0,0,0,0,0,0,0,0,0,0,0,0,0,0,0,1,1,1,2,3,1,180,30,"00:00:00",4348,0,0,0,0,0,0,0,0,0,0,0,0,0,0,0,0,0,0,0,0,30,48,-0.1,-0.2,0,0]
["2023-09-27T17:41:02",33,32,34,32,43,40,41,39,25.7,95,100,67.099999999999994,54.3,54.4,54.3,54.2,-11.7,-0.3,-6,120,120,120,119.9,120,120,119.9,120,119.9,119.9,120,119.9,61.8,61.9,61.8,4.5999999999999996,3.2,3.7,2.7,-0.4,-0.2,-0.3,0,0.3,0.1,-0.4,-0.2,-0.2,0,0.3,0.1,-0.4,-0.4,-0.4,-0.2,-0.1,-0.2,-0.3,-0.2,-0.2,-0.2,-0.1,-0.1,0.1,0.4,0.2,0.4,0.7,0.4,0,0.3,0.1,0.5,0.9,0.6,0,0,0,0.3,0.3,0.3,0.3,0.4,0.3,0.2,0.3,0.3,0.5,0.5,0.5,0,0,0,0,0,0,0,0,0,0,0,0,0,0,0,0,0,0,0,0,0,0,0,0,1,1,1,2,3,1,180,30,"00:00:00",4348,0,0,0,0,0,0,0,0,0,0,0,0,0,0,0,0,0,0,0,0,30,48,-0.1,-0.3,0,0]
["2023-09-27T17:43:04",33,32,33,32,43,40,41,39,25.7,95,100,67.099999999999994,54.3,54.3,54.3,54.2,0.2,2.5,1.3,120,120,120,120,120,120,119.9,120,119.9,119.9,120,119.9,61.9,61.9,61.9,3.8,2.6,2.8,2.2000000000000002,-0.2,-0.2,-0.2,0.2,0.2,0.2,-0.2,-0.2,-0.2,0.1,0.2,0.1,-0.4,-0.4,-0.4,-0.2,-0.2,-0.2,-0.3,-0.3,-0.3,-0.1,-0.1,-0.1,0.2,0.4,0.3,0.3,0.6,0.4,0.1,0.3,0.1,0.6,0.9,0.6,0,0,0,0.3,0.3,0.3,0.3,0.3,0.3,0.3,0.3,0.3,0.5,0.5,0.5,0,0,0,0,0,0,0,0,0,0,0,0,0,0,0,0,0,0,0,0,0,0,0,0,1,1,1,2,3,1,180,30,"00:00:00",4348,0,0,0,0,0,0,0,0,0,0,0,0,0,0,0,0,0,0,0,0,30,48,0.1,0,0,0]
["2023-09-27T17:46:05",33,33,33,32,43,40,41,39,25.6,95,100,67.099999999999994,54,54.4,54.1,54.2,-25.4,27.6,-4,120,120,120,120,120.3,120,119.9,120,119.9,119.9,120.2,119.9,61.7,61.9,61.7,5.7,8.6999999999999993,4.9000000000000004,8.3000000000000007,-0.6,-0.3,-0.4,-0.3,1,0.2,-0.5,-0.3,-0.4,-0.3,0.9,0.2,-0.4,-0.3,-0.4,-0.2,0.4,0,-0.3,-0.2,-0.2,-0.1,0.4,0.1,0.2,0.4,0.2,0.3,0.5,0.4,0.1,0.4,0.1,0.5,0.8,0.6,0,0,0,0.3,0.3,0.3,0.3,0.4,0.3,0.3,0.3,0.3,0.5,0.5,0.5,0,0,0,0,0,0,0,0,0,0,0,0,0,0,0,0,0,0,0,0,0,0,0,0,1,1,1,2,3,1,180,30,"00:00:00",4348,0,0,0,0,0,0,0,0,0,0,0,0,0,0,0,0,0,0,0,0,30,48,1.3,-0.4,0,0]
["2023-09-27T17:54:12",33,32,33,31,43,40,41,39,25.4,95,100,67.099999999999994,54.3,54.3,54.3,54.2,-4.5999999999999996,-2.4,-3.8,120,120,120,120,120,120,119.9,120,119.9,119.9,120,119.9,61.9,61.9,61.9,3.8,1.9,2.8,1.3,-0.2,-0.2,-0.2,0.1,0.1,0.1,-0.2,-0.2,-0.2,0,0.1,0,-0.4,-0.4,-0.4,-0.2,-0.2,-0.2,-0.3,-0.3,-0.3,-0.1,-0.1,-0.1,0.2,0.5,0.3,0.3,0.7,0.4,0.1,0.3,0.2,0.6,0.8,0.6,0,0,0,0.3,0.3,0.3,0.3,0.4,0.3,0.2,0.3,0.3,0.5,0.5,0.5,0,0,0,0,0,0,0,0,0,0,0,0,0,0,0,0,0,0,0,0,0,0,0,0,1,1,1,2,3,1,180,30,"00:00:00",4348,0,0,0,0,0,0,0,0,0,0,0,0,0,0,0,0,0,0,0,0,30,48,-0.2,-0.2,0,0]
["2023-09-27T17:55:13",33,32,33,31,43,40,41,39,25.4,95,100,67.099999999999994,54.3,54.3,54.3,54.2,-3.8,0.3,-1.6,120,120,120,120,120,120,119.9,120,119.9,119.9,120,119.9,61.9,61.9,61.9,3.8,2.1,2.7,1.6,-0.2,-0.2,-0.2,0.1,0.2,0.1,-0.2,-0.1,-0.1,0.1,0.1,0.1,-0.4,-0.4,-0.4,-0.2,-0.2,-0.2,-0.3,-0.3,-0.3,-0.1,-0.1,-0.1,0.2,0.5,0.3,0.4,0.6,0.4,0,0.4,0.2,0.6,0.8,0.6,0,0,0,0.3,0.3,0.3,0.3,0.4,0.3,0.2,0.3,0.3,0.5,0.5,0.5,0,0,0,0,0,0,0,0,0,0,0,0,0,0,0,0,0,0,0,0,0,0,0,0,1,1,1,2,3,1,180,30,"00:00:00",4348,0,0,0,0,0,0,0,0,0,0,0,0,0,0,0,0,0,0,0,0,30,48,0,-0.1,0,0]
["2023-09-27T18:01:19",33,32,33,31,43,40,41,39,25.4,95,100,67.099999999999994,54.2,54.3,54.2,54.2,-0.5,1.6,0.4,120,120,120,120,120,120,119.9,120,119.9,119.9,120,119.9,61.9,61.9,61.9,3.6,2.2000000000000002,2.6,1.6,-0.2,-0.2,-0.2,0.1,0.2,0.1,-0.1,-0.1,-0.1,0.1,0.1,0.1,-0.4,-0.4,-0.4,-0.2,-0.2,-0.2,-0.3,-0.3,-0.3,-0.1,-0.1,-0.1,0.2,0.4,0.2,0.3,0.6,0.4,0.1,0.4,0.2,0.6,0.8,0.6,0,0,0,0.3,0.3,0.3,0.3,0.4,0.3,0.2,0.3,0.3,0.5,0.5,0.5,0,0,0,0,0,0,0,0,0,0,0,0,0,0,0,0,0,0,0,0,0,0,0,0,1,1,1,2,3,1,180,30,"00:00:00",4348,0,0,0,0,0,0,0,0,0,0,0,0,0,0,0,0,0,0,0,0,30,48,0,0,0,0]
["2023-09-27T18:05:22",33,32,33,31,42,40,41,39,25.4,95,100,67.099999999999994,54.1,54.3,54.2,54.2,-4.3,18.7,3.7,119.9,120.1,120,120,120,120,119.8,120.1,119.9,119.9,120,119.9,61.7,61.9,61.8,4.8,1.9,5.4,1.6,-0.2,0.5,0,-0.1,0.1,0,-0.2,0.6,0.1,-0.1,0.1,0,-0.4,0,-0.3,-0.2,-0.2,-0.2,-0.3,0.1,-0.2,-0.1,-0.1,-0.1,0.3,0.6,0.3,0.4,0.5,0.4,0.1,0.3,0.2,0.6,0.8,0.6,0,0,0,0.2,0.3,0.3,0.3,0.4,0.3,0.2,0.3,0.2,0.5,0.5,0.5,0,0,0,0,0,0,0,0,0,0,0,0,0,0,0,0,0,0,0,0,0,0,0,0,1,1,1,2,3,1,180,30,"00:00:00",4348,0,0,0,0,0,0,0,0,0,0,0,0,0,0,0,0,0,0,0,0,30,48,0.9,0.2,0,0]
["2023-09-27T18:12:28",33,32,33,31,42,40,41,39,25.1,95,100,67.099999999999994,54.2,54.3,54.2,54.2,-2.2000000000000002,2.2999999999999998,-0.5,120,120,120,120,120,120,119.9,120,119.9,119.9,120,119.9,61.9,61.9,61.9,3.7,2.2999999999999998,2.6,1.8,-0.2,-0.2,-0.2,0.1,0.2,0.1,-0.2,-0.1,-0.1,0.1,0.2,0.1,-0.4,-0.4,-0.4,-0.2,-0.2,-0.2,-0.3,-0.2,-0.2,-0.1,-0.1,-0.1,0.3,0.5,0.3,0.3,0.7,0.4,0.1,0.4,0.2,0.6,1,0.7,0,0,0,0.2,0.3,0.3,0.3,0.4,0.3,0.2,0.3,0.3,0.5,0.6,0.5,0,0,0,0,0,0,0,0,0,0,0,0,0,0,0,0,0,0,0,0,0,0,0,0,1,1,1,2,3,1,180,30,"00:00:00",4348,0,0,0,0,0,0,0,0,0,0,0,0,0,0,0,0,0,0,0,0,30,48,0.1,0,0,0]
["2023-09-27T18:15:31",33,32,33,32,42,40,41,39,25.1,95,100,67.099999999999994,54.1,54.1,54.1,54.2,-6.1,-4.5,-5.4,120,120,120,120,120,120,119.9,120,119.9,119.9,120,119.9,61.3,61.5,61.3,4.0999999999999996,2.1,3.1,1.5,-0.3,-0.3,-0.3,0.1,0.1,0.1,-0.2,-0.2,-0.2,0,0.1,0,-0.4,-0.4,-0.4,-0.2,-0.2,-0.2,-0.3,-0.3,-0.3,-0.2,-0.2,-0.2,0.2,0.5,0.3,0.3,0.6,0.4,0.1,0.3,0.2,0.5,0.8,0.6,0,0,0,0.2,0.3,0.3,0.3,0.4,0.3,0.3,0.3,0.3,0.5,0.5,0.5,0,0,0,0,0,0,0,0,0,0,0,0,0,0,0,0,0,0,0,0,0,0,0,0,1,1,1,2,3,1,180,30,"00:00:00",4349,0,0,0,0,0,0,0,0,0,0,0,0,0,0,0,0,0,0,0,0,30,48,-0.3,-0.3,0,0]
["2023-09-27T18:19:35",33,32,33,31,42,40,41,39,25,95,100,67.099999999999994,54.1,54.1,54.1,54.2,0.1,2.5,1.2,120,120,120,120,120,120,119.9,120,119.9,119.9,120,119.9,60.6,60.8,60.6,3.6,2.7,2.6,2.1,-0.2,-0.2,-0.2,0.2,0.2,0.2,-0.2,-0.2,-0.2,0.1,0.2,0.1,-0.4,-0.4,-0.4,-0.2,-0.2,-0.2,-0.3,-0.2,-0.2,-0.1,-0.1,-0.1,0.1,0.5,0.3,0.4,0.7,0.5,0.1,0.3,0.1,0.6,0.9,0.7,0,0,0,0.3,0.3,0.3,0.3,0.4,0.3,0.3,0.3,0.3,0.5,0.6,0.5,0,0,0,0,0,0,0,0,0,0,0,0,0,0,0,0,0,0,0,0,0,0,0,0,1,1,1,2,3,1,180,30,"00:00:00",4349,0,0,0,0,0,0,0,0,0,0,0,0,0,0,0,0,0,0,0,0,30,48,0.1,0,0,0]
["2023-09-27T18:25:39",33,32,33,31,42,40,41,39,25,94.9,100,67.099999999999994,53.7,53.8,53.7,54.2,6.9,9.6,7.9,120,120,120,120,120,120,119.9,120,119.9,119.9,120,119.9,59,59,59,3,3.1,1.7,2.7,-0.2,-0.1,-0.1,0.3,0.3,0.3,-0.1,0,0,0.2,0.3,0.2,-0.3,-0.3,-0.3,-0.1,-0.1,-0.1,-0.2,-0.2,-0.2,-0.1,-0.1,-0.1,0.2,0.4,0.3,0.3,0.6,0.4,0.1,0.4,0.2,0.6,0.9,0.7,0,0,0,0.3,0.3,0.3,0.3,0.4,0.3,0.2,0.3,0.3,0.5,0.6,0.5,0,0,0,0,0,0,0,0,0,0,0,0,0,0,0,0,0,0,0,0,0,0,0,0,1,1,1,2,3,1,180,30,"00:00:00",4349,0,0,0,0,0,0,0,0,0,0,0,0,0,0,0,0,0,0,0,0,30,48,0.4,0.3,0,0]
["2023-09-27T18:30:45",33,32,33,32,42,40,41,39,25,94.8,100,67.099999999999994,53.5,53.5,53.5,54.2,9.9,12.8,10.9,120,120,120,120,120,120,119.9,120,119.9,119.9,120,119.9,59,59,59,2.8,3.1,1.6,2.8,-0.1,-0.1,-0.1,0.3,0.4,0.3,0,0,0,0.2,0.3,0.2,-0.3,-0.3,-0.3,-0.1,-0.1,-0.1,-0.2,-0.2,-0.2,-0.1,-0.1,-0.1,0.2,0.4,0.2,0.4,0.6,0.4,0.1,0.4,0.2,0.6,1,0.7,0,0,0,0.3,0.3,0.3,0.3,0.4,0.3,0.2,0.3,0.2,0.5,0.6,0.5,0,0,0,0,0,0,0,0,0,0,0,0,0,0,0,0,0,0,0,0,0,0,0,0,1,1,1,2,3,1,179.9,29.9,"00:00:00",4350,0,0,0,0,0,0,0,0,0,0,0,0,0,0,0,0,0,0,0,0,30,48,0.6,0.5,0,0]
["2023-09-27T18:34:48",33,32,33,32,42,40,41,39,25,94.6,100,67.099999999999994,53.3,53.3,53.3,54.2,14,16.3,15,120,120,120,120,120,120,119.9,120,119.9,119.9,120,119.9,59,59,59,2.7,3.8,1.7,3.5,-0.1,0,-0.1,0.4,0.4,0.4,0,0,0,0.3,0.4,0.3,-0.3,-0.3,-0.3,-0.1,-0.1,-0.1,-0.2,-0.2,-0.2,-0.1,-0.1,-0.1,0.2,0.5,0.2,0.3,0.6,0.4,0.2,0.4,0.2,0.6,0.9,0.6,0,0,0,0.3,0.3,0.3,0.3,0.3,0.3,0.2,0.3,0.2,0.5,0.5,0.5,0,0,0,0,0,0,0,0,0,0,0,0,0,0,0,0,0,0,0,0,0,0,0,0,1,1,1,2,3,1,179.9,29.9,"00:00:00",4351,0,0,0,0,0,0,0,0,0,0,0,0,0,0,0,0,0,0,0,0,30,48,0.8,0.7,0,0]
["2023-09-27T18:37:52",33,34,33,32,42,40,41,39,25,94.4,100,67.2,53,53.2,53.1,54.2,18.600000000000001,49.3,24.5,120,120,120,120,120.2,120,119.9,120,119.9,119.9,120.1,119.9,59,59,59,2.6,10.8,1.8,10.199999999999999,0,0,0,0.4,1.2,0.5,0.1,0.1,0.1,0.4,1.2,0.5,-0.3,-0.3,-0.3,-0.1,0.4,0,-0.2,-0.2,-0.2,-0.1,0.4,0,0.2,0.5,0.3,0.3,0.6,0.4,0.2,0.3,0.2,0.5,0.7,0.6,0,0,0,0.3,0.3,0.3,0.3,0.4,0.3,0.2,0.3,0.2,0.5,0.5,0.5,0,0,0,0,0,0,0,0,0,0,0,0,0,0,0,0,0,0,0,0,0,0,0,0,1,1,1,2,3,1,179.9,29.9,"00:00:00",4352,0,0,0,0,0,0,0,0,0,0,0,0,0,0,0,0,0,0,0,0,30,48,2.5,1.1000000000000001,0,0]
["2023-09-27T18:44:57",32,33,33,32,42,40,41,39,25,94.1,100,67.2,53.1,53.1,53.1,54.2,23,26.9,25.2,120,120,120,120,120,120,119.9,120,119.9,119.9,120,119.9,59,59,59,2.6,4.9000000000000004,2,4.5,0,0.1,0,0.5,0.6,0.5,0.1,0.2,0.1,0.5,0.5,0.5,-0.3,-0.3,-0.3,-0.1,-0.1,-0.1,-0.2,-0.2,-0.2,-0.1,-0.1,-0.1,0.2,0.4,0.2,0.4,0.6,0.4,0.2,0.4,0.2,0.6,0.8,0.6,0,0,0,0.3,0.3,0.3,0.3,0.4,0.3,0.2,0.3,0.2,0.5,0.5,0.5,0,0,0,0,0,0,0,0,0,0,0,0,0,0,0,0,0,0,0,0,0,0,0,0,1,1,1,2,3,1,179.9,29.9,"00:00:00",4355,0,0,0,0,0,0,0,0,0,0,0,0,0,0,0,0,0,0,0,0,30,48,1.3,1.2,0,0]
["2023-09-27T18:49:01",32,33,33,32,42,40,41,39,24.9,93.8,100,67.2,53.1,53.1,53.1,54.2,25,27,25.7,120,120,120,120,120,120,119.9,120,119.9,119.9,120,119.9,59,59,59,2.7,4.9000000000000004,2.2999999999999998,4.5,0,0.1,0,0.6,0.6,0.6,0.1,0.2,0.1,0.5,0.5,0.5,-0.3,-0.3,-0.3,-0.2,-0.1,-0.1,-0.2,-0.2,-0.2,-0.1,-0.1,-0.1,0.2,0.5,0.3,0.4,0.6,0.4,0.2,0.4,0.3,0.4,0.9,0.6,0,0,0,0.2,0.3,0.3,0.3,0.4,0.3,0.2,0.3,0.2,0.5,0.5,0.5,0,0,0,0,0,0,0,0,0,0,0,0,0,0,0,0,0,0,0,0,0,0,0,0,1,1,1,2,3,1,179.9,29.9,"00:00:00",4357,0,0,0,0,0,0,0,0,0,0,0,0,0,0,0,0,0,0,0,0,30,48,1.4,1.3,0,0]
["2023-09-27T18:50:01",32,33,33,32,42,40,41,39,24.9,93.8,100,67.2,53.1,53.1,53.1,54.2,25.9,27.6,26.6,120,120,120,120,120,120,119.9,120,119.9,119.9,120,119.9,59,59,59,2.7,5.2,2.2999999999999998,4.7,0.1,0.1,0.1,0.5,0.6,0.5,0.2,0.2,0.2,0.5,0.6,0.5,-0.3,-0.3,-0.3,-0.1,-0.1,-0.1,-0.2,-0.2,-0.2,-0.1,-0.1,-0.1,0.2,0.4,0.3,0.4,0.6,0.4,0.2,0.4,0.2,0.6,0.9,0.7,0,0,0,0.3,0.3,0.3,0.3,0.4,0.3,0.2,0.3,0.2,0.5,0.5,0.5,0,0,0,0,0,0,0,0,0,0,0,0,0,0,0,0,0,0,0,0,0,0,0,0,1,1,1,2,3,1,179.9,29.9,"00:00:00",4357,0,0,0,0,0,0,0,0,0,0,0,0,0,0,0,0,0,0,0,0,30,48,1.4,1.3,0,0]
["2023-09-27T18:56:06",32,33,33,32,42,40,41,39,24.9,93.3,100,67.2,53.1,53.1,53.1,54.2,27.7,31.1,29.2,120,120,120,120,120,120,119.9,120,119.9,119.9,120,119.9,59,59,59,2.5,5.4,2.2999999999999998,5.0999999999999996,0.1,0.1,0.1,0.5,0.6,0.6,0.2,0.2,0.2,0.5,0.6,0.5,-0.3,-0.2,-0.2,-0.1,-0.1,-0.1,-0.2,-0.1,-0.1,-0.1,0,0,0.2,0.4,0.2,0.4,0.7,0.5,0.2,0.5,0.2,0.6,0.9,0.6,0,0,0,0.3,0.3,0.3,0.3,0.4,0.3,0.2,0.3,0.2,0.5,0.5,0.5,0,0,0,0,0,0,0,0,0,0,0,0,0,0,0,0,0,0,0,0,0,0,0,0,1,1,1,2,3,1,179.9,29.9,"00:00:00",4360,0,0,0,0,0,0,0,0,0,0,0,0,0,0,0,0,0,0,0,0,30,48,1.6,1.4,0,0]
["2023-09-27T19:00:10",32,34,33,33,42,40,41,39,24.8,93.1,100,67.2,53.1,53.1,53.1,54.2,28.1,30.2,29.3,120,120,120,120,120,120,119.9,120,119.9,119.9,120,119.9,59,59,59,2.4,5.0999999999999996,2.2000000000000002,4.8,0.1,0.2,0.1,0.5,0.6,0.6,0.2,0.2,0.2,0.5,0.6,0.5,-0.2,-0.2,-0.2,-0.1,-0.1,-0.1,-0.1,-0.1,-0.1,0,0,0,0.2,0.4,0.2,0.4,0.9,0.5,0.1,0.3,0.2,0.6,0.9,0.6,0,0,0,0.3,0.3,0.3,0.3,0.4,0.3,0.2,0.3,0.3,0.5,0.5,0.5,0,0,0,0,0,0,0,0,0,0,0,0,0,0,0,0,0,0,0,0,0,0,0,0,1,1,1,2,3,1,179.9,29.9,"00:00:00",4362,0,0,0,0,0,0,0,0,0,0,0,0,0,0,0,0,0,0,0,0,30,48,1.5,1.4,0,0]
["2023-09-27T19:07:15",32,35,33,33,42,40,41,39,24.8,92.4,100,67.2,53,53.1,53,54.2,35,53.8,46.5,120,120,120,120,120,120,119.9,120,119.9,120,120,120,58.9,59,59,5.4,7.4,6.1,7.2,0.1,0.6,0.4,0.7,0.9,0.7,0.2,0.7,0.5,0.6,0.8,0.6,-0.3,-0.2,-0.2,0.2,0.3,0.2,-0.2,-0.1,-0.1,0.3,0.3,0.3,0.2,0.4,0.3,0.4,0.7,0.5,0.1,0.4,0.2,0.5,0.8,0.6,0,0,0,0.3,0.3,0.3,0.3,0.4,0.3,0.2,0.3,0.2,0.5,0.5,0.5,0,0,0,0,0,0,0,0,0,0,0,0,0,0,0,0,0,0,0,0,0,0,0,0,1,1,1,2,3,1,179.9,29.9,"00:00:00",4366,0,0,0,0,0,0,0,0,0,0,0,0,0,0,0,0,0,0,0,0,30,48,2.8,2.2999999999999998,0,0]
["2023-09-27T19:10:19",33,35,34,33,42,40,41,39,24.7,92,100,67.2,52.9,53,52.9,54.2,39,61.7,54.3,120,120,120,120,120,120,119.9,120,119.9,120,120,120,59,59.1,59,5.9,7.6,7.5,7.4,0.3,0.7,0.6,0.7,0.9,0.7,0.4,0.9,0.7,0.6,0.8,0.6,0,0,0,0.2,0.3,0.2,0.1,0.1,0.1,0.3,0.3,0.3,0.2,0.5,0.3,0.4,0.6,0.4,0.1,0.3,0.2,0.5,0.8,0.6,0,0,0,0.3,0.3,0.3,0.3,0.4,0.3,0.3,0.3,0.3,0.5,0.5,0.5,0,0,0,0,0,0,0,0,0,0,0,0,0,0,0,0,0,0,0,0,0,0,0,0,1,1,1,2,3,1,179.9,29.9,"00:00:00",4369,0,0,0,0,0,0,0,0,0,0,0,0,0,0,0,0,0,0,0,0,30,48,3.3,2.7,0,0]
["2023-09-27T19:14:22",32,35,33,34,42,40,41,40,24.7,91.6,100,67.2,53,53.1,53,54.2,40.6,52.7,45.3,120,120,120,120,120,120,119.9,120,119.9,119.9,120,120,59,59,59,2.4,9.6,3.8,9,0.3,0.3,0.3,0.7,1.1000000000000001,0.8,0.4,0.4,0.4,0.7,1.1000000000000001,0.7,0,0,0,0.2,0.3,0.2,0.1,0.1,0.1,0.2,0.3,0.3,0.2,0.4,0.3,0.3,0.6,0.4,0.2,0.5,0.2,0.6,1,0.7,0,0,0,0.3,0.3,0.3,0.3,0.4,0.3,0.2,0.3,0.2,0.5,0.6,0.5,0,0,0,0,0,0,0,0,0,0,0,0,0,0,0,0,0,0,0,0,0,0,0,0,1,1,1,2,3,1,179.9,29.9,"00:00:00",4372,0,0,0,0,0,0,0,0,0,0,0,0,0,0,0,0,0,0,0,0,30,48,2.8,2.2999999999999998,0,0]
["2023-09-27T19:19:27",32,35,33,34,42,40,41,40,24.6,91.1,100,67.2,53,53.1,53,54.2,35.5,49.1,41.2,120,120.1,120,120,120,120,119.9,120,119.9,119.9,120,120,59,59,59,2.5,9.1999999999999993,2.8,9,0.2,0.2,0.2,0.7,1.1000000000000001,0.8,0.2,0.3,0.3,0.6,1,0.7,-0.2,-0.1,-0.1,0.2,0.3,0.2,-0.1,0,0,0.3,0.3,0.3,0.1,0.4,0.2,0.3,0.5,0.4,0.1,0.4,0.2,0.5,0.8,0.6,0,0,0,0.3,0.3,0.3,0.3,0.4,0.3,0.2,0.3,0.2,0.5,0.5,0.5,0,0,0,0,0,0,0,0,0,0,0,0,0,0,0,0,0,0,0,0,0,0,0,0,1,1,1,2,3,1,179.9,29.9,"00:00:00",4375,0,0,0,0,0,0,0,0,0,0,0,0,0,0,0,0,0,0,0,0,30,48,2.6,2,0,0]
["2023-09-27T19:25:32",32,35,33,34,42,40,41,40,24.6,90.5,100,67.2,53.1,53.1,53.1,54.2,35.5,40.299999999999997,38.1,120,120,120,120,120,120,119.9,120,119.9,120,120,120,59,59,59,2.6,7.5,2.5,7.4,0.1,0.2,0.1,0.7,0.8,0.7,0.2,0.3,0.2,0.7,0.8,0.7,-0.3,-0.2,-0.2,0.2,0.3,0.3,-0.1,-0.1,-0.1,0.3,0.4,0.3,0.1,0.4,0.2,0.3,0.6,0.4,0.2,0.4,0.2,0.6,0.8,0.6,0,0,0,0.3,0.3,0.3,0.3,0.3,0.3,0.2,0.3,0.2,0.5,0.5,0.5,0,0,0,0,0,0,0,0,0,0,0,0,0,0,0,0,0,0,0,0,0,0,0,0,1,1,1,2,3,1,179.9,29.9,"00:00:00",4380,0,0,0,0,0,0,0,0,0,0,0,0,0,0,0,0,0,0,0,0,30,48,2.1,1.9,0,0]
["2023-09-27T19:29:36",32,35,33,34,42,40,41,40,24.7,90.2,100,67.2,53.1,53.1,53.1,54.2,31.5,34.9,32.799999999999997,120,120,120,120,120,120,119.9,120,119.9,119.9,120,119.9,59,59,59,2.5,5.9,2.2999999999999998,5.6,0.1,0.2,0.1,0.6,0.7,0.6,0.2,0.2,0.2,0.6,0.7,0.6,-0.3,-0.2,-0.2,-0.1,0,0,-0.1,-0.1,-0.1,0,0.1,0,0.2,0.4,0.2,0.3,0.5,0.4,0.2,0.5,0.3,0.6,0.9,0.6,0,0,0,0.3,0.3,0.3,0.3,0.3,0.3,0.2,0.3,0.2,0.5,0.5,0.5,0,0,0,0,0,0,0,0,0,0,0,0,0,0,0,0,0,0,0,0,0,0,0,0,1,1,1,2,3,1,179.9,29.9,"00:00:00",4382,0,0,0,0,0,0,0,0,0,0,0,0,0,0,0,0,0,0,0,0,30,48,1.8,1.6,0,0]
["2023-09-27T19:32:39",32,35,33,34,42,40,41,40,24.7,89.9,100,67.2,53.1,53.2,53.1,54.2,27.9,29.6,28.7,120,120,120,120,120,120,119.9,120,119.9,119.9,120,119.9,59,59,59,2.6,5,2.5,4.7,0.2,0.2,0.2,0.5,0.6,0.5,0.2,0.3,0.2,0.5,0.6,0.5,-0.3,-0.2,-0.2,-0.1,-0.1,-0.1,-0.1,-0.1,-0.1,0,0,0,0.1,0.4,0.2,0.4,0.6,0.4,0.2,0.5,0.2,0.6,1,0.7,0,0,0,0.3,0.3,0.3,0.3,0.4,0.3,0.2,0.3,0.2,0.5,0.6,0.5,0,0,0,0,0,0,0,0,0,0,0,0,0,0,0,0,0,0,0,0,0,0,0,0,1,1,1,2,3,1,179.9,29.9,"00:00:00",4384,0,0,0,0,0,0,0,0,0,0,0,0,0,0,0,0,0,0,0,0,30,48,1.5,1.4,0,0]
["2023-09-27T19:39:44",32,35,33,34,42,40,41,40,24.6,89.4,100,67.2,53.1,53.2,53.1,54.2,29.4,34.4,31.6,120,120,120,120,120,120,119.9,120,119.9,119.9,120,119.9,59,59,59,2.6,5.6,2.6,5.4,0.2,0.2,0.2,0.5,0.7,0.5,0.3,0.3,0.3,0.5,0.6,0.5,-0.3,-0.2,-0.2,-0.1,0,0,-0.1,-0.1,-0.1,0,0.1,0,0.2,0.4,0.2,0.4,0.6,0.4,0.2,0.4,0.2,0.7,1.1000000000000001,0.8,0,0,0,0.3,0.3,0.3,0.3,0.4,0.3,0.2,0.3,0.2,0.5,0.6,0.5,0,0,0,0,0,0,0,0,0,0,0,0,0,0,0,0,0,0,0,0,0,0,0,0,1,1,1,2,3,1,179.9,29.9,"00:00:00",4387,0,0,0,0,0,0,0,0,0,0,0,0,0,0,0,0,0,0,0,0,30,48,1.8,1.5,0,0]
["2023-09-27T19:43:47",32,36,33,34,42,40,41,40,24.5,89.1,100,67.2,52.8,53.2,53,54.2,29.3,61.7,48.7,120,120,120,119.9,120,120,119.9,120,119.9,119.8,120,119.9,59,59,59,2.6,17.8,2.5,17.8,0.2,0.2,0.2,0.5,1.9,1,0.2,0.3,0.2,0.5,1.4,1,-0.3,-0.2,-0.2,-0.1,0.5,0.2,-0.1,-0.1,-0.1,0,0.5,0.2,0.2,0.4,0.2,0.4,0.5,0.4,0.2,0.5,0.3,0.6,1,0.7,0,0,0,0.3,0.3,0.3,0.3,0.4,0.3,0.2,0.3,0.2,0.5,0.6,0.5,0,0,0,0,0,0,0,0,0,0,0,0,0,0,0,0,0,0,0,0,0,0,0,0,1,1,1,2,3,1,179.9,29.9,"00:00:00",4390,0,0,0,0,0,0,0,0,0,0,0,0,0,0,0,0,0,0,0,0,30,48,3.8,2.4,0,0]
["2023-09-27T19:44:48",32,36,33,34,42,40,41,40,24.5,89,100,67.2,53,53.1,53,54.2,28.6,59.9,34.9,120,120,120,120,120.2,120,119.9,120,119.9,119.9,120.1,119.9,59,59,59,2.5,12,2.5,11.4,0.2,0.2,0.2,0.5,1.4,0.6,0.2,0.3,0.2,0.5,1.3,0.6,-0.3,-0.2,-0.2,-0.1,0.4,0,-0.2,-0.1,-0.1,0,0.5,0,0.1,0.4,0.2,0.3,0.5,0.4,0.2,0.4,0.2,0.6,0.9,0.7,0,0,0,0.3,0.3,0.3,0.3,0.3,0.3,0.2,0.3,0.2,0.5,0.5,0.5,0,0,0,0,0,0,0,0,0,0,0,0,0,0,0,0,0,0,0,0,0,0,0,0,1,1,1,2,3,1,179.9,29.9,"00:00:00",4390,0,0,0,0,0,0,0,0,0,0,0,0,0,0,0,0,0,0,0,0,30,48,3,1.7,0,0]
["2023-09-27T19:50:54",32,35,33,34,42,40,41,40,24.6,88.5,100,67.2,53.1,53.2,53.1,54.2,30.9,36.5,33.5,120,120,120,120,120,120,119.9,120,119.9,119.9,120,119.9,59,59,59,2.7,6.1,2.7,5.7,0.2,0.2,0.2,0.6,0.7,0.6,0.2,0.3,0.2,0.6,0.7,0.6,-0.3,-0.2,-0.2,-0.1,0,0,-0.1,-0.1,-0.1,0,0.1,0,0.1,0.4,0.2,0.4,0.6,0.4,0.1,0.4,0.2,0.6,0.9,0.7,0,0,0,0.3,0.3,0.3,0.3,0.4,0.3,0.2,0.3,0.3,0.5,0.6,0.5,0,0,0,0,0,0,0,0,0,0,0,0,0,0,0,0,0,0,0,0,0,0,0,0,1,1,1,2,3,1,179.9,29.9,"00:00:00",4393,0,0,0,0,0,0,0,0,0,0,0,0,0,0,0,0,0,0,0,0,30,48,1.9,1.7,0,0]
["2023-09-27T19:53:56",32,35,33,34,42,40,41,40,24.6,88.3,100,67.3,53.1,53.2,53.1,54.2,29.8,37.299999999999997,32.9,120,120,120,120,120,120,119.9,120,119.9,119.9,120,119.9,59,59,59,2.4,6.7,2.2000000000000002,6.3,0.1,0.1,0.1,0.6,0.8,0.6,0.2,0.2,0.2,0.5,0.8,0.6,-0.3,-0.2,-0.2,-0.1,0,0,-0.1,-0.1,-0.1,0,0.1,0,0.2,0.4,0.2,0.3,0.6,0.4,0.2,0.5,0.2,0.6,1.1000000000000001,0.7,0,0,0,0.3,0.3,0.3,0.3,0.3,0.3,0.2,0.3,0.2,0.5,0.6,0.5,0,0,0,0,0,0,0,0,0,0,0,0,0,0,0,0,0,0,0,0,0,0,0,0,1,1,1,2,3,1,179.9,29.9,"00:00:00",4395,0,0,0,0,0,0,0,0,0,0,0,0,0,0,0,0,0,0,0,0,30,48,1.9,1.6,0,0]
["2023-09-27T20:02:03",32,37,33,35,42,41,41,40,24.4,87.6,100,67.3,52.9,53.1,53,54.2,33.299999999999997,65.099999999999994,41.1,120,120,120,120,120.1,120,119.9,120,119.9,119.9,120.1,120,59,59,59,2.6,14,2.5,13.5,0.2,0.2,0.2,0.7,1.5,0.8,0.2,0.3,0.2,0.6,1.4,0.7,-0.3,-0.2,-0.2,0.2,0.8,0.3,-0.2,-0.1,-0.1,0.3,0.8,0.4,0.2,0.5,0.3,0.3,0.6,0.4,0.1,0.4,0.2,0.5,0.9,0.6,0,0,0,0.3,0.3,0.3,0.3,0.4,0.3,0.2,0.3,0.3,0.5,0.5,0.5,0,0,0,0,0,0,0,0,0,0,0,0,0,0,0,0,0,0,0,0,0,0,0,0,1,1,1,2,3,1,179.9,29.9,"00:00:00",4400,0,0,0,0,0,0,0,0,0,0,0,0,0,0,0,0,0,0,0,0,30,48,3.3,2,0,0]
["2023-09-27T20:04:05",32,35,33,34,42,41,41,40,24.4,87.4,100,67.3,53,53.1,53.1,54.2,31.1,42.1,32.5,120,120,120,119.9,120,120,119.9,120,119.9,119.9,120,120,59,59,59,2.5,12,2.4,11.7,0.2,0.2,0.2,0.6,1.2,0.6,0.2,0.2,0.2,0.6,1.2,0.6,-0.3,-0.2,-0.2,0.2,0.6,0.2,-0.1,-0.1,-0.1,0.3,0.7,0.3,0.2,0.4,0.3,0.4,0.6,0.4,0.2,0.4,0.3,0.5,0.9,0.6,0,0,0,0.3,0.3,0.3,0.3,0.4,0.3,0.2,0.3,0.2,0.5,0.5,0.5,0,0,0,0,0,0,0,0,0,0,0,0,0,0,0,0,0,0,0,0,0,0,0,0,1,1,1,2,3,1,179.9,29.9,"00:00:00",4401,0,0,0,0,0,0,0,0,0,0,0,0,0,0,0,0,0,0,0,0,30,48,2.8,1.6,0,0]
["2023-09-27T20:09:10",32,36,33,34,42,41,41,40,24.4,87,100,67.3,53.1,53.1,53.1,54.2,35.6,39.1,37.799999999999997,120,120,120,120,120,120,119.9,120,119.9,120,120,120,59,59,59,2.5,7.4,2.2999999999999998,7.3,0.2,0.2,0.2,0.7,0.8,0.7,0.2,0.2,0.2,0.7,0.8,0.7,-0.3,-0.2,-0.2,0.2,0.3,0.3,-0.1,-0.1,-0.1,0.3,0.4,0.3,0.2,0.4,0.3,0.4,0.7,0.4,0.2,0.4,0.2,0.6,0.8,0.6,0,0,0,0.3,0.3,0.3,0.3,0.4,0.3,0.2,0.3,0.2,0.5,0.5,0.5,0,0,0,0,0,0,0,0,0,0,0,0,0,0,0,0,0,0,0,0,0,0,0,0,1,1,1,2,3,1,179.9,29.9,"00:00:00",4404,0,0,0,0,0,0,0,0,0,0,0,0,0,0,0,0,0,0,0,0,30,48,2,1.9,0,0]
["2023-09-27T20:14:14",32,36,33,35,42,41,41,40,24.4,86.5,100,67.3,53,53.1,53,54.2,43.1,45.2,44.1,120,120,120,120,120,120,119.9,120,119.9,119.9,120,120,59,59,59,2.6,8.3000000000000007,2.5,8.1,0.2,0.2,0.2,0.9,1,0.9,0.2,0.3,0.2,0.9,0.9,0.9,-0.3,-0.2,-0.2,0.2,0.3,0.2,-0.1,-0.1,-0.1,0.3,0.3,0.3,0.2,0.4,0.3,0.4,0.7,0.5,0.2,0.4,0.3,0.6,0.7,0.6,0,0,0,0.3,0.3,0.3,0.3,0.4,0.3,0.2,0.3,0.2,0.5,0.5,0.5,0,0,0,0,0,0,0,0,0,0,0,0,0,0,0,0,0,0,0,0,0,0,0,0,1,1,1,2,3,1,179.9,29.9,"00:00:00",4408,0,0,0,0,0,0,0,0,0,0,0,0,0,0,0,0,0,0,0,0,30,48,2.2999999999999998,2.2000000000000002,0,0]
["2023-09-27T20:20:20",32,35,33,34,42,41,41,40,24.3,86,100,67.3,53.1,53.2,53.1,54.2,28.2,30.7,28.8,120,120,120,120,120,120,119.9,120,119.9,119.9,120,119.9,59,59,59,2.5,5,2.5,4.7,0.2,0.2,0.2,0.5,0.6,0.5,0.2,0.3,0.2,0.5,0.6,0.5,-0.2,-0.2,-0.2,-0.1,-0.1,-0.1,-0.1,-0.1,-0.1,0,0,0,0.2,0.4,0.2,0.4,0.6,0.4,0.1,0.3,0.2,0.5,0.8,0.6,0,0,0,0.3,0.3,0.3,0.3,0.4,0.3,0.2,0.3,0.3,0.5,0.5,0.5,0,0,0,0,0,0,0,0,0,0,0,0,0,0,0,0,0,0,0,0,0,0,0,0,1,1,1,2,3,1,179.9,29.9,"00:00:00",4411,0,0,0,0,0,0,0,0,0,0,0,0,0,0,0,0,0,0,0,0,30,48,1.6,1.4,0,0]
["2023-09-27T20:24:23",32,35,33,34,42,41,41,40,24.2,85.7,100,67.3,53.1,53.2,53.1,54.2,27,28.6,27.5,120,120,120,120,120,120,119.9,120,119.9,119.9,120,119.9,59,59,59,2.4,4.7,2.5,4.4000000000000004,0.1,0.2,0.1,0.5,0.6,0.5,0.2,0.3,0.2,0.5,0.5,0.5,-0.2,-0.2,-0.2,-0.1,-0.1,-0.1,-0.2,-0.1,-0.1,0,0,0,0.2,0.4,0.2,0.3,0.6,0.5,0.1,0.3,0.2,0.6,0.9,0.7,0,0,0,0.3,0.3,0.3,0.3,0.4,0.3,0.2,0.3,0.3,0.5,0.5,0.5,0,0,0,0,0,0,0,0,0,0,0,0,0,0,0,0,0,0,0,0,0,0,0,0,1,1,1,2,3,1,179.9,29.9,"00:00:00",4413,0,0,0,0,0,0,0,0,0,0,0,0,0,0,0,0,0,0,0,0,30,48,1.4,1.4,0,0]
["2023-09-27T20:27:24",32,35,33,34,42,41,41,40,24.2,85.5,100,67.3,53.1,53.2,53.1,54.2,26.5,27.6,27,120,120,120,120,120,120,119.9,120,119.9,119.9,120,119.9,59,59,59,2.5,4.0999999999999996,2.5,3.9,0.2,0.2,0.2,0.5,0.5,0.5,0.2,0.3,0.2,0.4,0.5,0.4,-0.2,-0.2,-0.2,-0.1,-0.1,-0.1,-0.2,-0.1,-0.1,0,0,0,0.2,0.4,0.3,0.4,0.6,0.4,0.1,0.3,0.2,0.6,0.8,0.6,0,0,0,0.3,0.3,0.3,0.3,0.4,0.3,0.3,0.3,0.3,0.5,0.5,0.5,0,0,0,0,0,0,0,0,0,0,0,0,0,0,0,0,0,0,0,0,0,0,0,0,1,1,1,2,3,1,179.9,29.9,"00:00:00",4415,0,0,0,0,0,0,0,0,0,0,0,0,0,0,0,0,0,0,0,0,30,48,1.4,1.3,0,0]
["2023-09-27T20:33:29",32,35,33,34,42,41,41,40,24.1,85,100,67.3,53.1,53.2,53.1,54.2,27.4,28.7,28.2,120,120,120,120,120,120,119.9,120,119.9,119.9,120,119.9,59,59,59,2.5,4.5,2.5,4.2,0.2,0.2,0.2,0.5,0.5,0.5,0.2,0.3,0.2,0.5,0.5,0.5,-0.2,-0.2,-0.2,-0.1,-0.1,-0.1,-0.2,-0.1,-0.1,0,0,0,0.2,0.5,0.2,0.4,0.6,0.4,0.2,0.5,0.2,0.6,0.9,0.7,0,0,0,0.3,0.3,0.3,0.3,0.4,0.3,0.2,0.3,0.2,0.5,0.6,0.5,0,0,0,0,0,0,0,0,0,0,0,0,0,0,0,0,0,0,0,0,0,0,0,0,1,1,1,2,3,1,179.9,29.9,"00:00:00",4417,0,0,0,0,0,0,0,0,0,0,0,0,0,0,0,0,0,0,0,0,30,48,1.5,1.4,0,0]
["2023-09-27T20:38:33",32,35,33,34,42,41,41,40,24,84.7,100,67.3,53.1,53.2,53.1,54.2,28.8,30,29.3,120,120,120,120,120,120,119.9,120,119.9,119.9,120,119.9,59,59,59,2.6,4.9000000000000004,2.5,4.5999999999999996,0.1,0.2,0.1,0.5,0.6,0.5,0.2,0.3,0.2,0.5,0.6,0.5,-0.3,-0.2,-0.2,-0.1,-0.1,-0.1,-0.1,-0.1,-0.1,0,0,0,0.1,0.4,0.2,0.3,0.6,0.4,0.1,0.4,0.2,0.6,0.9,0.6,0,0,0,0.3,0.3,0.3,0.3,0.4,0.3,0.2,0.3,0.3,0.5,0.5,0.5,0,0,0,0,0,0,0,0,0,0,0,0,0,0,0,0,0,0,0,0,0,0,0,0,1,1,1,2,3,1,179.9,29.9,"00:00:00",4420,0,0,0,0,0,0,0,0,0,0,0,0,0,0,0,0,0,0,0,0,30,48,1.5,1.4,0,0]
["2023-09-27T20:43:37",31,35,33,34,42,41,41,40,24,84.3,100,67.3,53.1,53.1,53.1,54.2,30.5,31.4,31,120,120,120,120,120,120,119.9,120,119.9,119.9,120,119.9,59,59,59,2.4,5.2,2.5,4.9000000000000004,0.2,0.2,0.2,0.6,0.6,0.6,0.2,0.3,0.2,0.5,0.6,0.5,-0.2,-0.2,-0.2,-0.1,-0.1,-0.1,-0.2,-0.1,-0.1,0,0,0,0.2,0.4,0.3,0.4,0.6,0.4,0.1,0.3,0.2,0.6,0.9,0.6,0,0,0,0.3,0.3,0.3,0.3,0.4,0.3,0.3,0.3,0.3,0.5,0.5,0.5,0,0,0,0,0,0,0,0,0,0,0,0,0,0,0,0,0,0,0,0,0,0,0,0,1,1,1,2,3,1,179.9,29.9,"00:00:00",4423,0,0,0,0,0,0,0,0,0,0,0,0,0,0,0,0,0,0,0,0,30,48,1.6,1.5,0,0]
["2023-09-27T20:45:38",31,35,33,34,42,41,41,40,23.9,84.1,100,67.3,53.1,53.1,53.1,54.2,28.3,30.7,29.1,120,120,120,120,120,120,119.9,120,119.9,119.9,120,119.9,59,59,59,2.5,4.8,2.5,4.5,0.2,0.2,0.2,0.5,0.6,0.5,0.2,0.3,0.2,0.5,0.5,0.5,-0.2,-0.2,-0.2,-0.1,-0.1,-0.1,-0.1,-0.1,-0.1,0,0,0,0.2,0.4,0.3,0.4,0.6,0.4,0.1,0.3,0.2,0.6,0.8,0.6,0,0,0,0.3,0.3,0.3,0.3,0.4,0.3,0.3,0.3,0.3,0.5,0.5,0.5,0,0,0,0,0,0,0,0,0,0,0,0,0,0,0,0,0,0,0,0,0,0,0,0,1,1,1,2,3,1,179.9,29.9,"00:00:00",4424,0,0,0,0,0,0,0,0,0,0,0,0,0,0,0,0,0,0,0,0,30,48,1.5,1.4,0,0]
["2023-09-27T20:48:41",31,35,33,34,42,41,41,40,23.8,83.9,100,67.3,53.1,53.1,53.1,54.2,30.6,32.1,31.4,120,120,120,120,120,120,119.9,120,119.9,119.9,120,119.9,59,59,59,2.6,5.2,2.5,4.9000000000000004,0.2,0.2,0.2,0.6,0.6,0.6,0.2,0.3,0.2,0.5,0.6,0.5,-0.2,-0.2,-0.2,-0.1,-0.1,-0.1,-0.1,-0.1,-0.1,0,0,0,0.2,0.4,0.3,0.4,0.6,0.4,0.1,0.3,0.2,0.5,0.9,0.6,0,0,0,0.3,0.3,0.3,0.3,0.4,0.3,0.2,0.3,0.3,0.5,0.5,0.5,0,0,0,0,0,0,0,0,0,0,0,0,0,0,0,0,0,0,0,0,0,0,0,0,1,1,1,2,3,1,179.9,29.9,"00:00:00",4425,0,0,0,0,0,0,0,0,0,0,0,0,0,0,0,0,0,0,0,0,30,48,1.6,1.5,0,0]
["2023-09-27T20:56:46",31,35,33,34,42,41,41,40,23.7,83.3,100,67.3,53.1,53.1,53.1,54.2,29.3,31.4,30.5,120,120,120,120,120,120,119.9,120,119.9,119.9,120,119.9,59,59,59,2.6,4.9000000000000004,2.6,4.5999999999999996,0.2,0.2,0.2,0.5,0.6,0.5,0.3,0.3,0.3,0.5,0.5,0.5,-0.2,-0.2,-0.2,-0.1,-0.1,-0.1,-0.2,-0.1,-0.1,0,0,0,0.2,0.4,0.2,0.4,0.6,0.5,0.1,0.4,0.2,0.6,0.8,0.6,0,0,0,0.3,0.3,0.3,0.3,0.4,0.3,0.2,0.3,0.2,0.5,0.5,0.5,0,0,0,0,0,0,0,0,0,0,0,0,0,0,0,0,0,0,0,0,0,0,0,0,1,1,1,2,3,1,179.8,29.8,"00:00:00",4429,0,0,0,0,0,0,0,0,0,0,0,0,0,0,0,0,0,0,0,0,30,48,1.6,1.5,0,0]
["2023-09-27T20:58:48",31,34,33,33,42,41,41,40,23.7,83.1,100,67.3,53.1,53.2,53.1,54.2,27,28.3,27.3,120,120,120,120,120,120,119.9,120,119.9,119.9,120,119.9,59,59,59,2.5,4.4000000000000004,2.4,4.0999999999999996,0.2,0.2,0.2,0.5,0.5,0.5,0.2,0.2,0.2,0.5,0.5,0.5,-0.3,-0.2,-0.2,-0.1,-0.1,-0.1,-0.1,-0.1,-0.1,0,0,0,0.2,0.4,0.3,0.4,0.7,0.5,0.2,0.4,0.2,0.5,0.9,0.6,0,0,0,0.3,0.3,0.3,0.3,0.4,0.3,0.2,0.3,0.2,0.5,0.5,0.5,0,0,0,0,0,0,0,0,0,0,0,0,0,0,0,0,0,0,0,0,0,0,0,0,1,1,1,2,3,1,179.8,29.8,"00:00:00",4430,0,0,0,0,0,0,0,0,0,0,0,0,0,0,0,0,0,0,0,0,30,48,1.4,1.4,0,0]
["2023-09-27T21:03:52",31,34,33,33,42,41,41,40,23.6,82.8,100,67.3,53.1,53.2,53.1,54.2,28.4,30.5,29.3,120,120,120,120,120,120,119.9,120,119.9,119.9,120,119.9,59,59,59,2.6,4.7,2.6,4.4000000000000004,0.2,0.2,0.2,0.5,0.6,0.5,0.3,0.3,0.3,0.5,0.5,0.5,-0.3,-0.2,-0.2,-0.1,-0.1,-0.1,-0.1,-0.1,-0.1,0,0,0,0.2,0.4,0.3,0.4,0.7,0.5,0.2,0.5,0.3,0.6,0.9,0.6,0,0,0,0.3,0.3,0.3,0.3,0.4,0.3,0.2,0.3,0.2,0.5,0.5,0.5,0,0,0,0,0,0,0,0,0,0,0,0,0,0,0,0,0,0,0,0,0,0,0,0,1,1,1,2,3,1,179.8,29.8,"00:00:00",4432,0,0,0,0,0,0,0,0,0,0,0,0,0,0,0,0,0,0,0,0,30,48,1.5,1.4,0,0]
["2023-09-27T21:07:55",31,34,32,33,42,41,41,40,23.6,82.5,100,67.3,53.1,53.2,53.1,54.2,28.3,30,28.7,120,120,120,120,120,120,119.9,120,119.9,119.9,120,119.9,59,59,59,2.6,4.7,2.5,4.4000000000000004,0.2,0.2,0.2,0.5,0.6,0.5,0.2,0.3,0.2,0.5,0.5,0.5,-0.3,-0.2,-0.2,-0.1,-0.1,-0.1,-0.1,-0.1,-0.1,0,0,0,0.2,0.4,0.2,0.4,0.7,0.5,0.2,0.5,0.2,0.5,0.9,0.6,0,0,0,0.3,0.3,0.3,0.3,0.4,0.3,0.2,0.3,0.2,0.5,0.5,0.5,0,0,0,0,0,0,0,0,0,0,0,0,0,0,0,0,0,0,0,0,0,0,0,0,1,1,1,2,3,1,179.8,29.8,"00:00:00",4434,0,0,0,0,0,0,0,0,0,0,0,0,0,0,0,0,0,0,0,0,30,48,1.5,1.4,0,0]
["2023-09-27T21:14:59",31,34,32,33,42,41,41,40,23.5,82,100,67.3,53.1,53.2,53.1,54.2,26.7,27.4,27.1,120,120,120,120,120,120,119.9,120,119.9,119.9,120,119.9,59,59,59,2.4,4.7,2.1,4.4000000000000004,0.1,0.1,0.1,0.5,0.6,0.5,0.2,0.2,0.2,0.5,0.5,0.5,-0.3,-0.2,-0.2,-0.1,-0.1,-0.1,-0.1,-0.1,-0.1,0,0,0,0.2,0.4,0.2,0.4,0.7,0.5,0.2,0.5,0.3,0.6,0.9,0.6,0,0,0,0.3,0.3,0.3,0.3,0.4,0.3,0.2,0.3,0.2,0.5,0.5,0.5,0,0,0,0,0,0,0,0,0,0,0,0,0,0,0,0,0,0,0,0,0,0,0,0,1,1,1,2,3,1,179.8,29.8,"00:00:00",4438,0,0,0,0,0,0,0,0,0,0,0,0,0,0,0,0,0,0,0,0,30,48,1.4,1.3,0,0]
["2023-09-27T21:18:01",31,34,32,33,42,41,41,40,23.5,81.8,100,67.3,53.1,53.2,53.1,54.2,24.8,28.6,27,120,120,120,120,120,120,119.9,120,119.9,119.9,120,119.9,59,59,59,2.2999999999999998,5,1.9,4.5999999999999996,0.1,0.1,0.1,0.5,0.6,0.5,0.1,0.2,0.1,0.5,0.6,0.5,-0.3,-0.2,-0.2,-0.1,-0.1,-0.1,-0.1,-0.1,-0.1,0,0,0,0.2,0.4,0.2,0.4,0.7,0.5,0.2,0.4,0.3,0.6,0.9,0.6,0,0,0,0.3,0.3,0.3,0.3,0.4,0.3,0.2,0.3,0.2,0.5,0.5,0.5,0,0,0,0,0,0,0,0,0,0,0,0,0,0,0,0,0,0,0,0,0,0,0,0,1,1,1,2,3,1,179.8,29.8,"00:00:00",4439,0,0,0,0,0,0,0,0,0,0,0,0,0,0,0,0,0,0,0,0,30,48,1.4,1.3,0,0]
["2023-09-27T21:22:04",31,34,32,33,42,41,41,40,23.5,81.5,100,67.400000000000006,53.1,53.2,53.1,54.2,25.9,27.2,26.4,120,120,120,120,120,120,119.9,120,119.9,119.9,120,119.9,59,59,59,2.4,4.5999999999999996,2.1,4.3,0.1,0.1,0.1,0.5,0.5,0.5,0.2,0.2,0.2,0.5,0.5,0.5,-0.3,-0.2,-0.2,-0.1,-0.1,-0.1,-0.1,-0.1,-0.1,0,0,0,0.2,0.4,0.3,0.4,0.7,0.5,0.2,0.6,0.3,0.6,0.8,0.6,0,0,0,0.2,0.3,0.3,0.3,0.4,0.3,0.2,0.3,0.2,0.5,0.5,0.5,0,0,0,0,0,0,0,0,0,0,0,0,0,0,0,0,0,0,0,0,0,0,0,0,1,1,1,2,3,1,179.8,29.8,"00:00:00",4441,0,0,0,0,0,0,0,0,0,0,0,0,0,0,0,0,0,0,0,0,30,48,1.4,1.3,0,0]
["2023-09-27T21:28:11",31,34,32,33,42,41,41,40,23.4,81.099999999999994,100,67.400000000000006,53.1,53.2,53.1,54.2,24.3,27.6,25.6,120,120,120,120,120,120,119.9,120,119.9,119.9,120,119.9,59,59,59,2.2999999999999998,4.8,1.9,4.5,0.1,0.1,0.1,0.5,0.6,0.5,0.2,0.2,0.2,0.5,0.5,0.5,-0.3,-0.2,-0.2,-0.1,-0.1,-0.1,-0.1,-0.1,-0.1,0,0,0,0.2,0.4,0.3,0.4,0.7,0.5,0.1,0.3,0.2,0.5,0.8,0.6,0,0,0,0.3,0.3,0.3,0.3,0.4,0.3,0.2,0.3,0.3,0.5,0.5,0.5,0,0,0,0,0,0,0,0,0,0,0,0,0,0,0,0,0,0,0,0,0,0,0,0,1,1,1,2,3,1,179.8,29.8,"00:00:00",4444,0,0,0,0,0,0,0,0,0,0,0,0,0,0,0,0,0,0,0,0,30,48,1.4,1.2,0,0]
["2023-09-27T21:33:14",31,34,32,33,42,41,41,40,23.4,80.8,100,67.400000000000006,53.1,53.2,53.1,54.2,24.1,24.9,24.5,120,120,120,120,120,120,119.9,120,119.9,119.9,120,119.9,59,59,59,2.2000000000000002,4.5,1.7,4.2,0.1,0.1,0.1,0.5,0.5,0.5,0.1,0.2,0.1,0.5,0.5,0.5,-0.3,-0.2,-0.2,-0.1,-0.1,-0.1,-0.1,-0.1,-0.1,0,0,0,0.2,0.4,0.2,0.4,0.7,0.5,0.1,0.4,0.2,0.6,1,0.7,0,0,0,0.3,0.3,0.3,0.3,0.4,0.3,0.2,0.3,0.2,0.5,0.6,0.5,0,0,0,0,0,0,0,0,0,0,0,0,0,0,0,0,0,0,0,0,0,0,0,0,1,1,1,2,3,1,179.8,29.8,"00:00:00",4446,0,0,0,0,0,0,0,0,0,0,0,0,0,0,0,0,0,0,0,0,30,48,1.2,1.2,0,0]
["2023-09-27T21:38:19",31,34,32,33,41,41,41,40,23.3,80.5,100,67.400000000000006,53.1,53.2,53.1,54.2,22.4,24.6,23.8,120,120,120,120,120,120,119.9,120,119.9,119.9,120,119.9,59,59,59,2.4,4,2.1,3.7,0.1,0.1,0.1,0.4,0.5,0.4,0.2,0.2,0.2,0.4,0.4,0.4,-0.3,-0.2,-0.2,-0.1,-0.1,-0.1,-0.1,-0.1,-0.1,0,0,0,0.2,0.4,0.3,0.4,0.6,0.4,0.2,0.5,0.3,0.5,0.9,0.6,0,0,0,0.3,0.3,0.3,0.3,0.4,0.3,0.2,0.3,0.2,0.5,0.5,0.5,0,0,0,0,0,0,0,0,0,0,0,0,0,0,0,0,0,0,0,0,0,0,0,0,1,1,1,2,3,1,179.8,29.8,"00:00:00",4448,0,0,0,0,0,0,0,0,0,0,0,0,0,0,0,0,0,0,0,0,30,48,1.2,1.1000000000000001,0,0]
["2023-09-27T21:40:20",31,33,32,33,41,41,41,40,23.3,80.400000000000006,100,67.400000000000006,53.1,53.2,53.1,54.2,21.3,24,22.6,120,120,120,120,120,120,119.9,120,119.9,119.9,120,119.9,59,59,59,2.2999999999999998,4,1.9,3.8,0.1,0.1,0.1,0.4,0.5,0.4,0.2,0.2,0.2,0.4,0.4,0.4,-0.3,-0.2,-0.2,-0.1,-0.1,-0.1,-0.1,-0.1,-0.1,0,0,0,0.3,0.5,0.3,0.4,0.7,0.5,0.1,0.6,0.3,0.6,0.8,0.6,0,0,0,0.2,0.3,0.2,0.3,0.4,0.3,0.2,0.3,0.2,0.5,0.5,0.5,0,0,0,0,0,0,0,0,0,0,0,0,0,0,0,0,0,0,0,0,0,0,0,0,1,1,1,2,3,1,179.8,29.8,"00:00:00",4449,0,0,0,0,0,0,0,0,0,0,0,0,0,0,0,0,0,0,0,0,30,48,1.2,1,0,0]
["2023-09-27T21:47:25",31,34,32,33,41,41,41,40,23.2,79.900000000000006,100,67.400000000000006,53.1,53.2,53.1,54.2,22.4,23.8,23,120,120,120,120,120,120,119.9,120,119.9,119.9,120,119.9,59,59,59,2.2000000000000002,4.0999999999999996,1.9,3.8,0.1,0.1,0.1,0.4,0.5,0.4,0.2,0.2,0.2,0.4,0.5,0.4,-0.3,-0.2,-0.2,-0.1,-0.1,-0.1,-0.1,-0.1,-0.1,0,0,0,0.2,0.5,0.3,0.3,0.6,0.4,0.2,0.4,0.3,0.5,0.9,0.6,0,0,0,0.2,0.3,0.3,0.3,0.4,0.3,0.2,0.3,0.2,0.5,0.5,0.5,0,0,0,0,0,0,0,0,0,0,0,0,0,0,0,0,0,0,0,0,0,0,0,0,1,1,1,2,3,1,179.8,29.8,"00:00:00",4452,0,0,0,0,0,0,0,0,0,0,0,0,0,0,0,0,0,0,0,0,30,48,1.2,1.1000000000000001,0,0]
["2023-09-27T21:51:29",31,33,32,33,41,41,41,40,23.3,79.7,100,67.400000000000006,53.1,53.2,53.1,54.2,21.1,22.6,21.9,120,120,120,120,120,120,119.9,120,119.9,119.9,120,119.9,59,59,59,2.2000000000000002,3.7,2,3.4,0.1,0.1,0.1,0.4,0.4,0.4,0.2,0.2,0.2,0.4,0.4,0.4,-0.2,-0.2,-0.2,-0.1,-0.1,-0.1,-0.1,-0.1,-0.1,0,0,0,0.3,0.5,0.3,0.4,0.6,0.4,0.1,0.4,0.2,0.4,0.7,0.6,0,0,0,0.2,0.3,0.2,0.3,0.4,0.3,0.2,0.3,0.2,0.5,0.5,0.5,0,0,0,0,0,0,0,0,0,0,0,0,0,0,0,0,0,0,0,0,0,0,0,0,1,1,1,2,3,1,179.8,29.8,"00:00:00",4453,0,0,0,0,0,0,0,0,0,0,0,0,0,0,0,0,0,0,0,0,30,48,1.1000000000000001,1.1000000000000001,0,0]
["2023-09-27T21:52:30",31,33,32,33,41,41,41,40,23.3,79.7,100,67.400000000000006,53.1,53.2,53.1,54.2,22.4,23.8,23.1,120,120,120,120,120,120,119.9,120,119.9,119.9,120,119.9,59,59,59,2.2999999999999998,3.9,2,3.7,0.1,0.1,0.1,0.4,0.5,0.4,0.2,0.2,0.2,0.4,0.4,0.4,-0.3,-0.2,-0.2,-0.1,-0.1,-0.1,-0.1,-0.1,-0.1,0,0,0,0.2,0.4,0.3,0.4,0.6,0.4,0.2,0.4,0.2,0.4,0.7,0.6,0,0,0,0.3,0.3,0.3,0.3,0.4,0.3,0.2,0.3,0.2,0.5,0.5,0.5,0,0,0,0,0,0,0,0,0,0,0,0,0,0,0,0,0,0,0,0,0,0,0,0,1,1,1,2,3,1,179.8,29.8,"00:00:00",4454,0,0,0,0,0,0,0,0,0,0,0,0,0,0,0,0,0,0,0,0,30,48,1.2,1.1000000000000001,0,0]
["2023-09-27T21:58:36",31,33,32,33,41,41,41,40,23.3,79.3,100,67.400000000000006,53.1,53.2,53.1,54.2,24,25.3,24.5,120,120,120,120,120,120,119.9,120,119.9,119.9,120,119.9,59,59,59,2.2999999999999998,4.3,1.9,4.0999999999999996,0.1,0.1,0.1,0.5,0.5,0.5,0.2,0.2,0.2,0.4,0.5,0.4,-0.3,-0.2,-0.2,-0.1,-0.1,-0.1,-0.1,-0.1,-0.1,0,0,0,0.2,0.5,0.3,0.4,0.7,0.5,0.1,0.6,0.2,0.5,0.8,0.6,0,0,0,0.2,0.3,0.2,0.3,0.4,0.3,0.2,0.3,0.2,0.5,0.5,0.5,0,0,0,0,0,0,0,0,0,0,0,0,0,0,0,0,0,0,0,0,0,0,0,0,1,1,1,2,3,1,179.8,29.8,"00:00:00",4456,0,0,0,0,0,0,0,0,0,0,0,0,0,0,0,0,0,0,0,0,30,48,1.3,1.2,0,0]
["2023-09-27T22:02:38",30,33,32,33,41,41,41,40,23.2,79,100,67.400000000000006,53.1,53.2,53.1,54.2,24.2,25.8,25.1,120,120,120,120,120,120,119.9,120,119.9,119.9,120,119.9,59,59,59,2.2000000000000002,4.5,1.8,4.2,0.1,0.1,0.1,0.5,0.5,0.5,0.1,0.2,0.1,0.5,0.5,0.5,-0.3,-0.2,-0.2,-0.1,-0.1,-0.1,-0.1,-0.1,-0.1,0,0,0,0.2,0.5,0.3,0.4,0.5,0.4,0.2,0.4,0.2,0.5,0.8,0.6,0,0,0,0.2,0.3,0.3,0.3,0.4,0.3,0.2,0.3,0.2,0.5,0.5,0.5,0,0,0,0,0,0,0,0,0,0,0,0,0,0,0,0,0,0,0,0,0,0,0,0,1,1,1,2,3,1,179.8,29.8,"00:00:00",4458,0,0,0,0,0,0,0,0,0,0,0,0,0,0,0,0,0,0,0,0,30,48,1.3,1.2,0,0]
["2023-09-27T22:09:44",30,33,32,33,41,41,41,40,23.2,78.599999999999994,100,67.400000000000006,53.1,53.1,53.1,54.2,25.8,27.3,26.4,120,120,120,120,120,120,119.9,120,119.9,119.9,120,119.9,59,59,59,2.2999999999999998,4.7,2,4.4000000000000004,0.1,0.1,0.1,0.5,0.6,0.5,0.2,0.2,0.2,0.5,0.5,0.5,-0.3,-0.2,-0.2,-0.1,-0.1,-0.1,-0.1,-0.1,-0.1,0,0,0,0.2,0.6,0.3,0.4,0.7,0.5,0.2,0.5,0.2,0.6,0.9,0.6,0,0,0,0.2,0.3,0.3,0.3,0.4,0.3,0.2,0.3,0.2,0.5,0.5,0.5,0,0,0,0,0,0,0,0,0,0,0,0,0,0,0,0,0,0,0,0,0,0,0,0,1,1,1,2,3,1,179.8,29.8,"00:00:00",4461,0,0,0,0,0,0,0,0,0,0,0,0,0,0,0,0,0,0,0,0,30,48,1.4,1.3,0,0]
["2023-09-27T22:12:46",30,33,32,33,41,41,41,40,23.2,78.400000000000006,100,67.400000000000006,53.1,53.1,53.1,54.2,27,29.3,27.7,120,120,120,120,120,120,119.9,120,119.9,119.9,120,119.9,59,59,59,2.2000000000000002,5.2,2,4.9000000000000004,0.1,0.1,0.1,0.6,0.6,0.6,0.2,0.2,0.2,0.5,0.6,0.5,-0.2,-0.2,-0.2,-0.1,-0.1,-0.1,-0.1,-0.1,-0.1,0,0,0,0.2,0.4,0.3,0.4,0.7,0.5,0.2,0.6,0.2,0.6,0.9,0.6,0,0,0,0.3,0.3,0.3,0.3,0.4,0.3,0.2,0.3,0.2,0.5,0.5,0.5,0,0,0,0,0,0,0,0,0,0,0,0,0,0,0,0,0,0,0,0,0,0,0,0,1,1,1,2,3,1,179.8,29.8,"00:00:00",4462,0,0,0,0,0,0,0,0,0,0,0,0,0,0,0,0,0,0,0,0,30,48,1.5,1.4,0,0]
["2023-09-27T22:16:48",30,34,32,33,41,41,40,40,23.2,78.099999999999994,100,67.400000000000006,52.9,53.1,52.9,54.2,26.9,58.8,50.2,120,120,120,119.6,120.2,120,119.9,120,119.9,119.8,120.1,119.9,59,59,59,2.2999999999999998,19.899999999999999,1.8,13.3,0.1,0.1,0.1,0.6,1.4,1.1000000000000001,0.1,0.2,0.1,0.5,1.3,1,-0.3,-0.2,-0.2,-0.1,0.4,0.2,-0.1,-0.1,-0.1,0,0.5,0.3,0.2,0.4,0.3,0.3,0.7,0.4,0.2,0.4,0.2,0.6,0.9,0.6,0,0,0,0.3,0.3,0.3,0.3,0.4,0.3,0.2,0.3,0.2,0.5,0.6,0.5,0,0,0,0,0,0,0,0,0,0,0,0,0,0,0,0,0,0,0,0,0,0,0,0,1,1,1,2,3,1,179.8,29.8,"00:00:00",4464,0,0,0,0,0,0,0,0,0,0,0,0,0,0,0,0,0,0,0,0,30,48,3,2.5,0,0]
["2023-09-27T22:22:53",30,33,32,33,41,41,40,40,23.2,77.7,100,67.400000000000006,53.1,53.1,53.1,54.2,27.4,29.2,28.3,120,120,120,120,120,120,119.9,120,119.9,120,120,120,59,59,59,2.4,5,2,4.7,0.1,0.1,0.1,0.6,0.6,0.6,0.2,0.2,0.2,0.5,0.6,0.5,-0.3,-0.2,-0.2,-0.1,-0.1,-0.1,-0.1,-0.1,-0.1,0,0,0,0.2,0.4,0.3,0.4,0.5,0.4,0.1,0.3,0.2,0.6,0.8,0.6,0,0,0,0.3,0.3,0.3,0.3,0.3,0.3,0.2,0.3,0.3,0.5,0.5,0.5,0,0,0,0,0,0,0,0,0,0,0,0,0,0,0,0,0,0,0,0,0,0,0,0,1,1,1,2,3,1,179.8,29.8,"00:00:00",4467,0,0,0,0,0,0,0,0,0,0,0,0,0,0,0,0,0,0,0,0,30,48,1.5,1.4,0,0]
["2023-09-27T22:27:58",30,33,32,33,41,41,40,40,23.2,77.400000000000006,100,67.400000000000006,53.1,53.1,53.1,54.2,25.3,26.5,26,120,120,120,120,120,120,119.9,120,119.9,119.9,120,119.9,59,59,59,2.2999999999999998,4.5999999999999996,1.9,4.3,0.1,0.1,0.1,0.5,0.5,0.5,0.2,0.2,0.2,0.5,0.5,0.5,-0.3,-0.2,-0.2,-0.1,-0.1,-0.1,-0.1,-0.1,-0.1,0,0,0,0.2,0.4,0.3,0.3,0.5,0.4,0.2,0.4,0.2,0.5,0.9,0.6,0,0,0,0.3,0.3,0.3,0.3,0.3,0.3,0.2,0.3,0.2,0.5,0.5,0.5,0,0,0,0,0,0,0,0,0,0,0,0,0,0,0,0,0,0,0,0,0,0,0,0,1,1,1,2,3,1,179.8,29.8,"00:00:00",4469,0,0,0,0,0,0,0,0,0,0,0,0,0,0,0,0,0,0,0,0,30,48,1.3,1.3,0,0]
["2023-09-27T22:32:01",30,33,32,33,41,41,40,40,23.2,77.099999999999994,100,67.400000000000006,53.1,53.1,53.1,54.2,25.9,28.6,26.7,120,120,120,120,120,120,119.9,120,119.9,119.9,120,119.9,59,59,59,2.2000000000000002,5,1.9,4.7,0.1,0.1,0.1,0.5,0.6,0.5,0.1,0.2,0.1,0.5,0.6,0.5,-0.3,-0.2,-0.2,-0.1,-0.1,-0.1,-0.1,-0.1,-0.1,0,0,0,0.2,0.4,0.3,0.4,0.6,0.4,0.1,0.3,0.2,0.6,0.8,0.6,0,0,0,0.3,0.3,0.3,0.3,0.4,0.3,0.2,0.3,0.3,0.5,0.5,0.5,0,0,0,0,0,0,0,0,0,0,0,0,0,0,0,0,0,0,0,0,0,0,0,0,1,1,1,2,3,1,179.8,29.8,"00:00:00",4471,0,0,0,0,0,0,0,0,0,0,0,0,0,0,0,0,0,0,0,0,30,48,1.4,1.3,0,0]
["2023-09-27T22:35:03",30,33,32,33,41,41,40,40,23.2,76.900000000000006,100,67.400000000000006,53.1,53.1,53.1,54.2,26.1,26.9,26.6,120,120,120,120,120,120,119.9,120,119.9,119.9,120,119.9,59,59,59,2.2999999999999998,4.5,2,4.2,0.1,0.1,0.1,0.5,0.5,0.5,0.2,0.2,0.2,0.5,0.5,0.5,-0.2,-0.2,-0.2,-0.1,-0.1,-0.1,-0.2,-0.1,-0.1,0,0,0,0.2,0.5,0.3,0.3,0.6,0.4,0.2,0.3,0.2,0.4,0.8,0.6,0,0,0,0.3,0.3,0.3,0.3,0.4,0.3,0.2,0.3,0.2,0.5,0.5,0.5,0,0,0,0,0,0,0,0,0,0,0,0,0,0,0,0,0,0,0,0,0,0,0,0,1,1,1,2,3,1,179.8,29.8,"00:00:00",4473,0,0,0,0,0,0,0,0,0,0,0,0,0,0,0,0,0,0,0,0,30,48,1.4,1.3,0,0]
["2023-09-27T22:42:10",30,33,31,33,41,41,40,40,23.2,76.5,100,67.400000000000006,53.1,53.1,53.1,54.2,24.6,27.2,26.2,120,120,120,120,120,120,119.9,120,119.9,119.9,120,119.9,59,59,59,2.2999999999999998,4.7,1.9,4.4000000000000004,0.1,0.1,0.1,0.5,0.6,0.5,0.2,0.2,0.2,0.5,0.5,0.5,-0.3,-0.2,-0.2,-0.1,-0.1,-0.1,-0.1,-0.1,-0.1,0,0,0,0.2,0.5,0.3,0.3,0.6,0.4,0.2,0.3,0.2,0.5,0.8,0.6,0,0,0,0.3,0.3,0.3,0.3,0.4,0.3,0.2,0.3,0.3,0.5,0.5,0.5,0,0,0,0,0,0,0,0,0,0,0,0,0,0,0,0,0,0,0,0,0,0,0,0,1,1,1,2,3,1,179.8,29.8,"00:00:00",4476,0,0,0,0,0,0,0,0,0,0,0,0,0,0,0,0,0,0,0,0,30,48,1.4,1.2,0,0]
["2023-09-27T22:46:14",30,33,31,33,41,41,40,40,23.2,76.2,100,67.400000000000006,53.1,53.2,53.1,54.2,22.9,24.3,23.6,120,120,120,120,120,120,119.9,120,119.9,119.9,120,119.9,59,59,59,2.2999999999999998,4,2,3.7,0.1,0.1,0.1,0.4,0.5,0.4,0.2,0.2,0.2,0.4,0.4,0.4,-0.2,-0.2,-0.2,-0.1,-0.1,-0.1,-0.1,-0.1,-0.1,0,0,0,0.2,0.4,0.2,0.4,0.5,0.4,0.2,0.4,0.2,0.6,0.9,0.7,0,0,0,0.3,0.3,0.3,0.3,0.4,0.3,0.2,0.3,0.2,0.5,0.6,0.5,0,0,0,0,0,0,0,0,0,0,0,0,0,0,0,0,0,0,0,0,0,0,0,0,1,1,1,2,3,1,179.8,29.8,"00:00:00",4477,0,0,0,0,0,0,0,0,0,0,0,0,0,0,0,0,0,0,0,0,30,48,1.2,1.1000000000000001,0,0]
["2023-09-27T22:47:15",30,33,31,32,41,41,40,40,23.2,76.2,100,67.400000000000006,53.1,53.2,53.1,54.2,23.9,26,25.4,120,120,120,120,120,120,119.9,120,119.9,119.9,120,119.9,59,59,59,2.2999999999999998,4.4000000000000004,2,4.0999999999999996,0.1,0.1,0.1,0.5,0.5,0.5,0.2,0.2,0.2,0.4,0.5,0.4,-0.3,-0.2,-0.2,-0.1,-0.1,-0.1,-0.1,-0.1,-0.1,0,0,0,0.2,0.4,0.2,0.4,0.6,0.4,0.1,0.3,0.2,0.6,0.8,0.6,0,0,0,0.3,0.3,0.3,0.3,0.4,0.3,0.2,0.3,0.3,0.5,0.5,0.5,0,0,0,0,0,0,0,0,0,0,0,0,0,0,0,0,0,0,0,0,0,0,0,0,1,1,1,2,3,1,179.8,29.8,"00:00:00",4478,0,0,0,0,0,0,0,0,0,0,0,0,0,0,0,0,0,0,0,0,30,48,1.3,1.2,0,0]
["2023-09-27T22:53:20",30,33,31,33,41,41,40,40,23.2,75.8,100,67.400000000000006,53.1,53.1,53.1,54.2,25,26.4,25.6,120,120,120,120,120,120,119.9,120,119.9,119.9,120,119.9,59,59,59,1.8,3.9,2.2999999999999998,3.6,0.2,0.2,0.2,0.4,0.5,0.4,0.3,0.3,0.3,0.4,0.4,0.4,-0.1,-0.1,-0.1,-0.1,-0.1,-0.1,0,0,0,0,0,0,0.2,0.4,0.3,0.3,0.6,0.4,0.1,0.5,0.2,0.5,0.8,0.6,0,0,0,0.3,0.3,0.3,0.3,0.4,0.3,0.2,0.3,0.2,0.5,0.5,0.5,0,0,0,0,0,0,0,0,0,0,0,0,0,0,0,0,0,0,0,0,0,0,0,0,1,1,1,2,3,1,179.8,29.8,"00:00:00",4480,0,0,0,0,0,0,0,0,0,0,0,0,0,0,0,0,0,0,0,0,30,48,1.3,1.2,0,0]
["2023-09-27T22:57:22",30,33,32,32,41,40,40,40,23.2,75.5,100,67.400000000000006,53.1,53.1,53.1,54.2,25.1,27,25.9,120,120,120,120,120,120,119.9,119.9,119.9,119.9,120,119.9,59,59,59,1.8,4.0999999999999996,2.2999999999999998,3.8,0.2,0.2,0.2,0.4,0.5,0.4,0.2,0.3,0.2,0.4,0.5,0.4,-0.1,-0.1,-0.1,-0.1,-0.1,-0.1,0,0,0,0,0,0,0.2,0.4,0.3,0.3,0.5,0.4,0.1,0.4,0.2,0.6,0.9,0.6,0,0,0,0.3,0.3,0.3,0.3,0.3,0.3,0.2,0.3,0.2,0.5,0.5,0.5,0,0,0,0,0,0,0,0,0,0,0,0,0,0,0,0,0,0,0,0,0,0,0,0,1,1,1,2,3,1,179.8,29.8,"00:00:00",4482,0,0,0,0,0,0,0,0,0,0,0,0,0,0,0,0,0,0,0,0,30,48,1.4,1.3,0,0]
["2023-09-27T23:01:26",30,33,31,32,41,40,40,40,23.2,75.3,100,67.400000000000006,53.1,53.1,53.1,54.2,22.8,24.6,23.8,120,120,120,120,120,120,119.9,120,119.9,119.9,120,119.9,59,59,59,2.4,3.9,2.1,3.7,0.1,0.1,0.1,0.4,0.5,0.4,0.2,0.2,0.2,0.4,0.4,0.4,-0.3,-0.2,-0.2,-0.1,-0.1,-0.1,-0.1,-0.1,-0.1,0,0,0,0.2,0.5,0.3,0.3,0.6,0.4,0.2,0.5,0.2,0.6,0.9,0.6,0,0,0,0.3,0.3,0.3,0.3,0.3,0.3,0.2,0.3,0.2,0.5,0.5,0.5,0,0,0,0,0,0,0,0,0,0,0,0,0,0,0,0,0,0,0,0,0,0,0,0,1,1,1,2,3,1,179.8,29.8,"00:00:00",4484,0,0,0,0,0,0,0,0,0,0,0,0,0,0,0,0,0,0,0,0,30,48,1.2,1.2,0,0]
["2023-09-27T23:02:27",30,33,31,32,41,40,40,40,23.2,75.2,100,67.400000000000006,53.1,53.2,53.1,54.2,22.1,23,22.5,120,120,120,120,120,120,119.9,120,119.9,120,120,120,59,59,59,2.2999999999999998,3.6,2,3.4,0.1,0.1,0.1,0.4,0.4,0.4,0.2,0.2,0.2,0.4,0.4,0.4,-0.3,-0.2,-0.2,-0.1,-0.1,-0.1,-0.1,-0.1,-0.1,0,0,0,0.2,0.4,0.2,0.3,0.6,0.4,0.2,0.5,0.3,0.6,1,0.7,0,0,0,0.3,0.3,0.3,0.3,0.3,0.3,0.2,0.3,0.2,0.5,0.6,0.5,0,0,0,0,0,0,0,0,0,0,0,0,0,0,0,0,0,0,0,0,0,0,0,0,1,1,1,2,3,1,179.8,29.8,"00:00:00",4484,0,0,0,0,0,0,0,0,0,0,0,0,0,0,0,0,0,0,0,0,30,48,1.1000000000000001,1.1000000000000001,0,0]
["2023-09-27T23:03:28",30,33,31,32,41,40,40,40,23.2,75.2,100,67.400000000000006,53.1,53.2,53.1,54.2,19.899999999999999,22,20.9,120,120,120,120,120,120,119.9,120,119.9,119.9,120,119.9,59,59,59,2.2999999999999998,3.6,1.8,3.3,0.1,0.1,0.1,0.4,0.4,0.4,0.1,0.2,0.1,0.4,0.4,0.4,-0.3,-0.2,-0.2,-0.1,-0.1,-0.1,-0.1,-0.1,-0.1,0,0,0,0.2,0.4,0.2,0.3,0.6,0.4,0.2,0.4,0.2,0.6,1,0.7,0,0,0,0.3,0.3,0.3,0.3,0.3,0.3,0.2,0.3,0.2,0.5,0.6,0.5,0,0,0,0,0,0,0,0,0,0,0,0,0,0,0,0,0,0,0,0,0,0,0,0,1,1,1,2,3,1,179.8,29.8,"00:00:00",4485,0,0,0,0,0,0,0,0,0,0,0,0,0,0,0,0,0,0,0,0,30,48,1.1000000000000001,1,0,0]
["2023-09-27T23:04:29",30,33,31,32,41,40,40,40,23.2,75.099999999999994,100,67.400000000000006,53.1,53.2,53.1,54.2,21,23.4,21.9,120,120,120,120,120,120,119.9,120,119.9,119.9,120,119.9,59,59,59,2.2999999999999998,3.8,1.9,3.6,0.1,0.1,0.1,0.4,0.5,0.4,0.2,0.2,0.2,0.4,0.4,0.4,-0.3,-0.2,-0.2,-0.1,-0.1,-0.1,-0.1,-0.1,-0.1,0,0,0,0.2,0.4,0.2,0.3,0.5,0.4,0.2,0.5,0.3,0.6,1,0.7,0,0,0,0.3,0.3,0.3,0.3,0.3,0.3,0.2,0.3,0.2,0.5,0.6,0.5,0,0,0,0,0,0,0,0,0,0,0,0,0,0,0,0,0,0,0,0,0,0,0,0,1,1,1,2,3,1,179.8,29.8,"00:00:00",4485,0,0,0,0,0,0,0,0,0,0,0,0,0,0,0,0,0,0,0,0,30,48,1.2,1,0,0]
["2023-09-27T23:05:30",30,33,31,32,41,40,40,40,23.2,75.099999999999994,100,67.400000000000006,53.1,53.2,53.1,54.2,23.2,25.4,24.1,120,120,120,120,120,120,119.9,120,119.9,120,120,120,59,59,59,2.4,4.0999999999999996,2.1,3.9,0.1,0.1,0.1,0.4,0.5,0.4,0.2,0.2,0.2,0.4,0.5,0.4,-0.3,-0.2,-0.2,-0.1,-0.1,-0.1,-0.1,-0.1,-0.1,0,0,0,0.2,0.4,0.2,0.3,0.5,0.4,0.2,0.5,0.3,0.6,0.9,0.7,0,0,0,0.3,0.3,0.3,0.3,0.3,0.3,0.2,0.3,0.2,0.5,0.5,0.5,0,0,0,0,0,0,0,0,0,0,0,0,0,0,0,0,0,0,0,0,0,0,0,0,1,1,1,2,3,1,179.8,29.8,"00:00:00",4485,0,0,0,0,0,0,0,0,0,0,0,0,0,0,0,0,0,0,0,0,30,48,1.3,1.2,0,0]
["2023-09-27T23:06:31",30,33,31,32,41,40,40,40,23.2,75,100,67.400000000000006,53.1,53.2,53.1,54.2,23.5,25,24,120,120,120,120,120,120,119.9,120,119.9,120,120,120,59,59,59,2.4,4.0999999999999996,2.1,3.8,0.1,0.1,0.1,0.5,0.5,0.5,0.2,0.2,0.2,0.4,0.5,0.4,-0.3,-0.2,-0.2,-0.1,-0.1,-0.1,-0.1,-0.1,-0.1,0,0,0,0.2,0.5,0.3,0.3,0.5,0.4,0.2,0.4,0.3,0.6,0.9,0.6,0,0,0,0.3,0.3,0.3,0.3,0.3,0.3,0.2,0.3,0.2,0.5,0.5,0.5,0,0,0,0,0,0,0,0,0,0,0,0,0,0,0,0,0,0,0,0,0,0,0,0,1,1,1,2,3,1,179.8,29.8,"00:00:00",4486,0,0,0,0,0,0,0,0,0,0,0,0,0,0,0,0,0,0,0,0,30,48,1.3,1.2,0,0]
["2023-09-27T23:07:32",30,33,31,32,41,40,40,40,23.2,75,100,67.400000000000006,53.1,53.1,53.1,54.2,22.5,23.5,22.9,120,120,120,120,120,120,119.9,120,119.9,120,120,120,59,59,59,2.2999999999999998,4,1.9,3.7,0.1,0.1,0.1,0.4,0.5,0.4,0.2,0.2,0.2,0.4,0.4,0.4,-0.3,-0.2,-0.2,-0.1,-0.1,-0.1,-0.1,-0.1,-0.1,0,0,0,0.2,0.4,0.3,0.3,0.5,0.4,0.1,0.6,0.2,0.6,0.9,0.7,0,0,0,0.2,0.3,0.3,0.3,0.3,0.3,0.2,0.3,0.2,0.5,0.5,0.5,0,0,0,0,0,0,0,0,0,0,0,0,0,0,0,0,0,0,0,0,0,0,0,0,1,1,1,2,3,1,179.8,29.8,"00:00:00",4486,0,0,0,0,0,0,0,0,0,0,0,0,0,0,0,0,0,0,0,0,30,48,1.2,1.1000000000000001,0,0]
["2023-09-27T23:08:32",30,33,31,32,41,40,40,40,23.2,74.900000000000006,100,67.5,53.1,53.2,53.1,54.2,21.1,22.8,21.8,120,120,120,120,120,120,119.9,120,119.9,119.9,120,119.9,59,59,59,2.2999999999999998,3.8,2.1,3.5,0.1,0.1,0.1,0.4,0.4,0.4,0.2,0.2,0.2,0.4,0.4,0.4,-0.3,-0.2,-0.2,-0.1,-0.1,-0.1,-0.1,-0.1,-0.1,0,0,0,0.2,0.4,0.3,0.2,0.7,0.4,0.1,0.5,0.3,0.6,0.9,0.6,0,0,0,0.3,0.3,0.3,0.3,0.3,0.3,0.2,0.3,0.2,0.5,0.6,0.5,0,0,0,0,0,0,0,0,0,0,0,0,0,0,0,0,0,0,0,0,0,0,0,0,1,1,1,2,3,1,179.8,29.8,"00:00:00",4486,0,0,0,0,0,0,0,0,0,0,0,0,0,0,0,0,0,0,0,0,30,48,1.1000000000000001,1,0,0]
["2023-09-27T23:09:33",30,33,31,32,41,40,40,40,23.2,74.8,100,67.5,53.1,53.2,53.1,54.2,21,23.2,21.8,120,120,120,120,120,120,119.9,120,119.9,120,120,120,59,59,59,2.4,3.5,2.1,3.3,0.1,0.1,0.1,0.4,0.4,0.4,0.2,0.2,0.2,0.3,0.4,0.3,-0.3,-0.2,-0.2,-0.1,-0.1,-0.1,-0.1,-0.1,-0.1,0,0,0,0.2,0.4,0.3,0.3,0.5,0.4,0.2,0.7,0.2,0.6,0.9,0.6,0,0,0,0.3,0.3,0.3,0.3,0.3,0.3,0.2,0.3,0.2,0.5,0.5,0.5,0,0,0,0,0,0,0,0,0,0,0,0,0,0,0,0,0,0,0,0,0,0,0,0,1,1,1,2,3,1,179.8,29.8,"00:00:00",4487,0,0,0,0,0,0,0,0,0,0,0,0,0,0,0,0,0,0,0,0,30,48,1.2,1,0,0]
["2023-09-27T23:10:34",30,33,31,32,41,40,40,40,23.2,74.8,100,67.5,53.1,53.2,53.1,54.2,21,23.5,22.4,120,120,120,120,120,120,119.9,120,119.9,120,120,120,59,59,59,2.2000000000000002,4,1.8,3.8,0.1,0.1,0.1,0.4,0.5,0.4,0.1,0.2,0.2,0.4,0.4,0.4,-0.3,-0.2,-0.2,-0.1,-0.1,-0.1,-0.1,-0.1,-0.1,0,0,0,0.2,0.5,0.3,0.2,0.5,0.4,0.1,0.4,0.2,0.5,0.9,0.6,0,0,0,0.3,0.3,0.3,0.3,0.3,0.3,0.2,0.3,0.2,0.5,0.5,0.5,0,0,0,0,0,0,0,0,0,0,0,0,0,0,0,0,0,0,0,0,0,0,0,0,1,1,1,2,3,1,179.8,29.8,"00:00:00",4487,0,0,0,0,0,0,0,0,0,0,0,0,0,0,0,0,0,0,0,0,30,48,1.2,1,0,0]
["2023-09-27T23:11:35",30,33,31,32,41,40,40,40,23.2,74.7,100,67.5,53.1,53.1,53.1,54.2,22.8,24,23.5,120,120,120,120,120,120,119.9,120,119.9,120,120,120,59,59,59,2.2999999999999998,4.0999999999999996,1.8,3.8,0.1,0.1,0.1,0.5,0.5,0.5,0.1,0.2,0.1,0.4,0.5,0.4,-0.3,-0.2,-0.2,-0.1,-0.1,-0.1,-0.1,-0.1,-0.1,0,0,0,0.3,0.6,0.3,0.3,0.5,0.3,0.1,0.4,0.2,0.5,0.9,0.6,0,0,0,0.2,0.3,0.3,0.3,0.3,0.3,0.3,0.3,0.3,0.5,0.5,0.5,0,0,0,0,0,0,0,0,0,0,0,0,0,0,0,0,0,0,0,0,0,0,0,0,1,1,1,2,3,1,179.8,29.8,"00:00:00",4488,0,0,0,0,0,0,0,0,0,0,0,0,0,0,0,0,0,0,0,0,30,48,1.2,1.1000000000000001,0,0]
["2023-09-27T23:12:36",30,33,31,32,41,40,40,40,23.2,74.7,100,67.5,53.1,53.1,53.1,54.2,23,24.4,23.8,120,120,120,120,120,120,119.9,120,119.9,120,120,120,59,59,59,2.2999999999999998,4,2,3.8,0.1,0.1,0.1,0.4,0.5,0.4,0.2,0.2,0.2,0.4,0.5,0.4,-0.3,-0.2,-0.2,-0.1,-0.1,-0.1,-0.1,-0.1,-0.1,0,0,0,0.2,0.5,0.3,0.2,0.5,0.3,0.2,0.4,0.2,0.5,0.7,0.6,0,0,0,0.2,0.3,0.3,0.3,0.3,0.3,0.2,0.3,0.2,0.5,0.5,0.5,0,0,0,0,0,0,0,0,0,0,0,0,0,0,0,0,0,0,0,0,0,0,0,0,1,1,1,2,3,1,179.8,29.8,"00:00:00",4488,0,0,0,0,0,0,0,0,0,0,0,0,0,0,0,0,0,0,0,0,30,48,1.2,1.2,0,0]
["2023-09-27T23:13:36",30,33,31,32,41,40,40,40,23.2,74.599999999999994,100,67.5,53.1,53.1,53.1,54.2,21.2,24.3,23.1,120,120,120,120,120,120,119.9,120,119.9,120,120,120,59,59,59,2.4,3.8,2.1,3.6,0.1,0.1,0.1,0.4,0.5,0.4,0.2,0.2,0.2,0.4,0.4,0.4,-0.3,-0.2,-0.2,-0.1,-0.1,-0.1,-0.1,-0.1,-0.1,0,0,0,0.3,0.6,0.3,0.2,0.5,0.3,0.2,0.4,0.2,0.6,0.8,0.6,0,0,0,0.2,0.3,0.2,0.3,0.3,0.3,0.2,0.3,0.2,0.5,0.5,0.5,0,0,0,0,0,0,0,0,0,0,0,0,0,0,0,0,0,0,0,0,0,0,0,0,1,1,1,2,3,1,179.8,29.8,"00:00:00",4488,0,0,0,0,0,0,0,0,0,0,0,0,0,0,0,0,0,0,0,0,30,48,1.2,1.1000000000000001,0,0]
["2023-09-27T23:14:37",30,33,31,32,41,40,40,40,23.2,74.599999999999994,100,67.5,53.1,53.1,53.1,54.2,20.7,22.5,21.4,120,120,120,120,120,120,119.9,120,119.9,120,120,120,59,59,59,2.2999999999999998,3.7,2,3.5,0.1,0.1,0.1,0.4,0.4,0.4,0.2,0.2,0.2,0.4,0.4,0.4,-0.3,-0.2,-0.2,-0.1,-0.1,-0.1,-0.1,-0.1,-0.1,0,0,0,0.2,0.5,0.3,0.2,0.5,0.3,0.2,0.4,0.2,0.5,0.8,0.6,0,0,0,0.2,0.3,0.3,0.3,0.3,0.3,0.2,0.3,0.3,0.5,0.5,0.5,0,0,0,0,0,0,0,0,0,0,0,0,0,0,0,0,0,0,0,0,0,0,0,0,1,1,1,2,3,1,179.7,29.7,"00:00:00",4489,0,0,0,0,0,0,0,0,0,0,0,0,0,0,0,0,0,0,0,0,30,48,1.1000000000000001,1,0,0]
["2023-09-27T23:15:37",30,33,31,32,41,40,40,40,23.2,74.5,100,67.5,53.1,53.2,53.1,54.2,22.5,23.5,22.9,120,120,120,120,120,120,119.9,120,119.9,120,120,120,59,59,59,2.2999999999999998,3.9,1.9,3.6,0.1,0.1,0.1,0.4,0.5,0.4,0.2,0.2,0.2,0.4,0.4,0.4,-0.3,-0.2,-0.2,-0.1,-0.1,-0.1,-0.1,-0.1,-0.1,0,0,0,0.2,0.4,0.3,0.3,0.6,0.4,0.1,0.4,0.2,0.6,0.8,0.6,0,0,0,0.3,0.3,0.3,0.3,0.4,0.3,0.2,0.3,0.3,0.5,0.5,0.5,0,0,0,0,0,0,0,0,0,0,0,0,0,0,0,0,0,0,0,0,0,0,0,0,1,1,1,2,3,1,179.7,29.7,"00:00:00",4489,0,0,0,0,0,0,0,0,0,0,0,0,0,0,0,0,0,0,0,0,30,48,1.2,1.1000000000000001,0,0]
["2023-09-27T23:16:38",30,33,31,32,41,40,40,40,23.1,74.400000000000006,100,67.5,53.1,53.2,53.1,54.2,23.2,24.6,23.8,120,120,120,120,120,120,119.9,120,119.9,120,120,120,59,59,59,2.2999999999999998,3.9,2.1,3.7,0.1,0.1,0.1,0.4,0.5,0.4,0.2,0.2,0.2,0.4,0.4,0.4,-0.2,-0.2,-0.2,-0.1,-0.1,-0.1,-0.1,-0.1,-0.1,0,0,0,0.2,0.4,0.3,0.3,0.5,0.4,0.2,0.4,0.2,0.5,0.7,0.6,0,0,0,0.3,0.3,0.3,0.3,0.4,0.3,0.2,0.3,0.2,0.5,0.5,0.5,0,0,0,0,0,0,0,0,0,0,0,0,0,0,0,0,0,0,0,0,0,0,0,0,1,1,1,2,3,1,179.7,29.7,"00:00:00",4489,0,0,0,0,0,0,0,0,0,0,0,0,0,0,0,0,0,0,0,0,30,48,1.2,1.2,0,0]
["2023-09-27T23:17:41",30,33,31,32,41,40,40,40,23.1,74.400000000000006,100,67.5,53.1,53.1,53.1,54.2,21,23.9,22,120,120,120,120,120,120,119.9,120,119.9,119.9,120,119.9,59,59,59,2.2000000000000002,3.9,2,3.7,0.1,0.1,0.1,0.4,0.5,0.4,0.2,0.2,0.2,0.4,0.4,0.4,-0.2,-0.2,-0.2,-0.1,-0.1,-0.1,-0.1,-0.1,-0.1,0,0,0,0.2,0.5,0.3,0.3,0.5,0.4,0.1,0.3,0.2,0.6,0.9,0.6,0,0,0,0.2,0.3,0.3,0.3,0.3,0.3,0.3,0.3,0.3,0.5,0.5,0.5,0,0,0,0,0,0,0,0,0,0,0,0,0,0,0,0,0,0,0,0,0,0,0,0,1,1,1,2,3,1,179.7,29.7,"00:00:00",4490,0,0,0,0,0,0,0,0,0,0,0,0,0,0,0,0,0,0,0,0,30,48,1.2,1,0,0]
["2023-09-27T23:18:42",30,33,31,32,41,40,40,40,23.1,74.3,100,67.5,53.1,53.1,53.1,54.2,22.1,23.6,22.9,120,120,120,120,120,120,119.9,120,119.9,120,120,120,59,59,59,2.2000000000000002,4,1.9,3.7,0.1,0.1,0.1,0.4,0.5,0.4,0.2,0.2,0.2,0.4,0.4,0.4,-0.2,-0.2,-0.2,-0.1,-0.1,-0.1,-0.1,-0.1,-0.1,0,0,0,0.2,0.6,0.3,0.3,0.5,0.4,0.1,0.3,0.2,0.5,0.7,0.6,0,0,0,0.2,0.3,0.2,0.3,0.3,0.3,0.2,0.3,0.3,0.5,0.5,0.5,0,0,0,0,0,0,0,0,0,0,0,0,0,0,0,0,0,0,0,0,0,0,0,0,1,1,1,2,3,1,179.7,29.7,"00:00:00",4490,0,0,0,0,0,0,0,0,0,0,0,0,0,0,0,0,0,0,0,0,30,48,1.2,1.1000000000000001,0,0]
["2023-09-27T23:19:42",30,33,31,32,41,40,40,40,23.1,74.3,100,67.5,53.1,53.1,53.1,54.2,22.2,23.9,23,120,120,120,120,120,120,119.9,120,119.9,119.9,120,119.9,59,59,59,2.2999999999999998,4,2.1,3.8,0.1,0.1,0.1,0.4,0.5,0.4,0.2,0.2,0.2,0.4,0.5,0.4,-0.2,-0.2,-0.2,-0.1,-0.1,-0.1,-0.1,-0.1,-0.1,0,0,0,0.3,0.6,0.3,0.3,0.6,0.4,0.1,0.4,0.2,0.6,0.7,0.6,0,0,0,0.2,0.3,0.2,0.3,0.3,0.3,0.2,0.3,0.3,0.5,0.5,0.5,0,0,0,0,0,0,0,0,0,0,0,0,0,0,0,0,0,0,0,0,0,0,0,0,1,1,1,2,3,1,179.7,29.7,"00:00:00",4491,0,0,0,0,0,0,0,0,0,0,0,0,0,0,0,0,0,0,0,0,30,48,1.2,1.1000000000000001,0,0]
["2023-09-27T23:20:43",30,33,31,32,41,40,40,40,23.1,74.2,100,67.5,52.8,53.1,53.1,54.2,22.1,33.1,23,120,120,120,119.9,120,120,119.9,120,119.9,119.9,120,120,59,59,59,2.2999999999999998,19.2,2.1,15.7,0.1,0.1,0.1,0.4,0.4,0.4,0.2,0.2,0.2,0.4,0.4,0.4,-0.2,-0.2,-0.2,-0.1,-0.1,-0.1,-0.1,-0.1,-0.1,0,0,0,0.3,0.6,0.3,0.3,0.5,0.4,0.1,0.3,0.2,0.6,0.8,0.6,0,0,0,0.2,0.3,0.2,0.3,0.3,0.3,0.2,0.3,0.3,0.5,0.5,0.5,0,0,0,0,0,0,0,0,0,0,0,0,0,0,0,0,0,0,0,0,0,0,0,0,1,1,1,2,3,1,179.7,29.7,"00:00:00",4491,0,0,0,0,0,0,0,0,0,0,0,0,0,0,0,0,0,0,0,0,30,48,1.2,1.1000000000000001,0,0]
["2023-09-27T23:21:44",30,34,31,33,41,40,40,40,23.1,74.099999999999994,100,67.5,52.9,53.1,53,54.2,22.7,53.3,44,120,120,120,119.9,120.2,120,119.9,120,119.9,119.8,120.1,120,59,59,59,2.2999999999999998,11,2,10.6,0.1,0.1,0.1,0.4,1.2,0.9,0.2,0.2,0.2,0.4,1.2,0.9,-0.3,-0.2,-0.2,-0.1,0.4,0.2,-0.1,-0.1,-0.1,0,0.5,0.3,0.3,0.5,0.3,0.3,0.5,0.4,0.1,0.3,0.2,0.5,0.9,0.6,0,0,0,0.2,0.3,0.2,0.3,0.3,0.3,0.2,0.3,0.3,0.5,0.5,0.5,0,0,0,0,0,0,0,0,0,0,0,0,0,0,0,0,0,0,0,0,0,0,0,0,1,1,1,2,3,1,179.7,29.7,"00:00:00",4492,0,0,0,0,0,0,0,0,0,0,0,0,0,0,0,0,0,0,0,0,30,48,2.8,2.1,0,0]
["2023-09-27T23:22:44",30,33,31,33,41,40,40,40,23.1,74.099999999999994,100,67.5,53.1,53.1,53.1,54.2,22.2,24,22.8,120,120,120,120,120,120,119.9,120,119.9,119.9,120,120,59,59,59,2.2999999999999998,4.2,1.9,3.8,0.1,0.1,0.1,0.4,0.5,0.4,0.2,0.2,0.2,0.4,0.5,0.4,-0.3,-0.2,-0.2,-0.1,-0.1,-0.1,-0.1,-0.1,-0.1,0,0,0,0.2,0.5,0.3,0.3,0.5,0.4,0.2,0.4,0.2,0.5,0.9,0.6,0,0,0,0.2,0.3,0.3,0.3,0.3,0.3,0.2,0.3,0.2,0.5,0.5,0.5,0,0,0,0,0,0,0,0,0,0,0,0,0,0,0,0,0,0,0,0,0,0,0,0,1,1,1,2,3,1,179.7,29.7,"00:00:00",4492,0,0,0,0,0,0,0,0,0,0,0,0,0,0,0,0,0,0,0,0,30,48,1.2,1.1000000000000001,0,0]
["2023-09-27T23:23:44",30,33,31,32,41,40,40,40,23.1,74,100,67.5,53.1,53.1,53.1,54.2,22.2,24.7,23.3,120,120,120,120,120,120,119.9,120,119.9,119.9,120,119.9,59,59,59,2.4,3.9,2.1,3.6,0.1,0.1,0.1,0.4,0.5,0.4,0.2,0.2,0.2,0.4,0.4,0.4,-0.3,-0.2,-0.2,-0.1,-0.1,-0.1,-0.1,-0.1,-0.1,0,0,0,0.2,0.5,0.3,0.2,0.5,0.4,0.2,0.4,0.3,0.5,0.8,0.6,0,0,0,0.2,0.3,0.3,0.3,0.3,0.3,0.2,0.3,0.2,0.5,0.5,0.5,0,0,0,0,0,0,0,0,0,0,0,0,0,0,0,0,0,0,0,0,0,0,0,0,1,1,1,2,3,1,179.7,29.7,"00:00:00",4492,0,0,0,0,0,0,0,0,0,0,0,0,0,0,0,0,0,0,0,0,30,48,1.2,1.1000000000000001,0,0]
["2023-09-27T23:24:45",30,33,31,32,41,40,40,40,23.1,73.900000000000006,100,67.5,53.1,53.1,53.1,54.2,22.9,24.8,23.8,120,120,120,120,120,120,119.9,120,119.9,119.9,120,119.9,59,59,59,2.2999999999999998,4,2,3.8,0.1,0.1,0.1,0.5,0.5,0.5,0.2,0.2,0.2,0.4,0.5,0.4,-0.3,-0.2,-0.2,-0.1,-0.1,-0.1,-0.1,-0.1,-0.1,0,0,0,0.2,0.5,0.3,0.2,0.5,0.3,0.1,0.5,0.2,0.6,0.8,0.6,0,0,0,0.3,0.3,0.3,0.3,0.3,0.3,0.2,0.3,0.2,0.5,0.5,0.5,0,0,0,0,0,0,0,0,0,0,0,0,0,0,0,0,0,0,0,0,0,0,0,0,1,1,1,2,3,1,179.7,29.7,"00:00:00",4493,0,0,0,0,0,0,0,0,0,0,0,0,0,0,0,0,0,0,0,0,30,48,1.2,1.1000000000000001,0,0]
["2023-09-27T23:25:46",30,33,31,32,41,40,40,40,23.1,73.900000000000006,100,67.5,53.1,53.1,53.1,54.2,22.5,24,23.1,120,120,120,120,120,120,119.9,120,119.9,119.9,120,119.9,59,59,59,2.2999999999999998,4.0999999999999996,1.9,3.9,0.1,0.1,0.1,0.4,0.5,0.4,0.2,0.2,0.2,0.4,0.5,0.4,-0.3,-0.2,-0.2,-0.1,-0.1,-0.1,-0.1,-0.1,-0.1,0,0,0,0.2,0.6,0.3,0.3,0.7,0.4,0.1,0.4,0.2,0.5,0.8,0.6,0,0,0,0.2,0.3,0.3,0.3,0.3,0.3,0.2,0.3,0.2,0.5,0.5,0.5,0,0,0,0,0,0,0,0,0,0,0,0,0,0,0,0,0,0,0,0,0,0,0,0,1,1,1,2,3,1,179.7,29.7,"00:00:00",4493,0,0,0,0,0,0,0,0,0,0,0,0,0,0,0,0,0,0,0,0,30,48,1.2,1.1000000000000001,0,0]
["2023-09-27T23:26:47",30,33,31,32,41,40,40,40,23.1,73.8,100,67.5,53.1,53.1,53.1,54.2,21.4,22.5,21.8,120,120,120,120,120,120,119.9,120,119.9,119.9,120,120,59,59,59,2.2999999999999998,3.8,1.9,3.5,0.1,0.1,0.1,0.4,0.4,0.4,0.2,0.2,0.2,0.4,0.4,0.4,-0.3,-0.2,-0.2,-0.1,-0.1,-0.1,-0.1,-0.1,-0.1,0,0,0,0.3,0.5,0.3,0.3,0.5,0.4,0.1,0.3,0.2,0.5,0.7,0.6,0,0,0,0.2,0.3,0.3,0.3,0.3,0.3,0.2,0.3,0.3,0.5,0.5,0.5,0,0,0,0,0,0,0,0,0,0,0,0,0,0,0,0,0,0,0,0,0,0,0,0,1,1,1,2,3,1,179.7,29.7,"00:00:00",4494,0,0,0,0,0,0,0,0,0,0,0,0,0,0,0,0,0,0,0,0,30,48,1.1000000000000001,1.1000000000000001,0,0]
["2023-09-27T23:27:48",30,33,31,32,41,40,40,40,23.1,73.8,100,67.5,53.1,53.1,53.1,54.2,21.7,23.4,22.3,120,120,120,120,120,120,119.9,120,119.9,119.9,120,119.9,59,59,59,2.4,3.6,2.1,3.3,0.1,0.1,0.1,0.4,0.4,0.4,0.2,0.2,0.2,0.4,0.4,0.4,-0.3,-0.2,-0.2,-0.1,-0.1,-0.1,-0.1,-0.1,-0.1,0,0,0,0.2,0.4,0.3,0.3,0.5,0.4,0.1,0.4,0.2,0.6,0.9,0.6,0,0,0,0.3,0.3,0.3,0.3,0.4,0.3,0.2,0.3,0.2,0.5,0.5,0.5,0,0,0,0,0,0,0,0,0,0,0,0,0,0,0,0,0,0,0,0,0,0,0,0,1,1,1,2,3,1,179.7,29.7,"00:00:00",4494,0,0,0,0,0,0,0,0,0,0,0,0,0,0,0,0,0,0,0,0,30,48,1.2,1.1000000000000001,0,0]
["2023-09-27T23:28:49",30,33,31,32,41,40,40,40,23.1,73.7,100,67.5,53.1,53.1,53.1,54.2,21.8,23.7,22.7,120,120,120,120,120,120,119.9,120,119.9,119.9,120,119.9,59,59,59,2.4,3.8,2.1,3.6,0.1,0.1,0.1,0.4,0.4,0.4,0.2,0.2,0.2,0.4,0.4,0.4,-0.3,-0.2,-0.2,-0.1,-0.1,-0.1,-0.1,-0.1,-0.1,0,0,0,0.2,0.5,0.3,0.3,0.5,0.4,0.1,0.4,0.2,0.5,0.8,0.6,0,0,0,0.2,0.3,0.3,0.3,0.3,0.3,0.2,0.3,0.2,0.5,0.5,0.5,0,0,0,0,0,0,0,0,0,0,0,0,0,0,0,0,0,0,0,0,0,0,0,0,1,1,1,2,3,1,179.7,29.7,"00:00:00",4494,0,0,0,0,0,0,0,0,0,0,0,0,0,0,0,0,0,0,0,0,30,48,1.2,1.1000000000000001,0,0]
["2023-09-27T23:29:50",30,33,31,32,40,40,40,40,23.1,73.7,100,67.5,53.1,53.1,53.1,54.2,22.6,23.7,23,120,120,120,120,120,120,119.9,120,119.9,119.9,120,119.9,59,59,59,2.2999999999999998,4,1.9,3.8,0.1,0.1,0.1,0.4,0.5,0.4,0.2,0.2,0.2,0.4,0.5,0.4,-0.3,-0.2,-0.2,-0.1,-0.1,-0.1,-0.1,-0.1,-0.1,0,0,0,0.2,0.5,0.3,0.2,0.5,0.4,0.1,0.4,0.2,0.6,0.8,0.6,0,0,0,0.2,0.3,0.3,0.3,0.3,0.3,0.2,0.3,0.3,0.5,0.5,0.5,0,0,0,0,0,0,0,0,0,0,0,0,0,0,0,0,0,0,0,0,0,0,0,0,1,1,1,2,3,1,179.7,29.7,"00:00:00",4495,0,0,0,0,0,0,0,0,0,0,0,0,0,0,0,0,0,0,0,0,30,48,1.2,1.1000000000000001,0,0]
["2023-09-27T23:30:51",30,33,31,32,40,40,40,40,23.1,73.599999999999994,100,67.5,53.1,53.1,53.1,54.2,22.9,24.4,23.7,120,120,120,120,120,120,119.9,120,119.9,119.9,120,119.9,59,59,59,2.2999999999999998,4.0999999999999996,1.9,3.8,0.1,0.1,0.1,0.5,0.5,0.5,0.2,0.2,0.2,0.4,0.5,0.4,-0.3,-0.2,-0.2,-0.1,-0.1,-0.1,-0.1,-0.1,-0.1,0,0,0,0.2,0.5,0.3,0.2,0.5,0.4,0.2,0.4,0.2,0.6,0.9,0.7,0,0,0,0.2,0.3,0.3,0.3,0.3,0.3,0.2,0.3,0.2,0.5,0.5,0.5,0,0,0,0,0,0,0,0,0,0,0,0,0,0,0,0,0,0,0,0,0,0,0,0,1,1,1,2,3,1,179.7,29.7,"00:00:00",4495,0,0,0,0,0,0,0,0,0,0,0,0,0,0,0,0,0,0,0,0,30,48,1.2,1.1000000000000001,0,0]
["2023-09-27T23:31:52",30,33,31,32,40,40,40,40,23.1,73.5,100,67.5,53.1,53.1,53.1,54.2,22.5,24.2,23.2,120,120,120,120,120,120,119.9,120,119.9,119.9,120,119.9,59,59,59,2.2999999999999998,4.0999999999999996,2,3.8,0.1,0.1,0.1,0.4,0.5,0.4,0.2,0.2,0.2,0.4,0.5,0.4,-0.3,-0.2,-0.2,-0.1,-0.1,-0.1,-0.1,-0.1,-0.1,0,0,0,0.2,0.5,0.3,0.3,0.5,0.4,0.1,0.4,0.2,0.5,0.9,0.6,0,0,0,0.3,0.3,0.3,0.3,0.3,0.3,0.2,0.3,0.2,0.5,0.5,0.5,0,0,0,0,0,0,0,0,0,0,0,0,0,0,0,0,0,0,0,0,0,0,0,0,1,1,1,2,3,1,179.7,29.7,"00:00:00",4495,0,0,0,0,0,0,0,0,0,0,0,0,0,0,0,0,0,0,0,0,30,48,1.2,1.1000000000000001,0,0]
["2023-09-27T23:32:53",30,33,31,32,41,40,40,40,23.1,73.5,100,67.5,53.1,53.1,53.1,54.2,22,24.4,22.7,120,120,120,120,120,120,119.9,120,119.9,119.9,120,119.9,59,59,59,2.2999999999999998,4,2,3.7,0.1,0.1,0.1,0.4,0.5,0.4,0.2,0.2,0.2,0.4,0.4,0.4,-0.3,-0.2,-0.2,-0.1,-0.1,-0.1,-0.1,-0.1,-0.1,0,0,0,0.3,0.5,0.3,0.2,0.5,0.4,0.1,0.4,0.2,0.5,0.9,0.6,0,0,0,0.2,0.3,0.3,0.3,0.3,0.3,0.2,0.3,0.2,0.5,0.5,0.5,0,0,0,0,0,0,0,0,0,0,0,0,0,0,0,0,0,0,0,0,0,0,0,0,1,1,1,2,3,1,179.7,29.7,"00:00:00",4496,0,0,0,0,0,0,0,0,0,0,0,0,0,0,0,0,0,0,0,0,30,48,1.2,1.1000000000000001,0,0]
["2023-09-27T23:33:54",30,33,31,32,40,40,40,40,23.1,73.400000000000006,100,67.5,53.1,53.1,53.1,54.2,22,22.9,22.4,120,120,120,120,120,120,119.9,120,119.9,119.9,120,119.9,59,59,59,2.2999999999999998,3.8,1.9,3.5,0.1,0.1,0.1,0.4,0.4,0.4,0.2,0.2,0.2,0.4,0.4,0.4,-0.3,-0.2,-0.2,-0.1,-0.1,-0.1,-0.1,-0.1,-0.1,0,0,0,0.3,0.5,0.3,0.2,0.5,0.4,0.1,0.3,0.2,0.6,0.9,0.6,0,0,0,0.2,0.3,0.3,0.3,0.3,0.3,0.3,0.3,0.3,0.5,0.5,0.5,0,0,0,0,0,0,0,0,0,0,0,0,0,0,0,0,0,0,0,0,0,0,0,0,1,1,1,2,3,1,179.7,29.7,"00:00:00",4496,0,0,0,0,0,0,0,0,0,0,0,0,0,0,0,0,0,0,0,0,30,48,1.1000000000000001,1.1000000000000001,0,0]
["2023-09-27T23:34:55",30,33,31,32,41,40,40,40,23.1,73.400000000000006,100,67.5,53.1,53.1,53.1,54.2,22,26.4,24.7,120,120,120,120,120,120,119.9,120,119.9,119.9,120,119.9,59,59,59,2.2999999999999998,4.4000000000000004,2,4.0999999999999996,0.1,0.1,0.1,0.4,0.5,0.4,0.2,0.2,0.2,0.4,0.5,0.4,-0.3,-0.2,-0.2,-0.1,-0.1,-0.1,-0.1,-0.1,-0.1,0,0,0,0.2,0.4,0.3,0.3,0.6,0.4,0.1,0.4,0.2,0.5,1,0.6,0,0,0,0.3,0.3,0.3,0.3,0.3,0.3,0.2,0.3,0.2,0.5,0.5,0.5,0,0,0,0,0,0,0,0,0,0,0,0,0,0,0,0,0,0,0,0,0,0,0,0,1,1,1,2,3,1,179.7,29.7,"00:00:00",4497,0,0,0,0,0,0,0,0,0,0,0,0,0,0,0,0,0,0,0,0,30,48,1.3,1.2,0,0]
["2023-09-27T23:35:55",30,33,31,32,40,40,40,40,23.1,73.3,100,67.5,53.1,53.1,53.1,54.2,25.2,26.5,25.8,120,120,120,120,120,120,119.9,120,119.9,119.9,120,119.9,59,59,59,2.2999999999999998,4.5,2,4.2,0.1,0.1,0.1,0.5,0.5,0.5,0.2,0.2,0.2,0.5,0.5,0.5,-0.3,-0.2,-0.2,-0.1,-0.1,-0.1,-0.1,-0.1,-0.1,0,0,0,0.2,0.6,0.3,0.3,0.6,0.4,0.2,0.4,0.2,0.5,0.9,0.6,0,0,0,0.2,0.3,0.3,0.3,0.3,0.3,0.2,0.3,0.2,0.5,0.5,0.5,0,0,0,0,0,0,0,0,0,0,0,0,0,0,0,0,0,0,0,0,0,0,0,0,1,1,1,2,3,1,179.7,29.7,"00:00:00",4497,0,0,0,0,0,0,0,0,0,0,0,0,0,0,0,0,0,0,0,0,30,48,1.3,1.3,0,0]
["2023-09-27T23:36:56",30,33,31,32,40,40,40,40,23.1,73.3,100,67.5,53.1,53.1,53.1,54.2,24.5,26.3,25.3,120,120,120,120,120,120,119.9,120,119.9,119.9,120,119.9,59,59,59,2.2999999999999998,4.4000000000000004,2,4.0999999999999996,0.1,0.1,0.1,0.5,0.5,0.5,0.2,0.2,0.2,0.5,0.5,0.5,-0.3,-0.2,-0.2,-0.1,-0.1,-0.1,-0.1,-0.1,-0.1,0,0,0,0.2,0.5,0.3,0.4,0.6,0.4,0.1,0.4,0.2,0.6,0.9,0.7,0,0,0,0.2,0.3,0.3,0.3,0.4,0.3,0.3,0.3,0.3,0.5,0.6,0.5,0,0,0,0,0,0,0,0,0,0,0,0,0,0,0,0,0,0,0,0,0,0,0,0,1,1,1,2,3,1,179.7,29.7,"00:00:00",4497,0,0,0,0,0,0,0,0,0,0,0,0,0,0,0,0,0,0,0,0,30,48,1.3,1.2,0,0]
["2023-09-27T23:37:58",30,33,31,32,40,40,40,40,23.1,73.2,100,67.5,53.1,53.1,53.1,54.2,23.1,24.6,23.6,120,120,120,120,120,120,119.9,120,119.9,119.9,120,119.9,59,59,59,2.2999999999999998,4.3,1.9,4,0.1,0.1,0.1,0.5,0.5,0.5,0.1,0.2,0.1,0.4,0.5,0.4,-0.3,-0.2,-0.2,-0.1,-0.1,-0.1,-0.1,-0.1,-0.1,0,0,0,0.2,0.5,0.3,0.3,0.5,0.4,0.2,0.5,0.2,0.6,1,0.7,0,0,0,0.2,0.3,0.3,0.3,0.3,0.3,0.2,0.3,0.2,0.5,0.6,0.5,0,0,0,0,0,0,0,0,0,0,0,0,0,0,0,0,0,0,0,0,0,0,0,0,1,1,1,2,3,1,179.7,29.7,"00:00:00",4498,0,0,0,0,0,0,0,0,0,0,0,0,0,0,0,0,0,0,0,0,30,48,1.2,1.1000000000000001,0,0]
["2023-09-27T23:38:59",30,33,31,32,40,40,40,40,23.1,73.099999999999994,100,67.5,53.1,53.1,53.1,54.2,24.7,25.9,25.1,120,120,120,120,120,120,119.9,120,119.9,119.9,120,119.9,59,59,59,2.2999999999999998,4.4000000000000004,2,4.0999999999999996,0.1,0.1,0.1,0.5,0.5,0.5,0.2,0.2,0.2,0.5,0.5,0.5,-0.3,-0.2,-0.2,-0.1,-0.1,-0.1,-0.1,-0.1,-0.1,0,0,0,0.3,0.5,0.3,0.4,0.6,0.4,0.2,0.4,0.2,0.6,0.9,0.7,0,0,0,0.2,0.3,0.3,0.3,0.4,0.3,0.2,0.3,0.2,0.5,0.6,0.5,0,0,0,0,0,0,0,0,0,0,0,0,0,0,0,0,0,0,0,0,0,0,0,0,1,1,1,2,3,1,179.7,29.7,"00:00:00",4498,0,0,0,0,0,0,0,0,0,0,0,0,0,0,0,0,0,0,0,0,30,48,1.3,1.2,0,0]
["2023-09-27T23:39:59",30,33,31,32,40,40,40,40,23.1,73.099999999999994,100,67.5,53.1,53.1,53.1,54.2,23.9,26.1,25,120,120,120,120,120,120,119.9,120,119.9,119.9,120,119.9,59,59,59,2.2999999999999998,4.4000000000000004,2,4.0999999999999996,0.1,0.1,0.1,0.5,0.5,0.5,0.2,0.2,0.2,0.4,0.5,0.4,-0.3,-0.2,-0.2,-0.1,-0.1,-0.1,-0.1,-0.1,-0.1,0,0,0,0.2,0.5,0.3,0.4,0.6,0.4,0.2,0.4,0.2,0.6,0.9,0.7,0,0,0,0.3,0.3,0.3,0.3,0.4,0.3,0.2,0.3,0.2,0.5,0.6,0.5,0,0,0,0,0,0,0,0,0,0,0,0,0,0,0,0,0,0,0,0,0,0,0,0,1,1,1,2,3,1,179.7,29.7,"00:00:00",4499,0,0,0,0,0,0,0,0,0,0,0,0,0,0,0,0,0,0,0,0,30,48,1.3,1.2,0,0]
["2023-09-27T23:41:00",30,33,31,32,40,40,40,40,23.1,73,100,67.5,53.1,53.1,53.1,54.2,24,25.4,24.7,120,120,120,120,120,120,119.9,120,119.9,119.9,120,119.9,59,59,59,2.2999999999999998,4.3,1.9,4,0.1,0.1,0.1,0.5,0.5,0.5,0.2,0.2,0.2,0.4,0.5,0.4,-0.3,-0.2,-0.2,-0.1,-0.1,-0.1,-0.1,-0.1,-0.1,0,0,0,0.2,0.4,0.3,0.3,0.5,0.4,0.2,0.4,0.2,0.5,1,0.7,0,0,0,0.3,0.3,0.3,0.3,0.3,0.3,0.2,0.3,0.2,0.5,0.6,0.5,0,0,0,0,0,0,0,0,0,0,0,0,0,0,0,0,0,0,0,0,0,0,0,0,1,1,1,2,3,1,179.7,29.7,"00:00:00",4499,0,0,0,0,0,0,0,0,0,0,0,0,0,0,0,0,0,0,0,0,30,48,1.3,1.2,0,0]
["2023-09-27T23:42:01",30,33,31,32,40,40,40,40,23.2,73,100,67.5,53.1,53.1,53.1,54.2,24.7,26.5,25.5,120,120,120,120,120,120,119.9,120,119.9,119.9,120,119.9,59,59,59,2.2999999999999998,4.4000000000000004,2,4.2,0.1,0.1,0.1,0.5,0.5,0.5,0.2,0.2,0.2,0.5,0.5,0.5,-0.3,-0.2,-0.2,-0.1,-0.1,-0.1,-0.1,-0.1,-0.1,0,0,0,0.2,0.4,0.3,0.3,0.6,0.4,0.1,0.4,0.2,0.6,0.9,0.7,0,0,0,0.3,0.3,0.3,0.3,0.3,0.3,0.2,0.3,0.3,0.5,0.5,0.5,0,0,0,0,0,0,0,0,0,0,0,0,0,0,0,0,0,0,0,0,0,0,0,0,1,1,1,2,3,1,179.7,29.7,"00:00:00",4500,0,0,0,0,0,0,0,0,0,0,0,0,0,0,0,0,0,0,0,0,30,48,1.3,1.2,0,0]
["2023-09-27T23:43:01",30,33,31,32,40,40,40,40,23.1,72.900000000000006,100,67.5,53,53.1,53.1,54.2,25.7,36.200000000000003,26.7,120,120,120,119.8,120.1,120,119.9,120,119.9,119.8,120,119.9,59,59,59,2.4,10,2.1,9.6999999999999993,0.1,0.1,0.1,0.5,1.1000000000000001,0.5,0.2,0.2,0.2,0.4,1.1000000000000001,0.5,-0.3,-0.2,-0.2,-0.1,0.4,-0.1,-0.1,-0.1,-0.1,0,0.4,0,0.2,0.5,0.3,0.4,0.5,0.4,0.2,0.4,0.2,0.6,0.9,0.6,0,0,0,0.3,0.3,0.3,0.3,0.4,0.3,0.2,0.3,0.2,0.5,0.5,0.5,0,0,0,0,0,0,0,0,0,0,0,0,0,0,0,0,0,0,0,0,0,0,0,0,1,1,1,2,3,1,179.7,29.7,"00:00:00",4500,0,0,0,0,0,0,0,0,0,0,0,0,0,0,0,0,0,0,0,0,30,48,2.5,1.3,0,0]
["2023-09-27T23:44:02",30,33,31,32,40,40,40,40,23.1,72.8,100,67.5,53.1,53.1,53.1,54.2,25.1,27.1,26.2,120,120,120,120,120,120,119.9,120,119.9,119.9,120,119.9,59,59,59,2.2999999999999998,4.7,1.9,4.3,0.1,0.1,0.1,0.5,0.6,0.5,0.1,0.2,0.1,0.5,0.5,0.5,-0.3,-0.2,-0.2,-0.1,-0.1,-0.1,-0.1,-0.1,-0.1,0,0,0,0.2,0.4,0.3,0.4,0.6,0.4,0.1,0.4,0.2,0.6,0.9,0.6,0,0,0,0.3,0.3,0.3,0.3,0.4,0.3,0.2,0.3,0.2,0.5,0.5,0.5,0,0,0,0,0,0,0,0,0,0,0,0,0,0,0,0,0,0,0,0,0,0,0,0,1,1,1,2,3,1,179.7,29.7,"00:00:00",4500,0,0,0,0,0,0,0,0,0,0,0,0,0,0,0,0,0,0,0,0,30,48,1.4,1.3,0,0]
["2023-09-27T23:45:03",30,33,31,32,40,40,40,40,23.1,72.8,100,67.5,53.1,53.1,53.1,54.2,25.6,27.4,26.7,120,120,120,120,120,120,119.9,120,119.9,119.9,120,119.9,59,59,59,2.2000000000000002,4.9000000000000004,1.7,4.5999999999999996,0.1,0.1,0.1,0.5,0.6,0.5,0.1,0.2,0.1,0.5,0.6,0.5,-0.3,-0.2,-0.2,-0.1,-0.1,-0.1,-0.1,-0.1,-0.1,0,0,0,0.2,0.4,0.3,0.3,0.6,0.4,0.2,0.5,0.2,0.6,0.9,0.7,0,0,0,0.3,0.3,0.3,0.3,0.4,0.3,0.2,0.3,0.2,0.5,0.6,0.5,0,0,0,0,0,0,0,0,0,0,0,0,0,0,0,0,0,0,0,0,0,0,0,0,1,1,1,2,3,1,179.7,29.7,"00:00:00",4501,0,0,0,0,0,0,0,0,0,0,0,0,0,0,0,0,0,0,0,0,30,48,1.4,1.3,0,0]
["2023-09-27T23:46:04",30,33,31,32,40,40,40,40,23.1,72.7,100,67.5,53.1,53.1,53.1,54.2,25.7,27.6,26.3,120,120,120,120,120,120,119.9,120,119.9,119.9,120,119.9,59,59,59,2.2999999999999998,4.8,2.1,4.5,0.1,0.1,0.1,0.5,0.6,0.5,0.2,0.2,0.2,0.5,0.5,0.5,-0.2,-0.2,-0.2,-0.1,-0.1,-0.1,-0.1,-0.1,-0.1,0,0,0,0.2,0.5,0.3,0.4,0.6,0.4,0.1,0.3,0.2,0.6,0.9,0.6,0,0,0,0.2,0.3,0.3,0.3,0.4,0.3,0.3,0.3,0.3,0.5,0.6,0.5,0,0,0,0,0,0,0,0,0,0,0,0,0,0,0,0,0,0,0,0,0,0,0,0,1,1,1,2,3,1,179.7,29.7,"00:00:00",4501,0,0,0,0,0,0,0,0,0,0,0,0,0,0,0,0,0,0,0,0,30,48,1.4,1.3,0,0]
["2023-09-27T23:47:04",30,33,31,32,40,40,40,40,23.1,72.599999999999994,100,67.5,53.1,53.1,53.1,54.2,26.2,28.1,27,120,120,120,120,120,120,119.9,120,119.9,119.9,120,119.9,59,59,59,2.2999999999999998,4.9000000000000004,2.1,4.5999999999999996,0.1,0.1,0.1,0.5,0.6,0.5,0.2,0.2,0.2,0.5,0.5,0.5,-0.3,-0.2,-0.2,-0.1,-0.1,-0.1,-0.1,-0.1,-0.1,0,0,0,0.2,0.4,0.3,0.4,0.6,0.4,0.1,0.3,0.2,0.6,0.9,0.7,0,0,0,0.2,0.3,0.3,0.3,0.4,0.3,0.3,0.3,0.3,0.5,0.5,0.5,0,0,0,0,0,0,0,0,0,0,0,0,0,0,0,0,0,0,0,0,0,0,0,0,1,1,1,2,3,1,179.7,29.7,"00:00:00",4502,0,0,0,0,0,0,0,0,0,0,0,0,0,0,0,0,0,0,0,0,30,48,1.4,1.3,0,0]
["2023-09-27T23:48:06",30,33,31,32,40,40,40,40,23.1,72.599999999999994,100,67.5,53.1,53.1,53.1,54.2,26.3,28.7,27.4,120,120,120,120,120,120,119.9,120,119.9,119.9,120,119.9,59,59,59,2.2999999999999998,5,1.9,4.7,0.1,0.1,0.1,0.5,0.6,0.5,0.2,0.2,0.2,0.5,0.6,0.5,-0.3,-0.2,-0.2,-0.1,-0.1,-0.1,-0.1,-0.1,-0.1,0,0,0,0.2,0.4,0.2,0.3,0.6,0.4,0.1,0.3,0.2,0.5,0.9,0.6,0,0,0,0.3,0.3,0.3,0.3,0.4,0.3,0.3,0.3,0.3,0.5,0.5,0.5,0,0,0,0,0,0,0,0,0,0,0,0,0,0,0,0,0,0,0,0,0,0,0,0,1,1,1,2,3,1,179.7,29.7,"00:00:00",4502,0,0,0,0,0,0,0,0,0,0,0,0,0,0,0,0,0,0,0,0,30,48,1.4,1.3,0,0]
["2023-09-27T23:49:06",30,33,31,32,40,40,40,40,23.1,72.5,100,67.5,53.1,53.1,53.1,54.2,26.4,27.4,26.9,120,120,120,120,120,120,119.9,120,119.9,119.9,120,119.9,59,59,59,2.2000000000000002,4.8,1.9,4.5,0.1,0.1,0.1,0.5,0.6,0.5,0.2,0.2,0.2,0.5,0.5,0.5,-0.2,-0.2,-0.2,-0.1,-0.1,-0.1,-0.1,-0.1,-0.1,0,0,0,0.2,0.4,0.2,0.4,0.6,0.4,0.1,0.4,0.2,0.6,0.9,0.7,0,0,0,0.3,0.3,0.3,0.3,0.4,0.3,0.2,0.3,0.2,0.5,0.5,0.5,0,0,0,0,0,0,0,0,0,0,0,0,0,0,0,0,0,0,0,0,0,0,0,0,1,1,1,2,3,1,179.7,29.7,"00:00:00",4503,0,0,0,0,0,0,0,0,0,0,0,0,0,0,0,0,0,0,0,0,30,48,1.4,1.3,0,0]
["2023-09-27T23:50:07",30,33,31,32,40,40,40,40,23,72.400000000000006,100,67.5,53.1,53.1,53.1,54.2,26.5,28.6,27.9,120,120,120,120,120,120,119.9,120,119.9,119.9,120,119.9,59,59,59,2.2999999999999998,4.8,2.1,4.5,0.1,0.1,0.1,0.5,0.6,0.5,0.2,0.2,0.2,0.5,0.5,0.5,-0.2,-0.2,-0.2,-0.1,-0.1,-0.1,-0.1,-0.1,-0.1,0,0,0,0.2,0.4,0.2,0.4,0.6,0.4,0.1,0.3,0.2,0.6,0.8,0.6,0,0,0,0.3,0.3,0.3,0.3,0.4,0.3,0.3,0.3,0.3,0.5,0.5,0.5,0,0,0,0,0,0,0,0,0,0,0,0,0,0,0,0,0,0,0,0,0,0,0,0,1,1,1,2,3,1,179.7,29.7,"00:00:00",4503,0,0,0,0,0,0,0,0,0,0,0,0,0,0,0,0,0,0,0,0,30,48,1.4,1.4,0,0]
["2023-09-27T23:51:07",30,33,31,32,40,40,40,40,23,72.3,100,67.5,53.1,53.1,53.1,54.2,26.8,29,27.7,120,120,120,120,120,120,119.9,120,119.9,119.9,120,119.9,59,59,59,2.2999999999999998,4.9000000000000004,2.1,4.5999999999999996,0.1,0.1,0.1,0.5,0.6,0.5,0.2,0.2,0.2,0.5,0.6,0.5,-0.3,-0.2,-0.2,-0.1,-0.1,-0.1,-0.1,-0.1,-0.1,0,0,0,0.2,0.4,0.2,0.3,0.6,0.4,0.1,0.5,0.2,0.6,0.9,0.6,0,0,0,0.3,0.3,0.3,0.3,0.4,0.3,0.2,0.3,0.3,0.5,0.5,0.5,0,0,0,0,0,0,0,0,0,0,0,0,0,0,0,0,0,0,0,0,0,0,0,0,1,1,1,2,3,1,179.7,29.7,"00:00:00",4504,0,0,0,0,0,0,0,0,0,0,0,0,0,0,0,0,0,0,0,0,30,48,1.5,1.3,0,0]
["2023-09-27T23:52:08",30,33,31,32,40,40,40,40,23,72.3,100,67.5,53.1,53.1,53.1,54.2,24.2,27,24.9,120,120,120,120,120,120,119.9,120,119.9,119.9,120,119.9,59,59,59,2.2000000000000002,4.5999999999999996,1.8,4.4000000000000004,0.1,0.1,0.1,0.5,0.6,0.5,0.1,0.2,0.1,0.5,0.5,0.5,-0.2,-0.2,-0.2,-0.1,-0.1,-0.1,-0.1,-0.1,-0.1,0,0,0,0.2,0.4,0.3,0.3,0.5,0.4,0.1,0.5,0.2,0.5,0.8,0.6,0,0,0,0.3,0.3,0.3,0.3,0.4,0.3,0.2,0.3,0.3,0.5,0.5,0.5,0,0,0,0,0,0,0,0,0,0,0,0,0,0,0,0,0,0,0,0,0,0,0,0,1,1,1,2,3,1,179.7,29.7,"00:00:00",4504,0,0,0,0,0,0,0,0,0,0,0,0,0,0,0,0,0,0,0,0,30,48,1.3,1.2,0,0]
["2023-09-27T23:53:09",30,33,31,32,40,40,40,40,23,72.2,100,67.5,52.8,53.1,53,54.2,24.8,59.7,29.6,120,120,120,119.9,120,120,119.9,120,119.9,119.8,120,119.9,59,59,59,2.4,16.8,2.1,14.8,0.1,0.1,0.1,0.5,1.4,0.6,0.1,0.2,0.1,0.5,2.2000000000000002,0.6,-0.3,-0.2,-0.2,-0.1,0.4,0,-0.1,-0.1,-0.1,0,0.7,0,0.2,0.4,0.2,0.3,0.6,0.4,0.2,0.4,0.2,0.5,0.8,0.6,0,0,0,0.3,0.3,0.3,0.3,0.3,0.3,0.2,0.3,0.3,0.5,0.5,0.5,0,0,0,0,0,0,0,0,0,0,0,0,0,0,0,0,0,0,0,0,0,0,0,0,1,1,1,2,3,1,179.7,29.7,"00:00:00",4504,0,0,0,0,0,0,0,0,0,0,0,0,0,0,0,0,0,0,0,0,30,48,3.9,1.5,0,0]
["2023-09-27T23:54:10",30,34,31,33,40,40,40,40,22.9,72.099999999999994,100,67.5,52.9,53.1,52.9,54.2,27.3,60.2,46.5,120,120,120,120,120.2,120,119.9,120,119.9,119.9,120.1,119.9,59,59,59,2.4,12.2,2,11.7,0.1,0.1,0.1,0.6,1.4,1,0.2,0.2,0.2,0.5,1.3,0.9,-0.3,-0.2,-0.2,-0.1,0.4,0.2,-0.1,-0.1,-0.1,0,0.5,0.2,0.2,0.4,0.2,0.3,0.5,0.4,0.2,0.4,0.2,0.5,0.9,0.6,0,0,0,0.3,0.3,0.3,0.3,0.3,0.3,0.3,0.3,0.3,0.5,0.5,0.5,0,0,0,0,0,0,0,0,0,0,0,0,0,0,0,0,0,0,0,0,0,0,0,0,1,1,1,2,3,1,179.7,29.7,"00:00:00",4505,0,0,0,0,0,0,0,0,0,0,0,0,0,0,0,0,0,0,0,0,30,48,3.1,2.2999999999999998,0,0]
["2023-09-27T23:55:11",30,33,31,33,40,40,40,40,22.9,72,100,67.5,53,53.1,53,54.2,26.9,28,27.4,120,120,120,120,120,120,119.9,120,119.9,119.9,120,119.9,59,59,59,2.2999999999999998,4.9000000000000004,2,4.5999999999999996,0.1,0.1,0.1,0.6,0.6,0.6,0.2,0.2,0.2,0.5,0.5,0.5,-0.3,-0.2,-0.2,-0.1,-0.1,-0.1,-0.1,-0.1,-0.1,0,0,0,0.2,0.4,0.2,0.3,0.6,0.4,0.1,0.3,0.2,0.5,0.9,0.6,0,0,0,0.3,0.3,0.3,0.3,0.3,0.3,0.3,0.3,0.3,0.5,0.5,0.5,0,0,0,0,0,0,0,0,0,0,0,0,0,0,0,0,0,0,0,0,0,0,0,0,1,1,1,2,3,1,179.7,29.7,"00:00:00",4506,0,0,0,0,0,0,0,0,0,0,0,0,0,0,0,0,0,0,0,0,30,48,1.4,1.3,0,0]
["2023-09-27T23:56:12",30,33,31,32,40,40,40,40,22.9,71.900000000000006,100,67.5,53,53.1,53.1,54.2,26.3,27.6,26.9,120,120,120,120,120,120,119.9,120,119.9,119.9,120,119.9,59,59,59,2.2999999999999998,4.8,1.9,4.5,0.1,0.1,0.1,0.5,0.6,0.5,0.2,0.2,0.2,0.5,0.5,0.5,-0.3,-0.2,-0.2,-0.1,-0.1,-0.1,-0.1,-0.1,-0.1,0,0,0,0.2,0.4,0.2,0.3,0.5,0.4,0.2,0.5,0.2,0.4,0.7,0.6,0,0,0,0.3,0.3,0.3,0.3,0.3,0.3,0.2,0.3,0.2,0.5,0.5,0.5,0,0,0,0,0,0,0,0,0,0,0,0,0,0,0,0,0,0,0,0,0,0,0,0,1,1,1,2,3,1,179.7,29.7,"00:00:00",4506,0,0,0,0,0,0,0,0,0,0,0,0,0,0,0,0,0,0,0,0,30,48,1.4,1.3,0,0]
["2023-09-27T23:57:13",30,33,31,32,40,40,40,40,22.9,71.8,100,67.5,53.1,53.1,53.1,54.2,25.8,27.9,26.7,120,120,120,120,120,120,119.9,120,119.9,119.9,120,119.9,59,59,59,2.4,4.5999999999999996,2.1,4.3,0.1,0.1,0.1,0.5,0.6,0.5,0.2,0.2,0.2,0.5,0.5,0.5,-0.3,-0.2,-0.2,-0.1,-0.1,-0.1,-0.1,-0.1,-0.1,0,0,0,0.2,0.4,0.2,0.4,0.6,0.4,0.2,0.5,0.2,0.5,0.9,0.6,0,0,0,0.3,0.3,0.3,0.3,0.4,0.3,0.2,0.3,0.2,0.5,0.5,0.5,0,0,0,0,0,0,0,0,0,0,0,0,0,0,0,0,0,0,0,0,0,0,0,0,1,1,1,2,3,1,179.7,29.7,"00:00:00",4507,0,0,0,0,0,0,0,0,0,0,0,0,0,0,0,0,0,0,0,0,30,48,1.4,1.3,0,0]
["2023-09-27T23:58:14",30,33,31,32,40,40,40,40,22.8,71.8,100,67.5,53,53.1,53.1,54.2,27.4,29.5,28.2,120,120,120,120,120,120,119.9,120,119.9,119.9,120,119.9,59,59,59,2.2999999999999998,5,2.1,4.7,0.1,0.1,0.1,0.5,0.6,0.6,0.2,0.2,0.2,0.5,0.6,0.5,-0.3,-0.2,-0.2,-0.1,-0.1,-0.1,-0.1,-0.1,-0.1,0,0,0,0.2,0.4,0.2,0.3,0.6,0.4,0.2,0.4,0.2,0.6,0.9,0.6,0,0,0,0.3,0.3,0.3,0.3,0.4,0.3,0.2,0.3,0.2,0.5,0.5,0.5,0,0,0,0,0,0,0,0,0,0,0,0,0,0,0,0,0,0,0,0,0,0,0,0,1,1,1,2,3,1,179.7,29.7,"00:00:00",4507,0,0,0,0,0,0,0,0,0,0,0,0,0,0,0,0,0,0,0,0,30,48,1.5,1.4,0,0]
["2023-09-27T23:59:15",30,33,31,32,40,40,40,40,22.8,71.7,100,67.5,53.1,53.1,53.1,54.2,25.1,27,26,120,120,120,120,120,120,119.9,120,119.9,119.9,120,119.9,59,59,59,2.2000000000000002,4.9000000000000004,1.7,4.5,0.1,0.1,0.1,0.5,0.6,0.5,0.1,0.2,0.1,0.5,0.5,0.5,-0.3,-0.2,-0.2,-0.1,-0.1,-0.1,-0.1,-0.1,-0.1,0,0,0,0.2,0.4,0.2,0.3,0.6,0.4,0.1,0.4,0.2,0.6,0.9,0.6,0,0,0,0.3,0.3,0.3,0.3,0.4,0.3,0.2,0.3,0.2,0.5,0.5,0.5,0,0,0,0,0,0,0,0,0,0,0,0,0,0,0,0,0,0,0,0,0,0,0,0,1,1,1,2,3,1,179.7,29.7,"00:00:00",4508,0,0,0,0,0,0,0,0,0,0,0,0,0,0,0,0,0,0,0,0,30,48,1.3,1.3,0,0]
[{"$cut":{"chars":32759,"head":"                                                                                                                                                                                                                                                                                                                                                                                                                                                                                                                                                                                                                                                                                                                                                                                                                                                                                                                                                                                                                                                                                                                                                                                                                                                                                                                                                                                                                                                                                                                                                                                                                                                                                                                                                                                                                                                                                                                                                                                                                                                                                                                                                                                                                                                                                                                                                                                                                                                                                                                                                                                                                                                                                                                                                                                                                                                                                                                                                                                                                                                                                                                                                                                                                                                                                                                                                                                                                                                                                                                                                                                                                                                                                                                                                                                                                                                                                                                                                                                                                                                                                                                                                                                                                                                                "}}]
[{"$cut":{"chars":32759,"head":"                                                                                                                                                                                                                                                                                                                                                                                                                                                                                                                                                                                                                                                                                                                                                                                                                                                                                                                                                                                                                                                                                                                                                                                                                                                                                                                                                                                                                                                                                                                                                                                                                                                                                                                                                                                                                                                                                                                                                                                                                                                                                                                                                                                                                                                                                                                                                                                                                                                                                                                                                                                                                                                                                                                                                                                                                                                                                                                                                                                                                                                                                                                                                                                                                                                                                                                                                                                                                                                                                                                                                                                                                                                                                                                                                                                                                                                                                                                                                                                                                                                                                                                                                                                                                                                                "}}]
[{"$cut":{"chars":32759,"head":"                                                                                                                                                                                                                                                                                                                                                                                                                                                                                                                                                                                                                                                                                                                                                                                                                                                                                                                                                                                                                                                                                                                                                                                                                                                                                                                                                                                                                                                                                                                                                                                                                                                                                                                                                                                                                                                                                                                                                                                                                                                                                                                                                                                                                                                                                                                                                                                                                                                                                                                                                                                                                                                                                                                                                                                                                                                                                                                                                                                                                                                                                                                                                                                                                                                                                                                                                                                                                                                                                                                                                                                                                                                                                                                                                                                                                                                                                                                                                                                                                                                                                                                                                                                                                                                                "}}]
["                                                                                                                                                                                                                                                                                                                                                                                                                                                                                                                                                                                                                                                                                                                                                                                                                                                                                                                                                                                                                                                                                                                                                                                                                                                                                                                                                                                                                                                                                                                                                                                                                                                                                                                                                                                                                                                                                                                                                                                                                                                                                                                                                                                    "]

{"sheet":"FREQ SHIFT","index":2,"n_rows":1433,"n_cols":19,"rows_kept":1433,"cut":false,"hidden":false,"merged":[]}
["Date",{"$f":"INPUT!#REF!","v":{"$error":"#REF!"}}]
[null,null,null,null,null,null,null,{"$f":"(I7)*24*60","v":0}]
[null,null,null,null,null,null,null,{"$f":"(S7-I7)*24*60","v":1380}]
[]
[null,null,null,null,null,null,"Start_Off"]
[null,null,null,null,null,null,"Variable Span Graph"]
[null,null,null,null,null,null,null,"Start","00:00:00",null,null,null,null,null,null,null,null,"End","23:00:00"]
["MIN",{"$f":"MIN(B14:B1433)","v":39.799999999999997},52.3,{"$f":"MIN(D14:D1433)","v":59},{"$f":"MIN(E14:E1433)","v":1.7}]
["MAX",{"$f":"MAX(B14:B1433)","v":95},54.6,{"$f":"MAX(D14:D1433)","v":61.9},{"$f":"MAX(E14:E1433)","v":17.399999999999999}]
["AVERAGE",{"$f":"AVERAGE(B14:B1433)","v":75.053239436619748},53.500915492958704,{"$f":"AVERAGE(D14:D1433)","v":59.997183098591741},{"$f":"AVERAGE(E14:E1433)","v":4.8949295774648132}]
[]
["TimeStamp","BatSoc (Avg)","BatVtg (Max)","InvFrq (Max)","InvCur (Max)"]
[{"$f":"INPUT!A:A","v":"MM/DD/YYYY hh:mm:ss"},{"$f":"INPUT!K13","v":"%"},{"$f":"INPUT!O13","v":"V"},{"$f":"INPUT!AH13","v":"Hz"},{"$f":"INPUT!AJ13","v":"A"}]
[{"$f":"INPUT!A:A","v":45196.000162037039},{"$f":"INPUT!K14","v":70.5},{"$f":"INPUT!O14","v":53},{"$f":"INPUT!AH14","v":59},{"$f":"INPUT!AJ14","v":2.2999999999999998}]
[{"$f":"INPUT!A:A","v":45196.000856481478},{"$f":"INPUT!K15","v":70.400000000000006},{"$f":"INPUT!O15","v":53.1},{"$f":"INPUT!AH15","v":59},{"$f":"INPUT!AJ15","v":2.2999999999999998}]
[{"$f":"INPUT!A:A","v":45196.001562500001},{"$f":"INPUT!K16","v":70.3},{"$f":"INPUT!O16","v":53.1},{"$f":"INPUT!AH16","v":59},{"$f":"INPUT!AJ16","v":2.2999999999999998}]
[{"$f":"INPUT!A:A","v":45196.002268518518},{"$f":"INPUT!K17","v":70.3},{"$f":"INPUT!O17","v":53},{"$f":"INPUT!AH17","v":59},{"$f":"INPUT!AJ17","v":2.4}]
[{"$f":"INPUT!A:A","v":45196.002962962964},{"$f":"INPUT!K18","v":70.2},{"$f":"INPUT!O18","v":53},{"$f":"INPUT!AH18","v":59},{"$f":"INPUT!AJ18","v":2.2999999999999998}]
[{"$f":"INPUT!A:A","v":45196.003668981481},{"$f":"INPUT!K19","v":70.099999999999994},{"$f":"INPUT!O19","v":53},{"$f":"INPUT!AH19","v":59},{"$f":"INPUT!AJ19","v":2.2000000000000002}]
[{"$f":"INPUT!A:A","v":45196.004374999997},{"$f":"INPUT!K20","v":70},{"$f":"INPUT!O20","v":53},{"$f":"INPUT!AH20","v":59},{"$f":"INPUT!AJ20","v":2.2999999999999998}]
[{"$f":"INPUT!A:A","v":45196.00508101852},{"$f":"INPUT!K21","v":70},{"$f":"INPUT!O21","v":53.1},{"$f":"INPUT!AH21","v":59},{"$f":"INPUT!AJ21","v":2.4}]
[{"$f":"INPUT!A:A","v":45196.005787037036},{"$f":"INPUT!K22","v":69.900000000000006},{"$f":"INPUT!O22","v":53.1},{"$f":"INPUT!AH22","v":59},{"$f":"INPUT!AJ22","v":2.2999999999999998}]
[{"$f":"INPUT!A:A","v":45196.006493055553},{"$f":"INPUT!K23","v":69.8},{"$f":"INPUT!O23","v":53},{"$f":"INPUT!AH23","v":59},{"$f":"INPUT!AJ23","v":2.2999999999999998}]
[{"$f":"INPUT!A:A","v":45196.007187499999},{"$f":"INPUT!K24","v":69.8},{"$f":"INPUT!O24","v":53},{"$f":"INPUT!AH24","v":59},{"$f":"INPUT!AJ24","v":2.4}]
[{"$f":"INPUT!A:A","v":45196.007893518516},{"$f":"INPUT!K25","v":69.7},{"$f":"INPUT!O25","v":53},{"$f":"INPUT!AH25","v":59},{"$f":"INPUT!AJ25","v":2.4}]
[{"$f":"INPUT!A:A","v":45196.008599537039},{"$f":"INPUT!K26","v":69.599999999999994},{"$f":"INPUT!O26","v":53.1},{"$f":"INPUT!AH26","v":59},{"$f":"INPUT!AJ26","v":2.2999999999999998}]
[{"$f":"INPUT!A:A","v":45196.009305555555},{"$f":"INPUT!K27","v":69.599999999999994},{"$f":"INPUT!O27","v":53.1},{"$f":"INPUT!AH27","v":59},{"$f":"INPUT!AJ27","v":2.2999999999999998}]
[{"$f":"INPUT!A:A","v":45196.010011574072},{"$f":"INPUT!K28","v":69.5},{"$f":"INPUT!O28","v":53.1},{"$f":"INPUT!AH28","v":59},{"$f":"INPUT!AJ28","v":2.2999999999999998}]
[{"$f":"INPUT!A:A","v":45196.010717592595},{"$f":"INPUT!K29","v":69.400000000000006},{"$f":"INPUT!O29","v":53},{"$f":"INPUT!AH29","v":59},{"$f":"INPUT!AJ29","v":2.2999999999999998}]
[{"$f":"INPUT!A:A","v":45196.011412037034},{"$f":"INPUT!K30","v":69.400000000000006},{"$f":"INPUT!O30","v":53},{"$f":"INPUT!AH30","v":59},{"$f":"INPUT!AJ30","v":2.2999999999999998}]
[{"$f":"INPUT!A:A","v":45196.012129629627},{"$f":"INPUT!K31","v":69.3},{"$f":"INPUT!O31","v":53},{"$f":"INPUT!AH31","v":59},{"$f":"INPUT!AJ31","v":2.2999999999999998}]
[{"$f":"INPUT!A:A","v":45196.012835648151},{"$f":"INPUT!K32","v":69.2},{"$f":"INPUT!O32","v":53},{"$f":"INPUT!AH32","v":59},{"$f":"INPUT!AJ32","v":2.2999999999999998}]
[{"$f":"INPUT!A:A","v":45196.013541666667},{"$f":"INPUT!K33","v":69.099999999999994},{"$f":"INPUT!O33","v":53.1},{"$f":"INPUT!AH33","v":59},{"$f":"INPUT!AJ33","v":2.2999999999999998}]
[{"$f":"INPUT!A:A","v":45196.014247685183},{"$f":"INPUT!K34","v":69.099999999999994},{"$f":"INPUT!O34","v":53.1},{"$f":"INPUT!AH34","v":59},{"$f":"INPUT!AJ34","v":2.2999999999999998}]
[{"$f":"INPUT!A:A","v":45196.01494212963},{"$f":"INPUT!K35","v":69},{"$f":"INPUT!O35","v":53.1},{"$f":"INPUT!AH35","v":59},{"$f":"INPUT!AJ35","v":2.2999999999999998}]
[{"$f":"INPUT!A:A","v":45196.015648148146},{"$f":"INPUT!K36","v":69},{"$f":"INPUT!O36","v":53},{"$f":"INPUT!AH36","v":59},{"$f":"INPUT!AJ36","v":2.2999999999999998}]
[{"$f":"INPUT!A:A","v":45196.01635416667},{"$f":"INPUT!K37","v":68.900000000000006},{"$f":"INPUT!O37","v":53},{"$f":"INPUT!AH37","v":59},{"$f":"INPUT!AJ37","v":2.2999999999999998}]
[{"$f":"INPUT!A:A","v":45196.017048611109},{"$f":"INPUT!K38","v":68.8},{"$f":"INPUT!O38","v":53},{"$f":"INPUT!AH38","v":59},{"$f":"INPUT!AJ38","v":2.2999999999999998}]
[{"$f":"INPUT!A:A","v":45196.017754629633},{"$f":"INPUT!K39","v":68.7},{"$f":"INPUT!O39","v":53},{"$f":"INPUT!AH39","v":59},{"$f":"INPUT!AJ39","v":2.2999999999999998}]
[{"$f":"INPUT!A:A","v":45196.018449074072},{"$f":"INPUT!K40","v":68.7},{"$f":"INPUT!O40","v":53},{"$f":"INPUT!AH40","v":59},{"$f":"INPUT!AJ40","v":2.2999999999999998}]
[{"$f":"INPUT!A:A","v":45196.019166666665},{"$f":"INPUT!K41","v":68.599999999999994},{"$f":"INPUT!O41","v":53},{"$f":"INPUT!AH41","v":59},{"$f":"INPUT!AJ41","v":2.2999999999999998}]
[{"$f":"INPUT!A:A","v":45196.019861111112},{"$f":"INPUT!K42","v":68.5},{"$f":"INPUT!O42","v":53},{"$f":"INPUT!AH42","v":59},{"$f":"INPUT!AJ42","v":2.2999999999999998}]
[{"$f":"INPUT!A:A","v":45196.020567129628},{"$f":"INPUT!K43","v":68.400000000000006},{"$f":"INPUT!O43","v":53},{"$f":"INPUT!AH43","v":59},{"$f":"INPUT!AJ43","v":2.2999999999999998}]
[{"$f":"INPUT!A:A","v":45196.021273148152},{"$f":"INPUT!K44","v":68.3},{"$f":"INPUT!O44","v":53},{"$f":"INPUT!AH44","v":59},{"$f":"INPUT!AJ44","v":2.2999999999999998}]
[{"$f":"INPUT!A:A","v":45196.021979166668},{"$f":"INPUT!K45","v":68.3},{"$f":"INPUT!O45","v":53},{"$f":"INPUT!AH45","v":59},{"$f":"INPUT!AJ45","v":2.2999999999999998}]
[{"$f":"INPUT!A:A","v":45196.022673611114},{"$f":"INPUT!K46","v":68.2},{"$f":"INPUT!O46","v":53},{"$f":"INPUT!AH46","v":59},{"$f":"INPUT!AJ46","v":2.2999999999999998}]
[{"$f":"INPUT!A:A","v":45196.023379629631},{"$f":"INPUT!K47","v":68.099999999999994},{"$f":"INPUT!O47","v":53},{"$f":"INPUT!AH47","v":59},{"$f":"INPUT!AJ47","v":2.2999999999999998}]
[{"$f":"INPUT!A:A","v":45196.024085648147},{"$f":"INPUT!K48","v":68.099999999999994},{"$f":"INPUT!O48","v":53},{"$f":"INPUT!AH48","v":59},{"$f":"INPUT!AJ48","v":2.2999999999999998}]
[{"$f":"INPUT!A:A","v":45196.024791666663},{"$f":"INPUT!K49","v":68},{"$f":"INPUT!O49","v":53},{"$f":"INPUT!AH49","v":59},{"$f":"INPUT!AJ49","v":2.2999999999999998}]
[{"$f":"INPUT!A:A","v":45196.025497685187},{"$f":"INPUT!K50","v":67.900000000000006},{"$f":"INPUT!O50","v":53},{"$f":"INPUT!AH50","v":59},{"$f":"INPUT!AJ50","v":2.2999999999999998}]
[{"$f":"INPUT!A:A","v":45196.02621527778},{"$f":"INPUT!K51","v":67.900000000000006},{"$f":"INPUT!O51","v":53},{"$f":"INPUT!AH51","v":59},{"$f":"INPUT!AJ51","v":2.2999999999999998}]
[{"$f":"INPUT!A:A","v":45196.026921296296},{"$f":"INPUT!K52","v":67.8},{"$f":"INPUT!O52","v":53},{"$f":"INPUT!AH52","v":59},{"$f":"INPUT!AJ52","v":2.2000000000000002}]
[{"$f":"INPUT!A:A","v":45196.027615740742},{"$f":"INPUT!K53","v":67.7},{"$f":"INPUT!O53","v":53},{"$f":"INPUT!AH53","v":59},{"$f":"INPUT!AJ53","v":2.2999999999999998}]
[{"$f":"INPUT!A:A","v":45196.028321759259},{"$f":"INPUT!K54","v":67.7},{"$f":"INPUT!O54","v":53},{"$f":"INPUT!AH54","v":59},{"$f":"INPUT!AJ54","v":2.2999999999999998}]
[{"$f":"INPUT!A:A","v":45196.029027777775},{"$f":"INPUT!K55","v":67.599999999999994},{"$f":"INPUT!O55","v":53},{"$f":"INPUT!AH55","v":59},{"$f":"INPUT!AJ55","v":2.2000000000000002}]
[{"$f":"INPUT!A:A","v":45196.029722222222},{"$f":"INPUT!K56","v":67.599999999999994},{"$f":"INPUT!O56","v":53},{"$f":"INPUT!AH56","v":59},{"$f":"INPUT!AJ56","v":2.2000000000000002}]
[{"$f":"INPUT!A:A","v":45196.030428240738},{"$f":"INPUT!K57","v":67.5},{"$f":"INPUT!O57","v":53.1},{"$f":"INPUT!AH57","v":59},{"$f":"INPUT!AJ57","v":2.2999999999999998}]
[{"$f":"INPUT!A:A","v":45196.031134259261},{"$f":"INPUT!K58","v":67.400000000000006},{"$f":"INPUT!O58","v":53},{"$f":"INPUT!AH58","v":59},{"$f":"INPUT!AJ58","v":2.2999999999999998}]
[{"$f":"INPUT!A:A","v":45196.031828703701},{"$f":"INPUT!K59","v":67.400000000000006},{"$f":"INPUT!O59","v":53},{"$f":"INPUT!AH59","v":59},{"$f":"INPUT!AJ59","v":2.2999999999999998}]
[{"$f":"INPUT!A:A","v":45196.032534722224},{"$f":"INPUT!K60","v":67.3},{"$f":"INPUT!O60","v":53.1},{"$f":"INPUT!AH60","v":59},{"$f":"INPUT!AJ60","v":2.2000000000000002}]
[{"$f":"INPUT!A:A","v":45196.03324074074},{"$f":"INPUT!K61","v":67.3},{"$f":"INPUT!O61","v":53.1},{"$f":"INPUT!AH61","v":59},{"$f":"INPUT!AJ61","v":2.2999999999999998}]
[{"$f":"INPUT!A:A","v":45196.033946759257},{"$f":"INPUT!K62","v":67.2},{"$f":"INPUT!O62","v":53.1},{"$f":"INPUT!AH62","v":59},{"$f":"INPUT!AJ62","v":2.4}]
[{"$f":"INPUT!A:A","v":45196.03465277778},{"$f":"INPUT!K63","v":67.099999999999994},{"$f":"INPUT!O63","v":53.1},{"$f":"INPUT!AH63","v":59},{"$f":"INPUT!AJ63","v":2.2999999999999998}]
[{"$f":"INPUT!A:A","v":45196.035358796296},{"$f":"INPUT!K64","v":67.099999999999994},{"$f":"INPUT!O64","v":53.1},{"$f":"INPUT!AH64","v":59},{"$f":"INPUT!AJ64","v":2.2999999999999998}]
[{"$f":"INPUT!A:A","v":45196.036053240743},{"$f":"INPUT!K65","v":67},{"$f":"INPUT!O65","v":53},{"$f":"INPUT!AH65","v":59},{"$f":"INPUT!AJ65","v":2.2999999999999998}]
[{"$f":"INPUT!A:A","v":45196.036759259259},{"$f":"INPUT!K66","v":67},{"$f":"INPUT!O66","v":53},{"$f":"INPUT!AH66","v":59},{"$f":"INPUT!AJ66","v":2.2999999999999998}]
[{"$f":"INPUT!A:A","v":45196.037465277775},{"$f":"INPUT!K67","v":66.900000000000006},{"$f":"INPUT!O67","v":53},{"$f":"INPUT!AH67","v":59},{"$f":"INPUT!AJ67","v":2.2000000000000002}]
[{"$f":"INPUT!A:A","v":45196.038171296299},{"$f":"INPUT!K68","v":66.8},{"$f":"INPUT!O68","v":53.1},{"$f":"INPUT!AH68","v":59},{"$f":"INPUT!AJ68","v":2.2000000000000002}]
[{"$f":"INPUT!A:A","v":45196.038865740738},{"$f":"INPUT!K69","v":66.8},{"$f":"INPUT!O69","v":53.1},{"$f":"INPUT!AH69","v":59},{"$f":"INPUT!AJ69","v":2.2000000000000002}]
[{"$f":"INPUT!A:A","v":45196.039571759262},{"$f":"INPUT!K70","v":66.7},{"$f":"INPUT!O70","v":53.1},{"$f":"INPUT!AH70","v":59},{"$f":"INPUT!AJ70","v":2.2000000000000002}]
[{"$f":"INPUT!A:A","v":45196.040289351855},{"$f":"INPUT!K71","v":66.599999999999994},{"$f":"INPUT!O71","v":53},{"$f":"INPUT!AH71","v":59},{"$f":"INPUT!AJ71","v":2.2000000000000002}]
[{"$f":"INPUT!A:A","v":45196.040995370371},{"$f":"INPUT!K72","v":66.599999999999994},{"$f":"INPUT!O72","v":53},{"$f":"INPUT!AH72","v":59},{"$f":"INPUT!AJ72","v":2.2999999999999998}]
[{"$f":"INPUT!A:A","v":45196.041701388887},{"$f":"INPUT!K73","v":66.5},{"$f":"INPUT!O73","v":53},{"$f":"INPUT!AH73","v":59},{"$f":"INPUT!AJ73","v":2.2999999999999998}]
[{"$f":"INPUT!A:A","v":45196.042395833334},{"$f":"INPUT!K74","v":66.400000000000006},{"$f":"INPUT!O74","v":53},{"$f":"INPUT!AH74","v":59},{"$f":"INPUT!AJ74","v":2.4}]
[{"$f":"INPUT!A:A","v":45196.04310185185},{"$f":"INPUT!K75","v":66.3},{"$f":"INPUT!O75","v":53},{"$f":"INPUT!AH75","v":59},{"$f":"INPUT!AJ75","v":2.2999999999999998}]
[{"$f":"INPUT!A:A","v":45196.043807870374},{"$f":"INPUT!K76","v":66.3},{"$f":"INPUT!O76","v":53},{"$f":"INPUT!AH76","v":59},{"$f":"INPUT!AJ76","v":2.2999999999999998}]
[{"$f":"INPUT!A:A","v":45196.04451388889},{"$f":"INPUT!K77","v":66.2},{"$f":"INPUT!O77","v":53},{"$f":"INPUT!AH77","v":59},{"$f":"INPUT!AJ77","v":2.2999999999999998}]
[{"$f":"INPUT!A:A","v":45196.045219907406},{"$f":"INPUT!K78","v":66.2},{"$f":"INPUT!O78","v":53},{"$f":"INPUT!AH78","v":59},{"$f":"INPUT!AJ78","v":2.2999999999999998}]
[{"$f":"INPUT!A:A","v":45196.045925925922},{"$f":"INPUT!K79","v":66.099999999999994},{"$f":"INPUT!O79","v":53},{"$f":"INPUT!AH79","v":59},{"$f":"INPUT!AJ79","v":2.2999999999999998}]
[{"$f":"INPUT!A:A","v":45196.046643518515},{"$f":"INPUT!K80","v":66},{"$f":"INPUT!O80","v":53},{"$f":"INPUT!AH80","v":59},{"$f":"INPUT!AJ80","v":2.2999999999999998}]
[{"$f":"INPUT!A:A","v":45196.047337962962},{"$f":"INPUT!K81","v":66},{"$f":"INPUT!O81","v":53},{"$f":"INPUT!AH81","v":59},{"$f":"INPUT!AJ81","v":2.2999999999999998}]
[{"$f":"INPUT!A:A","v":45196.048043981478},{"$f":"INPUT!K82","v":65.900000000000006},{"$f":"INPUT!O82","v":53},{"$f":"INPUT!AH82","v":59},{"$f":"INPUT!AJ82","v":2.2999999999999998}]
[{"$f":"INPUT!A:A","v":45196.048750000002},{"$f":"INPUT!K83","v":65.900000000000006},{"$f":"INPUT!O83","v":53},{"$f":"INPUT!AH83","v":59},{"$f":"INPUT!AJ83","v":2.2999999999999998}]
[{"$f":"INPUT!A:A","v":45196.049444444441},{"$f":"INPUT!K84","v":65.8},{"$f":"INPUT!O84","v":53},{"$f":"INPUT!AH84","v":59},{"$f":"INPUT!AJ84","v":2.2999999999999998}]
[{"$f":"INPUT!A:A","v":45196.050150462965},{"$f":"INPUT!K85","v":65.7},{"$f":"INPUT!O85","v":53},{"$f":"INPUT!AH85","v":59},{"$f":"INPUT!AJ85","v":2.2999999999999998}]
[{"$f":"INPUT!A:A","v":45196.050856481481},{"$f":"INPUT!K86","v":65.7},{"$f":"INPUT!O86","v":53},{"$f":"INPUT!AH86","v":59},{"$f":"INPUT!AJ86","v":2.2999999999999998}]
[{"$f":"INPUT!A:A","v":45196.051562499997},{"$f":"INPUT!K87","v":65.599999999999994},{"$f":"INPUT!O87","v":53},{"$f":"INPUT!AH87","v":59},{"$f":"INPUT!AJ87","v":2.4}]
[{"$f":"INPUT!A:A","v":45196.052256944444},{"$f":"INPUT!K88","v":65.5},{"$f":"INPUT!O88","v":53},{"$f":"INPUT!AH88","v":59},{"$f":"INPUT!AJ88","v":2.2999999999999998}]
[{"$f":"INPUT!A:A","v":45196.05296296296},{"$f":"INPUT!K89","v":65.5},{"$f":"INPUT!O89","v":53},{"$f":"INPUT!AH89","v":59},{"$f":"INPUT!AJ89","v":2.2999999999999998}]
[{"$f":"INPUT!A:A","v":45196.05369212963},{"$f":"INPUT!K90","v":65.400000000000006},{"$f":"INPUT!O90","v":53},{"$f":"INPUT!AH90","v":59},{"$f":"INPUT!AJ90","v":2.4}]
[{"$f":"INPUT!A:A","v":45196.054398148146},{"$f":"INPUT!K91","v":65.3},{"$f":"INPUT!O91","v":53},{"$f":"INPUT!AH91","v":59},{"$f":"INPUT!AJ91","v":2.2999999999999998}]
[{"$f":"INPUT!A:A","v":45196.055092592593},{"$f":"INPUT!K92","v":65.3},{"$f":"INPUT!O92","v":53},{"$f":"INPUT!AH92","v":59},{"$f":"INPUT!AJ92","v":2.2999999999999998}]
[{"$f":"INPUT!A:A","v":45196.055798611109},{"$f":"INPUT!K93","v":65.2},{"$f":"INPUT!O93","v":53},{"$f":"INPUT!AH93","v":59},{"$f":"INPUT!AJ93","v":2.2999999999999998}]
[{"$f":"INPUT!A:A","v":45196.056493055556},{"$f":"INPUT!K94","v":65.099999999999994},{"$f":"INPUT!O94","v":53},{"$f":"INPUT!AH94","v":59},{"$f":"INPUT!AJ94","v":2.2999999999999998}]
[{"$f":"INPUT!A:A","v":45196.057187500002},{"$f":"INPUT!K95","v":65.099999999999994},{"$f":"INPUT!O95","v":53},{"$f":"INPUT!AH95","v":59},{"$f":"INPUT!AJ95","v":2.2999999999999998}]
[{"$f":"INPUT!A:A","v":45196.057893518519},{"$f":"INPUT!K96","v":65},{"$f":"INPUT!O96","v":53},{"$f":"INPUT!AH96","v":59},{"$f":"INPUT!AJ96","v":2.2999999999999998}]
[{"$f":"INPUT!A:A","v":45196.058599537035},{"$f":"INPUT!K97","v":64.900000000000006},{"$f":"INPUT!O97","v":53},{"$f":"INPUT!AH97","v":59},{"$f":"INPUT!AJ97","v":2.2999999999999998}]
[{"$f":"INPUT!A:A","v":45196.059305555558},{"$f":"INPUT!K98","v":64.900000000000006},{"$f":"INPUT!O98","v":53},{"$f":"INPUT!AH98","v":59},{"$f":"INPUT!AJ98","v":2.4}]
[{"$f":"INPUT!A:A","v":45196.060011574074},{"$f":"INPUT!K99","v":64.8},{"$f":"INPUT!O99","v":53},{"$f":"INPUT!AH99","v":59},{"$f":"INPUT!AJ99","v":2.2999999999999998}]
[{"$f":"INPUT!A:A","v":45196.060717592591},{"$f":"INPUT!K100","v":64.8},{"$f":"INPUT!O100","v":53},{"$f":"INPUT!AH100","v":59},{"$f":"INPUT!AJ100","v":2.2999999999999998}]
[{"$f":"INPUT!A:A","v":45196.061423611114},{"$f":"INPUT!K101","v":64.7},{"$f":"INPUT!O101","v":53},{"$f":"INPUT!AH101","v":59},{"$f":"INPUT!AJ101","v":2.2999999999999998}]
[{"$f":"INPUT!A:A","v":45196.06212962963},{"$f":"INPUT!K102","v":64.599999999999994},{"$f":"INPUT!O102","v":53},{"$f":"INPUT!AH102","v":59},{"$f":"INPUT!AJ102","v":2.4}]
[{"$f":"INPUT!A:A","v":45196.062835648147},{"$f":"INPUT!K103","v":64.599999999999994},{"$f":"INPUT!O103","v":53},{"$f":"INPUT!AH103","v":59},{"$f":"INPUT!AJ103","v":2.2999999999999998}]
[{"$f":"INPUT!A:A","v":45196.06354166667},{"$f":"INPUT!K104","v":64.5},{"$f":"INPUT!O104","v":53},{"$f":"INPUT!AH104","v":59},{"$f":"INPUT!AJ104","v":2.2000000000000002}]
[{"$f":"INPUT!A:A","v":45196.064247685186},{"$f":"INPUT!K105","v":64.400000000000006},{"$f":"INPUT!O105","v":53},{"$f":"INPUT!AH105","v":59},{"$f":"INPUT!AJ105","v":2.4}]
[{"$f":"INPUT!A:A","v":45196.064953703702},{"$f":"INPUT!K106","v":64.400000000000006},{"$f":"INPUT!O106","v":53},{"$f":"INPUT!AH106","v":59},{"$f":"INPUT!AJ106","v":2.4}]
[{"$f":"INPUT!A:A","v":45196.065648148149},{"$f":"INPUT!K107","v":64.3},{"$f":"INPUT!O107","v":53},{"$f":"INPUT!AH107","v":59},{"$f":"INPUT!AJ107","v":2.2999999999999998}]
[{"$f":"INPUT!A:A","v":45196.066354166665},{"$f":"INPUT!K108","v":64.2},{"$f":"INPUT!O108","v":53},{"$f":"INPUT!AH108","v":59},{"$f":"INPUT!AJ108","v":2.2999999999999998}]
[{"$f":"INPUT!A:A","v":45196.067060185182},{"$f":"INPUT!K109","v":64.099999999999994},{"$f":"INPUT!O109","v":52.9},{"$f":"INPUT!AH109","v":59},{"$f":"INPUT!AJ109","v":2.4}]
[{"$f":"INPUT!A:A","v":45196.067766203705},{"$f":"INPUT!K110","v":64.099999999999994},{"$f":"INPUT!O110","v":52.9},{"$f":"INPUT!AH110","v":59},{"$f":"INPUT!AJ110","v":2.4}]
[{"$f":"INPUT!A:A","v":45196.068472222221},{"$f":"INPUT!K111","v":64},{"$f":"INPUT!O111","v":52.9},{"$f":"INPUT!AH111","v":59},{"$f":"INPUT!AJ111","v":2.2999999999999998}]
[{"$f":"INPUT!A:A","v":45196.069178240738},{"$f":"INPUT!K112","v":63.9},{"$f":"INPUT!O112","v":52.9},{"$f":"INPUT!AH112","v":59},{"$f":"INPUT!AJ112","v":2.2999999999999998}]
[{"$f":"INPUT!A:A","v":45196.069872685184},{"$f":"INPUT!K113","v":63.9},{"$f":"INPUT!O113","v":52.9},{"$f":"INPUT!AH113","v":59},{"$f":"INPUT!AJ113","v":2.2999999999999998}]
[{"$f":"INPUT!A:A","v":45196.0705787037},{"$f":"INPUT!K114","v":63.8},{"$f":"INPUT!O114","v":53},{"$f":"INPUT!AH114","v":59},{"$f":"INPUT!AJ114","v":2.2999999999999998}]
[{"$f":"INPUT!A:A","v":45196.071284722224},{"$f":"INPUT!K115","v":63.7},{"$f":"INPUT!O115","v":53},{"$f":"INPUT!AH115","v":59},{"$f":"INPUT!AJ115","v":2.2999999999999998}]
[{"$f":"INPUT!A:A","v":45196.07199074074},{"$f":"INPUT!K116","v":63.7},{"$f":"INPUT!O116","v":52.9},{"$f":"INPUT!AH116","v":59},{"$f":"INPUT!AJ116","v":2.4}]
[{"$f":"INPUT!A:A","v":45196.072696759256},{"$f":"INPUT!K117","v":63.6},{"$f":"INPUT!O117","v":52.9},{"$f":"INPUT!AH117","v":59},{"$f":"INPUT!AJ117","v":2.2999999999999998}]
[{"$f":"INPUT!A:A","v":45196.07340277778},{"$f":"INPUT!K118","v":63.5},{"$f":"INPUT!O118","v":52.9},{"$f":"INPUT!AH118","v":59},{"$f":"INPUT!AJ118","v":2.2999999999999998}]
[{"$f":"INPUT!A:A","v":45196.074108796296},{"$f":"INPUT!K119","v":63.5},{"$f":"INPUT!O119","v":52.9},{"$f":"INPUT!AH119","v":59},{"$f":"INPUT!AJ119","v":2.2999999999999998}]
[{"$f":"INPUT!A:A","v":45196.074826388889},{"$f":"INPUT!K120","v":63.4},{"$f":"INPUT!O120","v":52.9},{"$f":"INPUT!AH120","v":59},{"$f":"INPUT!AJ120","v":2.2999999999999998}]
[{"$f":"INPUT!A:A","v":45196.075520833336},{"$f":"INPUT!K121","v":63.4},{"$f":"INPUT!O121","v":53},{"$f":"INPUT!AH121","v":59},{"$f":"INPUT!AJ121","v":2.2999999999999998}]
[{"$f":"INPUT!A:A","v":45196.076226851852},{"$f":"INPUT!K122","v":63.3},{"$f":"INPUT!O122","v":53},{"$f":"INPUT!AH122","v":59},{"$f":"INPUT!AJ122","v":2.2000000000000002}]
[{"$f":"INPUT!A:A","v":45196.076921296299},{"$f":"INPUT!K123","v":63.2},{"$f":"INPUT!O123","v":52.9},{"$f":"INPUT!AH123","v":59},{"$f":"INPUT!AJ123","v":2.2999999999999998}]
[{"$f":"INPUT!A:A","v":45196.077627314815},{"$f":"INPUT!K124","v":63.2},{"$f":"INPUT!O124","v":52.9},{"$f":"INPUT!AH124","v":59},{"$f":"INPUT!AJ124","v":2.2999999999999998}]
[{"$f":"INPUT!A:A","v":45196.078333333331},{"$f":"INPUT!K125","v":63.1},{"$f":"INPUT!O125","v":52.9},{"$f":"INPUT!AH125","v":59},{"$f":"INPUT!AJ125","v":2.2999999999999998}]
[{"$f":"INPUT!A:A","v":45196.079027777778},{"$f":"INPUT!K126","v":63},{"$f":"INPUT!O126","v":52.9},{"$f":"INPUT!AH126","v":59},{"$f":"INPUT!AJ126","v":2.2999999999999998}]
[{"$f":"INPUT!A:A","v":45196.079733796294},{"$f":"INPUT!K127","v":63},{"$f":"INPUT!O127","v":52.9},{"$f":"INPUT!AH127","v":59},{"$f":"INPUT!AJ127","v":2.2999999999999998}]
[{"$f":"INPUT!A:A","v":45196.080439814818},{"$f":"INPUT!K128","v":62.9},{"$f":"INPUT!O128","v":52.9},{"$f":"INPUT!AH128","v":59},{"$f":"INPUT!AJ128","v":2.2999999999999998}]
[{"$f":"INPUT!A:A","v":45196.081134259257},{"$f":"INPUT!K129","v":62.9},{"$f":"INPUT!O129","v":52.9},{"$f":"INPUT!AH129","v":59},{"$f":"INPUT!AJ129","v":2.2000000000000002}]
[{"$f":"INPUT!A:A","v":45196.08185185185},{"$f":"INPUT!K130","v":62.8},{"$f":"INPUT!O130","v":52.9},{"$f":"INPUT!AH130","v":59},{"$f":"INPUT!AJ130","v":1.8}]
[{"$f":"INPUT!A:A","v":45196.082557870373},{"$f":"INPUT!K131","v":62.7},{"$f":"INPUT!O131","v":52.9},{"$f":"INPUT!AH131","v":59},{"$f":"INPUT!AJ131","v":1.9}]
[{"$f":"INPUT!A:A","v":45196.083252314813},{"$f":"INPUT!K132","v":62.6},{"$f":"INPUT!O132","v":52.9},{"$f":"INPUT!AH132","v":59},{"$f":"INPUT!AJ132","v":1.8}]
[{"$f":"INPUT!A:A","v":45196.083958333336},{"$f":"INPUT!K133","v":62.5},{"$f":"INPUT!O133","v":52.9},{"$f":"INPUT!AH133","v":59},{"$f":"INPUT!AJ133","v":1.8}]
[{"$f":"INPUT!A:A","v":45196.084664351853},{"$f":"INPUT!K134","v":62.5},{"$f":"INPUT!O134","v":52.9},{"$f":"INPUT!AH134","v":59},{"$f":"INPUT!AJ134","v":1.9}]
[{"$f":"INPUT!A:A","v":45196.085358796299},{"$f":"INPUT!K135","v":62.4},{"$f":"INPUT!O135","v":52.9},{"$f":"INPUT!AH135","v":59},{"$f":"INPUT!AJ135","v":1.9}]
[{"$f":"INPUT!A:A","v":45196.086064814815},{"$f":"INPUT!K136","v":62.3},{"$f":"INPUT!O136","v":52.9},{"$f":"INPUT!AH136","v":59},{"$f":"INPUT!AJ136","v":1.9}]
[{"$f":"INPUT!A:A","v":45196.086759259262},{"$f":"INPUT!K137","v":62.3},{"$f":"INPUT!O137","v":52.9},{"$f":"INPUT!AH137","v":59},{"$f":"INPUT!AJ137","v":1.7}]
[{"$f":"INPUT!A:A","v":45196.087465277778},{"$f":"INPUT!K138","v":62.2},{"$f":"INPUT!O138","v":52.9},{"$f":"INPUT!AH138","v":59},{"$f":"INPUT!AJ138","v":1.9}]
[{"$f":"INPUT!A:A","v":45196.088171296295},{"$f":"INPUT!K139","v":62.1},{"$f":"INPUT!O139","v":52.9},{"$f":"INPUT!AH139","v":59},{"$f":"INPUT!AJ139","v":2}]
[{"$f":"INPUT!A:A","v":45196.088877314818},{"$f":"INPUT!K140","v":62},{"$f":"INPUT!O140","v":52.8},{"$f":"INPUT!AH140","v":59},{"$f":"INPUT!AJ140","v":2}]
[{"$f":"INPUT!A:A","v":45196.089583333334},{"$f":"INPUT!K141","v":61.9},{"$f":"INPUT!O141","v":52.8},{"$f":"INPUT!AH141","v":59},{"$f":"INPUT!AJ141","v":2.2000000000000002}]
[{"$f":"INPUT!A:A","v":45196.090289351851},{"$f":"INPUT!K142","v":61.9},{"$f":"INPUT!O142","v":52.9},{"$f":"INPUT!AH142","v":59},{"$f":"INPUT!AJ142","v":2.2999999999999998}]
[{"$f":"INPUT!A:A","v":45196.090995370374},{"$f":"INPUT!K143","v":61.8},{"$f":"INPUT!O143","v":52.9},{"$f":"INPUT!AH143","v":59},{"$f":"INPUT!AJ143","v":2.4}]
[{"$f":"INPUT!A:A","v":45196.091689814813},{"$f":"INPUT!K144","v":61.8},{"$f":"INPUT!O144","v":52.9},{"$f":"INPUT!AH144","v":59},{"$f":"INPUT!AJ144","v":2.2999999999999998}]
[{"$f":"INPUT!A:A","v":45196.092395833337},{"$f":"INPUT!K145","v":61.7},{"$f":"INPUT!O145","v":52.9},{"$f":"INPUT!AH145","v":59},{"$f":"INPUT!AJ145","v":2.2000000000000002}]
[{"$f":"INPUT!A:A","v":45196.093101851853},{"$f":"INPUT!K146","v":61.7},{"$f":"INPUT!O146","v":52.9},{"$f":"INPUT!AH146","v":59},{"$f":"INPUT!AJ146","v":2.2999999999999998}]
[{"$f":"INPUT!A:A","v":45196.0937962963},{"$f":"INPUT!K147","v":61.6},{"$f":"INPUT!O147","v":52.8},{"$f":"INPUT!AH147","v":59},{"$f":"INPUT!AJ147","v":2.2999999999999998}]
[{"$f":"INPUT!A:A","v":45196.094502314816},{"$f":"INPUT!K148","v":61.5},{"$f":"INPUT!O148","v":52.8},{"$f":"INPUT!AH148","v":59},{"$f":"INPUT!AJ148","v":2.2000000000000002}]
[{"$f":"INPUT!A:A","v":45196.095219907409},{"$f":"INPUT!K149","v":61.5},{"$f":"INPUT!O149","v":52.8},{"$f":"INPUT!AH149","v":59},{"$f":"INPUT!AJ149","v":2.2000000000000002}]
[{"$f":"INPUT!A:A","v":45196.095914351848},{"$f":"INPUT!K150","v":61.4},{"$f":"INPUT!O150","v":52.8},{"$f":"INPUT!AH150","v":59},{"$f":"INPUT!AJ150","v":2.2999999999999998}]
[{"$f":"INPUT!A:A","v":45196.096620370372},{"$f":"INPUT!K151","v":61.4},{"$f":"INPUT!O151","v":52.8},{"$f":"INPUT!AH151","v":59},{"$f":"INPUT!AJ151","v":2.2999999999999998}]
[{"$f":"INPUT!A:A","v":45196.097314814811},{"$f":"INPUT!K152","v":61.3},{"$f":"INPUT!O152","v":52.8},{"$f":"INPUT!AH152","v":59},{"$f":"INPUT!AJ152","v":2.2000000000000002}]
[{"$f":"INPUT!A:A","v":45196.098020833335},{"$f":"INPUT!K153","v":61.2},{"$f":"INPUT!O153","v":52.8},{"$f":"INPUT!AH153","v":59},{"$f":"INPUT!AJ153","v":2.2000000000000002}]
[{"$f":"INPUT!A:A","v":45196.098726851851},{"$f":"INPUT!K154","v":61.2},{"$f":"INPUT!O154","v":52.8},{"$f":"INPUT!AH154","v":59},{"$f":"INPUT!AJ154","v":2.2999999999999998}]
[{"$f":"INPUT!A:A","v":45196.099432870367},{"$f":"INPUT!K155","v":61.1},{"$f":"INPUT!O155","v":52.8},{"$f":"INPUT!AH155","v":59},{"$f":"INPUT!AJ155","v":2.2999999999999998}]
[{"$f":"INPUT!A:A","v":45196.100127314814},{"$f":"INPUT!K156","v":61},{"$f":"INPUT!O156","v":52.8},{"$f":"INPUT!AH156","v":59},{"$f":"INPUT!AJ156","v":2.2000000000000002}]
[{"$f":"INPUT!A:A","v":45196.10083333333},{"$f":"INPUT!K157","v":61},{"$f":"INPUT!O157","v":52.8},{"$f":"INPUT!AH157","v":59},{"$f":"INPUT!AJ157","v":2.2000000000000002}]
[{"$f":"INPUT!A:A","v":45196.101539351854},{"$f":"INPUT!K158","v":60.9},{"$f":"INPUT!O158","v":52.8},{"$f":"INPUT!AH158","v":59},{"$f":"INPUT!AJ158","v":2.4}]
[{"$f":"INPUT!A:A","v":45196.10224537037},{"$f":"INPUT!K159","v":60.8},{"$f":"INPUT!O159","v":52.7},{"$f":"INPUT!AH159","v":59},{"$f":"INPUT!AJ159","v":2.4}]
[{"$f":"INPUT!A:A","v":45196.102951388886},{"$f":"INPUT!K160","v":60.7},{"$f":"INPUT!O160","v":52.8},{"$f":"INPUT!AH160","v":59},{"$f":"INPUT!AJ160","v":2.2000000000000002}]
[{"$f":"INPUT!A:A","v":45196.10365740741},{"$f":"INPUT!K161","v":60.7},{"$f":"INPUT!O161","v":52.8},{"$f":"INPUT!AH161","v":59},{"$f":"INPUT!AJ161","v":2.2999999999999998}]
[{"$f":"INPUT!A:A","v":45196.104363425926},{"$f":"INPUT!K162","v":60.6},{"$f":"INPUT!O162","v":52.8},{"$f":"INPUT!AH162","v":59},{"$f":"INPUT!AJ162","v":2.2999999999999998}]
[{"$f":"INPUT!A:A","v":45196.105069444442},{"$f":"INPUT!K163","v":60.6},{"$f":"INPUT!O163","v":52.8},{"$f":"INPUT!AH163","v":59},{"$f":"INPUT!AJ163","v":2.2000000000000002}]
[{"$f":"INPUT!A:A","v":45196.105763888889},{"$f":"INPUT!K164","v":60.5},{"$f":"INPUT!O164","v":52.8},{"$f":"INPUT!AH164","v":59},{"$f":"INPUT!AJ164","v":2.2000000000000002}]
[{"$f":"INPUT!A:A","v":45196.106458333335},{"$f":"INPUT!K165","v":60.4},{"$f":"INPUT!O165","v":52.8},{"$f":"INPUT!AH165","v":59},{"$f":"INPUT!AJ165","v":2.2999999999999998}]
[{"$f":"INPUT!A:A","v":45196.107164351852},{"$f":"INPUT!K166","v":60.4},{"$f":"INPUT!O166","v":52.7},{"$f":"INPUT!AH166","v":59},{"$f":"INPUT!AJ166","v":2.2999999999999998}]
[{"$f":"INPUT!A:A","v":45196.107870370368},{"$f":"INPUT!K167","v":60.3},{"$f":"INPUT!O167","v":52.8},{"$f":"INPUT!AH167","v":59},{"$f":"INPUT!AJ167","v":2.2000000000000002}]
[{"$f":"INPUT!A:A","v":45196.108564814815},{"$f":"INPUT!K168","v":60.2},{"$f":"INPUT!O168","v":52.8},{"$f":"INPUT!AH168","v":59},{"$f":"INPUT!AJ168","v":2.2999999999999998}]
[{"$f":"INPUT!A:A","v":45196.109293981484},{"$f":"INPUT!K169","v":60.1},{"$f":"INPUT!O169","v":52.7},{"$f":"INPUT!AH169","v":59},{"$f":"INPUT!AJ169","v":2.2999999999999998}]
[{"$f":"INPUT!A:A","v":45196.11},{"$f":"INPUT!K170","v":60.1},{"$f":"INPUT!O170","v":52.7},{"$f":"INPUT!AH170","v":59},{"$f":"INPUT!AJ170","v":2.2999999999999998}]
[{"$f":"INPUT!A:A","v":45196.110706018517},{"$f":"INPUT!K171","v":60},{"$f":"INPUT!O171","v":52.7},{"$f":"INPUT!AH171","v":59},{"$f":"INPUT!AJ171","v":2.2999999999999998}]
[{"$f":"INPUT!A:A","v":45196.111400462964},{"$f":"INPUT!K172","v":59.9},{"$f":"INPUT!O172","v":52.7},{"$f":"INPUT!AH172","v":59},{"$f":"INPUT!AJ172","v":2.2999999999999998}]
[{"$f":"INPUT!A:A","v":45196.11210648148},{"$f":"INPUT!K173","v":59.9},{"$f":"INPUT!O173","v":52.7},{"$f":"INPUT!AH173","v":59},{"$f":"INPUT!AJ173","v":2.2999999999999998}]
[{"$f":"INPUT!A:A","v":45196.112812500003},{"$f":"INPUT!K174","v":59.8},{"$f":"INPUT!O174","v":52.7},{"$f":"INPUT!AH174","v":59},{"$f":"INPUT!AJ174","v":2.2999999999999998}]
[{"$f":"INPUT!A:A","v":45196.113518518519},{"$f":"INPUT!K175","v":59.7},{"$f":"INPUT!O175","v":52.7},{"$f":"INPUT!AH175","v":59},{"$f":"INPUT!AJ175","v":2.2999999999999998}]
[{"$f":"INPUT!A:A","v":45196.114212962966},{"$f":"INPUT!K176","v":59.6},{"$f":"INPUT!O176","v":52.7},{"$f":"INPUT!AH176","v":59},{"$f":"INPUT!AJ176","v":2.2999999999999998}]
[{"$f":"INPUT!A:A","v":45196.114918981482},{"$f":"INPUT!K177","v":59.5},{"$f":"INPUT!O177","v":52.7},{"$f":"INPUT!AH177","v":59},{"$f":"INPUT!AJ177","v":2.2999999999999998}]
[{"$f":"INPUT!A:A","v":45196.115624999999},{"$f":"INPUT!K178","v":59.5},{"$f":"INPUT!O178","v":52.7},{"$f":"INPUT!AH178","v":59},{"$f":"INPUT!AJ178","v":2.2999999999999998}]
[{"$f":"INPUT!A:A","v":45196.116342592592},{"$f":"INPUT!K179","v":59.4},{"$f":"INPUT!O179","v":52.7},{"$f":"INPUT!AH179","v":59},{"$f":"INPUT!AJ179","v":2.2999999999999998}]
[{"$f":"INPUT!A:A","v":45196.117048611108},{"$f":"INPUT!K180","v":59.3},{"$f":"INPUT!O180","v":52.7},{"$f":"INPUT!AH180","v":59},{"$f":"INPUT!AJ180","v":2.4}]
[{"$f":"INPUT!A:A","v":45196.117743055554},{"$f":"INPUT!K181","v":59.2},{"$f":"INPUT!O181","v":52.6},{"$f":"INPUT!AH181","v":59},{"$f":"INPUT!AJ181","v":2.2999999999999998}]
[{"$f":"INPUT!A:A","v":45196.118449074071},{"$f":"INPUT!K182","v":59.2},{"$f":"INPUT!O182","v":52.7},{"$f":"INPUT!AH182","v":59},{"$f":"INPUT!AJ182","v":2.2999999999999998}]
[{"$f":"INPUT!A:A","v":45196.119155092594},{"$f":"INPUT!K183","v":59.1},{"$f":"INPUT!O183","v":52.7},{"$f":"INPUT!AH183","v":59},{"$f":"INPUT!AJ183","v":2.4}]
[{"$f":"INPUT!A:A","v":45196.11986111111},{"$f":"INPUT!K184","v":59},{"$f":"INPUT!O184","v":52.6},{"$f":"INPUT!AH184","v":59},{"$f":"INPUT!AJ184","v":2.2999999999999998}]
[{"$f":"INPUT!A:A","v":45196.120555555557},{"$f":"INPUT!K185","v":59},{"$f":"INPUT!O185","v":52.7},{"$f":"INPUT!AH185","v":59},{"$f":"INPUT!AJ185","v":2.2999999999999998}]
[{"$f":"INPUT!A:A","v":45196.121261574073},{"$f":"INPUT!K186","v":58.9},{"$f":"INPUT!O186","v":52.7},{"$f":"INPUT!AH186","v":59},{"$f":"INPUT!AJ186","v":2.2999999999999998}]
[{"$f":"INPUT!A:A","v":45196.121967592589},{"$f":"INPUT!K187","v":58.8},{"$f":"INPUT!O187","v":52.6},{"$f":"INPUT!AH187","v":59},{"$f":"INPUT!AJ187","v":2.4}]
[{"$f":"INPUT!A:A","v":45196.122673611113},{"$f":"INPUT!K188","v":58.8},{"$f":"INPUT!O188","v":52.6},{"$f":"INPUT!AH188","v":59},{"$f":"INPUT!AJ188","v":2.4}]
[{"$f":"INPUT!A:A","v":45196.123391203706},{"$f":"INPUT!K189","v":58.7},{"$f":"INPUT!O189","v":52.6},{"$f":"INPUT!AH189","v":59},{"$f":"INPUT!AJ189","v":2.2999999999999998}]
[{"$f":"INPUT!A:A","v":45196.124085648145},{"$f":"INPUT!K190","v":58.6},{"$f":"INPUT!O190","v":52.6},{"$f":"INPUT!AH190","v":59},{"$f":"INPUT!AJ190","v":2.2999999999999998}]
[{"$f":"INPUT!A:A","v":45196.124791666669},{"$f":"INPUT!K191","v":58.5},{"$f":"INPUT!O191","v":52.6},{"$f":"INPUT!AH191","v":59},{"$f":"INPUT!AJ191","v":2.2999999999999998}]
[{"$f":"INPUT!A:A","v":45196.125486111108},{"$f":"INPUT!K192","v":58.5},{"$f":"INPUT!O192","v":52.6},{"$f":"INPUT!AH192","v":59},{"$f":"INPUT!AJ192","v":2.2999999999999998}]
[{"$f":"INPUT!A:A","v":45196.126192129632},{"$f":"INPUT!K193","v":58.4},{"$f":"INPUT!O193","v":52.6},{"$f":"INPUT!AH193","v":59},{"$f":"INPUT!AJ193","v":1.7}]
[{"$f":"INPUT!A:A","v":45196.126898148148},{"$f":"INPUT!K194","v":58.3},{"$f":"INPUT!O194","v":52.6},{"$f":"INPUT!AH194","v":59},{"$f":"INPUT!AJ194","v":1.9}]
[{"$f":"INPUT!A:A","v":45196.127604166664},{"$f":"INPUT!K195","v":58.2},{"$f":"INPUT!O195","v":52.6},{"$f":"INPUT!AH195","v":59},{"$f":"INPUT!AJ195","v":1.9}]
[{"$f":"INPUT!A:A","v":45196.128310185188},{"$f":"INPUT!K196","v":58.2},{"$f":"INPUT!O196","v":52.6},{"$f":"INPUT!AH196","v":59},{"$f":"INPUT!AJ196","v":1.8}]
[{"$f":"INPUT!A:A","v":45196.129016203704},{"$f":"INPUT!K197","v":58.1},{"$f":"INPUT!O197","v":52.6},{"$f":"INPUT!AH197","v":59},{"$f":"INPUT!AJ197","v":1.7}]
[{"$f":"INPUT!A:A","v":45196.12972222222},{"$f":"INPUT!K198","v":58},{"$f":"INPUT!O198","v":52.6},{"$f":"INPUT!AH198","v":59},{"$f":"INPUT!AJ198","v":2}]
[{"$f":"INPUT!A:A","v":45196.130428240744},{"$f":"INPUT!K199","v":57.9},{"$f":"INPUT!O199","v":52.6},{"$f":"INPUT!AH199","v":59},{"$f":"INPUT!AJ199","v":2}]
[{"$f":"INPUT!A:A","v":45196.13113425926},{"$f":"INPUT!K200","v":57.9},{"$f":"INPUT!O200","v":52.6},{"$f":"INPUT!AH200","v":59},{"$f":"INPUT!AJ200","v":1.7}]
[{"$f":"INPUT!A:A","v":45196.131828703707},{"$f":"INPUT!K201","v":57.8},{"$f":"INPUT!O201","v":52.6},{"$f":"INPUT!AH201","v":59},{"$f":"INPUT!AJ201","v":1.7}]
[{"$f":"INPUT!A:A","v":45196.132534722223},{"$f":"INPUT!K202","v":57.7},{"$f":"INPUT!O202","v":52.6},{"$f":"INPUT!AH202","v":59},{"$f":"INPUT!AJ202","v":2}]
[{"$f":"INPUT!A:A","v":45196.133229166669},{"$f":"INPUT!K203","v":57.7},{"$f":"INPUT!O203","v":52.5},{"$f":"INPUT!AH203","v":59},{"$f":"INPUT!AJ203","v":2}]
[{"$f":"INPUT!A:A","v":45196.133935185186},{"$f":"INPUT!K204","v":57.6},{"$f":"INPUT!O204","v":52.6},{"$f":"INPUT!AH204","v":59},{"$f":"INPUT!AJ204","v":2.2000000000000002}]
[{"$f":"INPUT!A:A","v":45196.134641203702},{"$f":"INPUT!K205","v":57.5},{"$f":"INPUT!O205","v":52.6},{"$f":"INPUT!AH205","v":59},{"$f":"INPUT!AJ205","v":2.2999999999999998}]
[{"$f":"INPUT!A:A","v":45196.135347222225},{"$f":"INPUT!K206","v":57.5},{"$f":"INPUT!O206","v":52.6},{"$f":"INPUT!AH206","v":59},{"$f":"INPUT!AJ206","v":2.2999999999999998}]
[{"$f":"INPUT!A:A","v":45196.136053240742},{"$f":"INPUT!K207","v":57.4},{"$f":"INPUT!O207","v":52.6},{"$f":"INPUT!AH207","v":59},{"$f":"INPUT!AJ207","v":2.2999999999999998}]
[{"$f":"INPUT!A:A","v":45196.136759259258},{"$f":"INPUT!K208","v":57.3},{"$f":"INPUT!O208","v":52.6},{"$f":"INPUT!AH208","v":59},{"$f":"INPUT!AJ208","v":2.2000000000000002}]
[{"$f":"INPUT!A:A","v":45196.137488425928},{"$f":"INPUT!K209","v":57.3},{"$f":"INPUT!O209","v":52.6},{"$f":"INPUT!AH209","v":59},{"$f":"INPUT!AJ209","v":2.2999999999999998}]
[{"$f":"INPUT!A:A","v":45196.138182870367},{"$f":"INPUT!K210","v":57.2},{"$f":"INPUT!O210","v":52.6},{"$f":"INPUT!AH210","v":59},{"$f":"INPUT!AJ210","v":2.2999999999999998}]
[{"$f":"INPUT!A:A","v":45196.138877314814},{"$f":"INPUT!K211","v":57.1},{"$f":"INPUT!O211","v":52.6},{"$f":"INPUT!AH211","v":59},{"$f":"INPUT!AJ211","v":2.2000000000000002}]
[{"$f":"INPUT!A:A","v":45196.13958333333},{"$f":"INPUT!K212","v":57},{"$f":"INPUT!O212","v":52.6},{"$f":"INPUT!AH212","v":59},{"$f":"INPUT!AJ212","v":2.2999999999999998}]
[{"$f":"INPUT!A:A","v":45196.140289351853},{"$f":"INPUT!K213","v":57},{"$f":"INPUT!O213","v":52.6},{"$f":"INPUT!AH213","v":59},{"$f":"INPUT!AJ213","v":2.4}]
[{"$f":"INPUT!A:A","v":45196.140983796293},{"$f":"INPUT!K214","v":56.9},{"$f":"INPUT!O214","v":52.6},{"$f":"INPUT!AH214","v":59},{"$f":"INPUT!AJ214","v":2.2999999999999998}]
[{"$f":"INPUT!A:A","v":45196.141689814816},{"$f":"INPUT!K215","v":56.8},{"$f":"INPUT!O215","v":52.5},{"$f":"INPUT!AH215","v":59},{"$f":"INPUT!AJ215","v":2.2000000000000002}]
[{"$f":"INPUT!A:A","v":45196.142384259256},{"$f":"INPUT!K216","v":56.7},{"$f":"INPUT!O216","v":52.6},{"$f":"INPUT!AH216","v":59},{"$f":"INPUT!AJ216","v":2.2999999999999998}]
[{"$f":"INPUT!A:A","v":45196.143090277779},{"$f":"INPUT!K217","v":56.7},{"$f":"INPUT!O217","v":52.6},{"$f":"INPUT!AH217","v":59},{"$f":"INPUT!AJ217","v":2.2999999999999998}]
[{"$f":"INPUT!A:A","v":45196.143796296295},{"$f":"INPUT!K218","v":56.6},{"$f":"INPUT!O218","v":52.6},{"$f":"INPUT!AH218","v":59},{"$f":"INPUT!AJ218","v":2.2999999999999998}]
[{"$f":"INPUT!A:A","v":45196.144513888888},{"$f":"INPUT!K219","v":56.5},{"$f":"INPUT!O219","v":52.6},{"$f":"INPUT!AH219","v":59},{"$f":"INPUT!AJ219","v":2.2999999999999998}]
[{"$f":"INPUT!A:A","v":45196.145219907405},{"$f":"INPUT!K220","v":56.5},{"$f":"INPUT!O220","v":52.6},{"$f":"INPUT!AH220","v":59},{"$f":"INPUT!AJ220","v":2.2999999999999998}]
[{"$f":"INPUT!A:A","v":45196.145925925928},{"$f":"INPUT!K221","v":56.4},{"$f":"INPUT!O221","v":52.6},{"$f":"INPUT!AH221","v":59},{"$f":"INPUT!AJ221","v":2.2999999999999998}]
[{"$f":"INPUT!A:A","v":45196.146620370368},{"$f":"INPUT!K222","v":56.4},{"$f":"INPUT!O222","v":52.6},{"$f":"INPUT!AH222","v":59},{"$f":"INPUT!AJ222","v":2.2999999999999998}]
[{"$f":"INPUT!A:A","v":45196.147326388891},{"$f":"INPUT!K223","v":56.3},{"$f":"INPUT!O223","v":52.6},{"$f":"INPUT!AH223","v":59},{"$f":"INPUT!AJ223","v":2.2999999999999998}]
[{"$f":"INPUT!A:A","v":45196.148032407407},{"$f":"INPUT!K224","v":56.2},{"$f":"INPUT!O224","v":52.6},{"$f":"INPUT!AH224","v":59},{"$f":"INPUT!AJ224","v":2.2999999999999998}]
[{"$f":"INPUT!A:A","v":45196.148738425924},{"$f":"INPUT!K225","v":56.1},{"$f":"INPUT!O225","v":52.6},{"$f":"INPUT!AH225","v":59},{"$f":"INPUT!AJ225","v":2.2000000000000002}]
[{"$f":"INPUT!A:A","v":45196.14943287037},{"$f":"INPUT!K226","v":56.1},{"$f":"INPUT!O226","v":52.6},{"$f":"INPUT!AH226","v":59},{"$f":"INPUT!AJ226","v":2.2000000000000002}]
[{"$f":"INPUT!A:A","v":45196.150138888886},{"$f":"INPUT!K227","v":56},{"$f":"INPUT!O227","v":52.6},{"$f":"INPUT!AH227","v":59},{"$f":"INPUT!AJ227","v":2.2000000000000002}]
[{"$f":"INPUT!A:A","v":45196.15084490741},{"$f":"INPUT!K228","v":55.9},{"$f":"INPUT!O228","v":52.6},{"$f":"INPUT!AH228","v":59},{"$f":"INPUT!AJ228","v":2.2000000000000002}]
[{"$f":"INPUT!A:A","v":45196.151550925926},{"$f":"INPUT!K229","v":55.9},{"$f":"INPUT!O229","v":52.6},{"$f":"INPUT!AH229","v":59},{"$f":"INPUT!AJ229","v":2.2000000000000002}]
[{"$f":"INPUT!A:A","v":45196.152245370373},{"$f":"INPUT!K230","v":55.8},{"$f":"INPUT!O230","v":52.6},{"$f":"INPUT!AH230","v":59},{"$f":"INPUT!AJ230","v":2.2000000000000002}]
[{"$f":"INPUT!A:A","v":45196.152951388889},{"$f":"INPUT!K231","v":55.7},{"$f":"INPUT!O231","v":52.6},{"$f":"INPUT!AH231","v":59},{"$f":"INPUT!AJ231","v":2.2999999999999998}]
[{"$f":"INPUT!A:A","v":45196.153657407405},{"$f":"INPUT!K232","v":55.7},{"$f":"INPUT!O232","v":52.6},{"$f":"INPUT!AH232","v":59},{"$f":"INPUT!AJ232","v":2.2999999999999998}]
[{"$f":"INPUT!A:A","v":45196.154351851852},{"$f":"INPUT!K233","v":55.6},{"$f":"INPUT!O233","v":52.6},{"$f":"INPUT!AH233","v":59},{"$f":"INPUT!AJ233","v":2.2000000000000002}]
[{"$f":"INPUT!A:A","v":45196.155057870368},{"$f":"INPUT!K234","v":55.5},{"$f":"INPUT!O234","v":52.5},{"$f":"INPUT!AH234","v":59},{"$f":"INPUT!AJ234","v":2.2999999999999998}]
[{"$f":"INPUT!A:A","v":45196.155763888892},{"$f":"INPUT!K235","v":55.5},{"$f":"INPUT!O235","v":52.5},{"$f":"INPUT!AH235","v":59},{"$f":"INPUT!AJ235","v":2.2999999999999998}]
[{"$f":"INPUT!A:A","v":45196.156469907408},{"$f":"INPUT!K236","v":55.5},{"$f":"INPUT!O236","v":52.6},{"$f":"INPUT!AH236","v":59},{"$f":"INPUT!AJ236","v":2.2000000000000002}]
[{"$f":"INPUT!A:A","v":45196.157175925924},{"$f":"INPUT!K237","v":55.4},{"$f":"INPUT!O237","v":52.6},{"$f":"INPUT!AH237","v":59},{"$f":"INPUT!AJ237","v":2.2000000000000002}]
[{"$f":"INPUT!A:A","v":45196.157893518517},{"$f":"INPUT!K238","v":55.3},{"$f":"INPUT!O238","v":52.5},{"$f":"INPUT!AH238","v":59},{"$f":"INPUT!AJ238","v":2.2999999999999998}]
[{"$f":"INPUT!A:A","v":45196.158599537041},{"$f":"INPUT!K239","v":55.2},{"$f":"INPUT!O239","v":52.5},{"$f":"INPUT!AH239","v":59},{"$f":"INPUT!AJ239","v":2.4}]
[{"$f":"INPUT!A:A","v":45196.15929398148},{"$f":"INPUT!K240","v":55.1},{"$f":"INPUT!O240","v":52.5},{"$f":"INPUT!AH240","v":59},{"$f":"INPUT!AJ240","v":2.2000000000000002}]
[{"$f":"INPUT!A:A","v":45196.160000000003},{"$f":"INPUT!K241","v":55.1},{"$f":"INPUT!O241","v":52.5},{"$f":"INPUT!AH241","v":59},{"$f":"INPUT!AJ241","v":2.2000000000000002}]
[{"$f":"INPUT!A:A","v":45196.16070601852},{"$f":"INPUT!K242","v":55},{"$f":"INPUT!O242","v":52.5},{"$f":"INPUT!AH242","v":59},{"$f":"INPUT!AJ242","v":2.4}]
[{"$f":"INPUT!A:A","v":45196.161412037036},{"$f":"INPUT!K243","v":55},{"$f":"INPUT!O243","v":52.5},{"$f":"INPUT!AH243","v":59},{"$f":"INPUT!AJ243","v":2.4}]
[{"$f":"INPUT!A:A","v":45196.162118055552},{"$f":"INPUT!K244","v":54.9},{"$f":"INPUT!O244","v":52.5},{"$f":"INPUT!AH244","v":59},{"$f":"INPUT!AJ244","v":2.2000000000000002}]
[{"$f":"INPUT!A:A","v":45196.162812499999},{"$f":"INPUT!K245","v":54.9},{"$f":"INPUT!O245","v":52.5},{"$f":"INPUT!AH245","v":59},{"$f":"INPUT!AJ245","v":2.2999999999999998}]
[{"$f":"INPUT!A:A","v":45196.163518518515},{"$f":"INPUT!K246","v":54.8},{"$f":"INPUT!O246","v":52.5},{"$f":"INPUT!AH246","v":59},{"$f":"INPUT!AJ246","v":2.2999999999999998}]
[{"$f":"INPUT!A:A","v":45196.164224537039},{"$f":"INPUT!K247","v":54.7},{"$f":"INPUT!O247","v":52.5},{"$f":"INPUT!AH247","v":59},{"$f":"INPUT!AJ247","v":2.2999999999999998}]
[{"$f":"INPUT!A:A","v":45196.164953703701},{"$f":"INPUT!K248","v":54.7},{"$f":"INPUT!O248","v":52.5},{"$f":"INPUT!AH248","v":59},{"$f":"INPUT!AJ248","v":2.2000000000000002}]
[{"$f":"INPUT!A:A","v":45196.165659722225},{"$f":"INPUT!K249","v":54.6},{"$f":"INPUT!O249","v":52.5},{"$f":"INPUT!AH249","v":59},{"$f":"INPUT!AJ249","v":2.4}]
[{"$f":"INPUT!A:A","v":45196.166365740741},{"$f":"INPUT!K250","v":54.5},{"$f":"INPUT!O250","v":52.5},{"$f":"INPUT!AH250","v":59},{"$f":"INPUT!AJ250","v":2.4}]
[{"$f":"INPUT!A:A","v":45196.167060185187},{"$f":"INPUT!K251","v":54.4},{"$f":"INPUT!O251","v":52.5},{"$f":"INPUT!AH251","v":59},{"$f":"INPUT!AJ251","v":2.2000000000000002}]
[{"$f":"INPUT!A:A","v":45196.167754629627},{"$f":"INPUT!K252","v":54.4},{"$f":"INPUT!O252","v":52.5},{"$f":"INPUT!AH252","v":59},{"$f":"INPUT!AJ252","v":2.2999999999999998}]
[{"$f":"INPUT!A:A","v":45196.16846064815},{"$f":"INPUT!K253","v":54.3},{"$f":"INPUT!O253","v":52.5},{"$f":"INPUT!AH253","v":59},{"$f":"INPUT!AJ253","v":2.4}]
[{"$f":"INPUT!A:A","v":45196.169166666667},{"$f":"INPUT!K254","v":54.2},{"$f":"INPUT!O254","v":52.5},{"$f":"INPUT!AH254","v":59},{"$f":"INPUT!AJ254","v":2.4}]
[{"$f":"INPUT!A:A","v":45196.169872685183},{"$f":"INPUT!K255","v":54.1},{"$f":"INPUT!O255","v":52.5},{"$f":"INPUT!AH255","v":59},{"$f":"INPUT!AJ255","v":2.2000000000000002}]
[{"$f":"INPUT!A:A","v":45196.170578703706},{"$f":"INPUT!K256","v":54},{"$f":"INPUT!O256","v":52.5},{"$f":"INPUT!AH256","v":59},{"$f":"INPUT!AJ256","v":2.2999999999999998}]
[{"$f":"INPUT!A:A","v":45196.171273148146},{"$f":"INPUT!K257","v":53.9},{"$f":"INPUT!O257","v":52.5},{"$f":"INPUT!AH257","v":59},{"$f":"INPUT!AJ257","v":2.4}]
[{"$f":"INPUT!A:A","v":45196.171990740739},{"$f":"INPUT!K258","v":53.9},{"$f":"INPUT!O258","v":52.5},{"$f":"INPUT!AH258","v":59},{"$f":"INPUT!AJ258","v":2.2999999999999998}]
[{"$f":"INPUT!A:A","v":45196.172685185185},{"$f":"INPUT!K259","v":53.8},{"$f":"INPUT!O259","v":52.5},{"$f":"INPUT!AH259","v":59},{"$f":"INPUT!AJ259","v":2.2999999999999998}]
[{"$f":"INPUT!A:A","v":45196.173391203702},{"$f":"INPUT!K260","v":53.7},{"$f":"INPUT!O260","v":52.5},{"$f":"INPUT!AH260","v":59},{"$f":"INPUT!AJ260","v":2.2999999999999998}]
[{"$f":"INPUT!A:A","v":45196.174097222225},{"$f":"INPUT!K261","v":53.7},{"$f":"INPUT!O261","v":52.5},{"$f":"INPUT!AH261","v":59},{"$f":"INPUT!AJ261","v":2.2999999999999998}]
[{"$f":"INPUT!A:A","v":45196.174791666665},{"$f":"INPUT!K262","v":53.6},{"$f":"INPUT!O262","v":52.5},{"$f":"INPUT!AH262","v":59},{"$f":"INPUT!AJ262","v":2.2999999999999998}]
[{"$f":"INPUT!A:A","v":45196.175497685188},{"$f":"INPUT!K263","v":53.5},{"$f":"INPUT!O263","v":52.5},{"$f":"INPUT!AH263","v":59},{"$f":"INPUT!AJ263","v":2.2999999999999998}]
[{"$f":"INPUT!A:A","v":45196.176203703704},{"$f":"INPUT!K264","v":53.4},{"$f":"INPUT!O264","v":52.5},{"$f":"INPUT!AH264","v":59},{"$f":"INPUT!AJ264","v":2.4}]
[{"$f":"INPUT!A:A","v":45196.17690972222},{"$f":"INPUT!K265","v":53.3},{"$f":"INPUT!O265","v":52.5},{"$f":"INPUT!AH265","v":59},{"$f":"INPUT!AJ265","v":2.2999999999999998}]
[{"$f":"INPUT!A:A","v":45196.177604166667},{"$f":"INPUT!K266","v":53.2},{"$f":"INPUT!O266","v":52.5},{"$f":"INPUT!AH266","v":59},{"$f":"INPUT!AJ266","v":2.2999999999999998}]
[{"$f":"INPUT!A:A","v":45196.178298611114},{"$f":"INPUT!K267","v":53.2},{"$f":"INPUT!O267","v":52.5},{"$f":"INPUT!AH267","v":59},{"$f":"INPUT!AJ267","v":2.2999999999999998}]
[{"$f":"INPUT!A:A","v":45196.179016203707},{"$f":"INPUT!K268","v":53.1},{"$f":"INPUT!O268","v":52.5},{"$f":"INPUT!AH268","v":59},{"$f":"INPUT!AJ268","v":2.4}]
[{"$f":"INPUT!A:A","v":45196.179722222223},{"$f":"INPUT!K269","v":53},{"$f":"INPUT!O269","v":52.5},{"$f":"INPUT!AH269","v":59},{"$f":"INPUT!AJ269","v":2.2999999999999998}]
[{"$f":"INPUT!A:A","v":45196.180428240739},{"$f":"INPUT!K270","v":52.9},{"$f":"INPUT!O270","v":52.5},{"$f":"INPUT!AH270","v":59},{"$f":"INPUT!AJ270","v":2.2999999999999998}]
[{"$f":"INPUT!A:A","v":45196.181134259263},{"$f":"INPUT!K271","v":52.9},{"$f":"INPUT!O271","v":52.5},{"$f":"INPUT!AH271","v":59},{"$f":"INPUT!AJ271","v":2.2999999999999998}]
[{"$f":"INPUT!A:A","v":45196.181840277779},{"$f":"INPUT!K272","v":52.8},{"$f":"INPUT!O272","v":52.5},{"$f":"INPUT!AH272","v":59},{"$f":"INPUT!AJ272","v":2.2999999999999998}]
[{"$f":"INPUT!A:A","v":45196.182546296295},{"$f":"INPUT!K273","v":52.7},{"$f":"INPUT!O273","v":52.5},{"$f":"INPUT!AH273","v":59},{"$f":"INPUT!AJ273","v":2.2999999999999998}]
[{"$f":"INPUT!A:A","v":45196.183252314811},{"$f":"INPUT!K274","v":52.7},{"$f":"INPUT!O274","v":52.4},{"$f":"INPUT!AH274","v":59},{"$f":"INPUT!AJ274","v":2.2000000000000002}]
[{"$f":"INPUT!A:A","v":45196.183946759258},{"$f":"INPUT!K275","v":52.6},{"$f":"INPUT!O275","v":52.5},{"$f":"INPUT!AH275","v":59},{"$f":"INPUT!AJ275","v":2.2999999999999998}]
[{"$f":"INPUT!A:A","v":45196.184652777774},{"$f":"INPUT!K276","v":52.5},{"$f":"INPUT!O276","v":52.5},{"$f":"INPUT!AH276","v":59},{"$f":"INPUT!AJ276","v":2.2999999999999998}]
[{"$f":"INPUT!A:A","v":45196.185358796298},{"$f":"INPUT!K277","v":52.4},{"$f":"INPUT!O277","v":52.4},{"$f":"INPUT!AH277","v":59},{"$f":"INPUT!AJ277","v":2.2999999999999998}]
[{"$f":"INPUT!A:A","v":45196.186076388891},{"$f":"INPUT!K278","v":52.4},{"$f":"INPUT!O278","v":52.5},{"$f":"INPUT!AH278","v":59},{"$f":"INPUT!AJ278","v":2.2999999999999998}]
[{"$f":"INPUT!A:A","v":45196.18677083333},{"$f":"INPUT!K279","v":52.3},{"$f":"INPUT!O279","v":52.5},{"$f":"INPUT!AH279","v":59},{"$f":"INPUT!AJ279","v":2.2999999999999998}]
[{"$f":"INPUT!A:A","v":45196.187476851854},{"$f":"INPUT!K280","v":52.2},{"$f":"INPUT!O280","v":52.4},{"$f":"INPUT!AH280","v":59},{"$f":"INPUT!AJ280","v":2.2000000000000002}]
[{"$f":"INPUT!A:A","v":45196.18818287037},{"$f":"INPUT!K281","v":52.1},{"$f":"INPUT!O281","v":52.4},{"$f":"INPUT!AH281","v":59},{"$f":"INPUT!AJ281","v":2.2999999999999998}]
[{"$f":"INPUT!A:A","v":45196.188888888886},{"$f":"INPUT!K282","v":52.1},{"$f":"INPUT!O282","v":52.5},{"$f":"INPUT!AH282","v":59},{"$f":"INPUT!AJ282","v":2.2999999999999998}]
[{"$f":"INPUT!A:A","v":45196.189583333333},{"$f":"INPUT!K283","v":52},{"$f":"INPUT!O283","v":52.4},{"$f":"INPUT!AH283","v":59},{"$f":"INPUT!AJ283","v":2.2999999999999998}]
[{"$f":"INPUT!A:A","v":45196.190289351849},{"$f":"INPUT!K284","v":51.9},{"$f":"INPUT!O284","v":52.5},{"$f":"INPUT!AH284","v":59},{"$f":"INPUT!AJ284","v":2.2000000000000002}]
[{"$f":"INPUT!A:A","v":45196.190995370373},{"$f":"INPUT!K285","v":51.9},{"$f":"INPUT!O285","v":52.5},{"$f":"INPUT!AH285","v":59},{"$f":"INPUT!AJ285","v":2.2999999999999998}]
[{"$f":"INPUT!A:A","v":45196.191689814812},{"$f":"INPUT!K286","v":51.8},{"$f":"INPUT!O286","v":52.4},{"$f":"INPUT!AH286","v":59},{"$f":"INPUT!AJ286","v":2.4}]
[{"$f":"INPUT!A:A","v":45196.192395833335},{"$f":"INPUT!K287","v":51.6},{"$f":"INPUT!O287","v":52.4},{"$f":"INPUT!AH287","v":59},{"$f":"INPUT!AJ287","v":2.4}]
[{"$f":"INPUT!A:A","v":45196.193113425928},{"$f":"INPUT!K288","v":51.6},{"$f":"INPUT!O288","v":52.4},{"$f":"INPUT!AH288","v":59},{"$f":"INPUT!AJ288","v":2.2000000000000002}]
[{"$f":"INPUT!A:A","v":45196.193819444445},{"$f":"INPUT!K289","v":51.5},{"$f":"INPUT!O289","v":52.4},{"$f":"INPUT!AH289","v":59},{"$f":"INPUT!AJ289","v":2.4}]
[{"$f":"INPUT!A:A","v":45196.194513888891},{"$f":"INPUT!K290","v":51.4},{"$f":"INPUT!O290","v":52.4},{"$f":"INPUT!AH290","v":59},{"$f":"INPUT!AJ290","v":2.2999999999999998}]
[{"$f":"INPUT!A:A","v":45196.195219907408},{"$f":"INPUT!K291","v":51.4},{"$f":"INPUT!O291","v":52.4},{"$f":"INPUT!AH291","v":59},{"$f":"INPUT!AJ291","v":2.2999999999999998}]
[{"$f":"INPUT!A:A","v":45196.195914351854},{"$f":"INPUT!K292","v":51.3},{"$f":"INPUT!O292","v":52.4},{"$f":"INPUT!AH292","v":59},{"$f":"INPUT!AJ292","v":2.2000000000000002}]
[{"$f":"INPUT!A:A","v":45196.196620370371},{"$f":"INPUT!K293","v":51.2},{"$f":"INPUT!O293","v":52.4},{"$f":"INPUT!AH293","v":59},{"$f":"INPUT!AJ293","v":2.2999999999999998}]
[{"$f":"INPUT!A:A","v":45196.197314814817},{"$f":"INPUT!K294","v":51.2},{"$f":"INPUT!O294","v":52.5},{"$f":"INPUT!AH294","v":59},{"$f":"INPUT!AJ294","v":2.4}]
[{"$f":"INPUT!A:A","v":45196.198020833333},{"$f":"INPUT!K295","v":51.1},{"$f":"INPUT!O295","v":52.5},{"$f":"INPUT!AH295","v":59},{"$f":"INPUT!AJ295","v":2.2000000000000002}]
[{"$f":"INPUT!A:A","v":45196.19872685185},{"$f":"INPUT!K296","v":51},{"$f":"INPUT!O296","v":52.5},{"$f":"INPUT!AH296","v":59},{"$f":"INPUT!AJ296","v":2.2000000000000002}]
[{"$f":"INPUT!A:A","v":45196.199444444443},{"$f":"INPUT!K297","v":51},{"$f":"INPUT!O297","v":52.5},{"$f":"INPUT!AH297","v":59},{"$f":"INPUT!AJ297","v":2.2000000000000002}]
[{"$f":"INPUT!A:A","v":45196.200138888889},{"$f":"INPUT!K298","v":50.9},{"$f":"INPUT!O298","v":52.5},{"$f":"INPUT!AH298","v":59},{"$f":"INPUT!AJ298","v":2.2000000000000002}]
[{"$f":"INPUT!A:A","v":45196.200844907406},{"$f":"INPUT!K299","v":50.9},{"$f":"INPUT!O299","v":52.5},{"$f":"INPUT!AH299","v":59},{"$f":"INPUT!AJ299","v":2.2000000000000002}]
[{"$f":"INPUT!A:A","v":45196.201550925929},{"$f":"INPUT!K300","v":50.8},{"$f":"INPUT!O300","v":52.5},{"$f":"INPUT!AH300","v":59},{"$f":"INPUT!AJ300","v":2.2000000000000002}]
[{"$f":"INPUT!A:A","v":45196.202256944445},{"$f":"INPUT!K301","v":50.8},{"$f":"INPUT!O301","v":52.5},{"$f":"INPUT!AH301","v":59},{"$f":"INPUT!AJ301","v":2.2000000000000002}]
[{"$f":"INPUT!A:A","v":45196.202951388892},{"$f":"INPUT!K302","v":50.7},{"$f":"INPUT!O302","v":52.5},{"$f":"INPUT!AH302","v":59},{"$f":"INPUT!AJ302","v":2.2000000000000002}]
[{"$f":"INPUT!A:A","v":45196.203657407408},{"$f":"INPUT!K303","v":50.6},{"$f":"INPUT!O303","v":52.5},{"$f":"INPUT!AH303","v":59},{"$f":"INPUT!AJ303","v":2.2000000000000002}]
[{"$f":"INPUT!A:A","v":45196.204363425924},{"$f":"INPUT!K304","v":50.6},{"$f":"INPUT!O304","v":52.5},{"$f":"INPUT!AH304","v":59},{"$f":"INPUT!AJ304","v":2.2999999999999998}]
[{"$f":"INPUT!A:A","v":45196.205069444448},{"$f":"INPUT!K305","v":50.5},{"$f":"INPUT!O305","v":52.5},{"$f":"INPUT!AH305","v":59},{"$f":"INPUT!AJ305","v":2.2999999999999998}]
[{"$f":"INPUT!A:A","v":45196.205763888887},{"$f":"INPUT!K306","v":50.4},{"$f":"INPUT!O306","v":52.5},{"$f":"INPUT!AH306","v":59},{"$f":"INPUT!AJ306","v":2.2000000000000002}]
[{"$f":"INPUT!A:A","v":45196.20648148148},{"$f":"INPUT!K307","v":50.4},{"$f":"INPUT!O307","v":52.5},{"$f":"INPUT!AH307","v":59},{"$f":"INPUT!AJ307","v":2.2000000000000002}]
[{"$f":"INPUT!A:A","v":45196.207187499997},{"$f":"INPUT!K308","v":50.3},{"$f":"INPUT!O308","v":52.5},{"$f":"INPUT!AH308","v":59},{"$f":"INPUT!AJ308","v":2.4}]
[{"$f":"INPUT!A:A","v":45196.207881944443},{"$f":"INPUT!K309","v":50.3},{"$f":"INPUT!O309","v":52.5},{"$f":"INPUT!AH309","v":59},{"$f":"INPUT!AJ309","v":2.2999999999999998}]
[{"$f":"INPUT!A:A","v":45196.208587962959},{"$f":"INPUT!K310","v":50.2},{"$f":"INPUT!O310","v":52.5},{"$f":"INPUT!AH310","v":59},{"$f":"INPUT!AJ310","v":2.2000000000000002}]
[{"$f":"INPUT!A:A","v":45196.209293981483},{"$f":"INPUT!K311","v":50.1},{"$f":"INPUT!O311","v":52.5},{"$f":"INPUT!AH311","v":59},{"$f":"INPUT!AJ311","v":2.2000000000000002}]
[{"$f":"INPUT!A:A","v":45196.209988425922},{"$f":"INPUT!K312","v":50.1},{"$f":"INPUT!O312","v":52.5},{"$f":"INPUT!AH312","v":59},{"$f":"INPUT!AJ312","v":2.2999999999999998}]
[{"$f":"INPUT!A:A","v":45196.210694444446},{"$f":"INPUT!K313","v":50},{"$f":"INPUT!O313","v":52.5},{"$f":"INPUT!AH313","v":59},{"$f":"INPUT!AJ313","v":2.2999999999999998}]
[{"$f":"INPUT!A:A","v":45196.211388888885},{"$f":"INPUT!K314","v":49.9},{"$f":"INPUT!O314","v":52.5},{"$f":"INPUT!AH314","v":59},{"$f":"INPUT!AJ314","v":2.2999999999999998}]
[{"$f":"INPUT!A:A","v":45196.212094907409},{"$f":"INPUT!K315","v":49.9},{"$f":"INPUT!O315","v":52.5},{"$f":"INPUT!AH315","v":59},{"$f":"INPUT!AJ315","v":2.2000000000000002}]
[{"$f":"INPUT!A:A","v":45196.212789351855},{"$f":"INPUT!K316","v":49.8},{"$f":"INPUT!O316","v":52.4},{"$f":"INPUT!AH316","v":59},{"$f":"INPUT!AJ316","v":2.2000000000000002}]
[{"$f":"INPUT!A:A","v":45196.213506944441},{"$f":"INPUT!K317","v":49.7},{"$f":"INPUT!O317","v":52.5},{"$f":"INPUT!AH317","v":59},{"$f":"INPUT!AJ317","v":2.2999999999999998}]
[{"$f":"INPUT!A:A","v":45196.214212962965},{"$f":"INPUT!K318","v":49.7},{"$f":"INPUT!O318","v":52.5},{"$f":"INPUT!AH318","v":59},{"$f":"INPUT!AJ318","v":2.2000000000000002}]
[{"$f":"INPUT!A:A","v":45196.214918981481},{"$f":"INPUT!K319","v":49.6},{"$f":"INPUT!O319","v":52.4},{"$f":"INPUT!AH319","v":59},{"$f":"INPUT!AJ319","v":2.2000000000000002}]
[{"$f":"INPUT!A:A","v":45196.215624999997},{"$f":"INPUT!K320","v":49.5},{"$f":"INPUT!O320","v":52.5},{"$f":"INPUT!AH320","v":59},{"$f":"INPUT!AJ320","v":2.2000000000000002}]
[{"$f":"INPUT!A:A","v":45196.216319444444},{"$f":"INPUT!K321","v":49.4},{"$f":"INPUT!O321","v":52.5},{"$f":"INPUT!AH321","v":59},{"$f":"INPUT!AJ321","v":2.2000000000000002}]
[{"$f":"INPUT!A:A","v":45196.21702546296},{"$f":"INPUT!K322","v":49.4},{"$f":"INPUT!O322","v":52.4},{"$f":"INPUT!AH322","v":59},{"$f":"INPUT!AJ322","v":2.2999999999999998}]
[{"$f":"INPUT!A:A","v":45196.217719907407},{"$f":"INPUT!K323","v":49.3},{"$f":"INPUT!O323","v":52.4},{"$f":"INPUT!AH323","v":59},{"$f":"INPUT!AJ323","v":2.2999999999999998}]
[{"$f":"INPUT!A:A","v":45196.218425925923},{"$f":"INPUT!K324","v":49.2},{"$f":"INPUT!O324","v":52.4},{"$f":"INPUT!AH324","v":59},{"$f":"INPUT!AJ324","v":2.2000000000000002}]
[{"$f":"INPUT!A:A","v":45196.219131944446},{"$f":"INPUT!K325","v":49.2},{"$f":"INPUT!O325","v":52.5},{"$f":"INPUT!AH325","v":59},{"$f":"INPUT!AJ325","v":2.2000000000000002}]
[{"$f":"INPUT!A:A","v":45196.219826388886},{"$f":"INPUT!K326","v":49.1},{"$f":"INPUT!O326","v":52.4},{"$f":"INPUT!AH326","v":59},{"$f":"INPUT!AJ326","v":2.2000000000000002}]
[{"$f":"INPUT!A:A","v":45196.220555555556},{"$f":"INPUT!K327","v":49},{"$f":"INPUT!O327","v":52.4},{"$f":"INPUT!AH327","v":59},{"$f":"INPUT!AJ327","v":2.2999999999999998}]
[{"$f":"INPUT!A:A","v":45196.221261574072},{"$f":"INPUT!K328","v":49},{"$f":"INPUT!O328","v":52.5},{"$f":"INPUT!AH328","v":59},{"$f":"INPUT!AJ328","v":2.2000000000000002}]
[{"$f":"INPUT!A:A","v":45196.221967592595},{"$f":"INPUT!K329","v":48.9},{"$f":"INPUT!O329","v":52.5},{"$f":"INPUT!AH329","v":59},{"$f":"INPUT!AJ329","v":2.2000000000000002}]
[{"$f":"INPUT!A:A","v":45196.222662037035},{"$f":"INPUT!K330","v":48.9},{"$f":"INPUT!O330","v":52.4},{"$f":"INPUT!AH330","v":59},{"$f":"INPUT!AJ330","v":2.2999999999999998}]
[{"$f":"INPUT!A:A","v":45196.223368055558},{"$f":"INPUT!K331","v":48.8},{"$f":"INPUT!O331","v":52.4},{"$f":"INPUT!AH331","v":59},{"$f":"INPUT!AJ331","v":2.2999999999999998}]
[{"$f":"INPUT!A:A","v":45196.224074074074},{"$f":"INPUT!K332","v":48.7},{"$f":"INPUT!O332","v":52.5},{"$f":"INPUT!AH332","v":59},{"$f":"INPUT!AJ332","v":2.2999999999999998}]
[{"$f":"INPUT!A:A","v":45196.224780092591},{"$f":"INPUT!K333","v":48.7},{"$f":"INPUT!O333","v":52.4},{"$f":"INPUT!AH333","v":59},{"$f":"INPUT!AJ333","v":2.2999999999999998}]
[{"$f":"INPUT!A:A","v":45196.225474537037},{"$f":"INPUT!K334","v":48.6},{"$f":"INPUT!O334","v":52.4},{"$f":"INPUT!AH334","v":59},{"$f":"INPUT!AJ334","v":2.2999999999999998}]
[{"$f":"INPUT!A:A","v":45196.226180555554},{"$f":"INPUT!K335","v":48.6},{"$f":"INPUT!O335","v":52.4},{"$f":"INPUT!AH335","v":59},{"$f":"INPUT!AJ335","v":2.2999999999999998}]
[{"$f":"INPUT!A:A","v":45196.226886574077},{"$f":"INPUT!K336","v":48.5},{"$f":"INPUT!O336","v":52.4},{"$f":"INPUT!AH336","v":59},{"$f":"INPUT!AJ336","v":2.2000000000000002}]
[{"$f":"INPUT!A:A","v":45196.227592592593},{"$f":"INPUT!K337","v":48.4},{"$f":"INPUT!O337","v":52.4},{"$f":"INPUT!AH337","v":59},{"$f":"INPUT!AJ337","v":2.2999999999999998}]
[{"$f":"INPUT!A:A","v":45196.228298611109},{"$f":"INPUT!K338","v":48.4},{"$f":"INPUT!O338","v":52.4},{"$f":"INPUT!AH338","v":59},{"$f":"INPUT!AJ338","v":2.2999999999999998}]
[{"$f":"INPUT!A:A","v":45196.229004629633},{"$f":"INPUT!K339","v":48.3},{"$f":"INPUT!O339","v":52.4},{"$f":"INPUT!AH339","v":59},{"$f":"INPUT!AJ339","v":2.2000000000000002}]
[{"$f":"INPUT!A:A","v":45196.229699074072},{"$f":"INPUT!K340","v":48.2},{"$f":"INPUT!O340","v":52.4},{"$f":"INPUT!AH340","v":59},{"$f":"INPUT!AJ340","v":1.8}]
[{"$f":"INPUT!A:A","v":45196.230393518519},{"$f":"INPUT!K341","v":48.1},{"$f":"INPUT!O341","v":52.4},{"$f":"INPUT!AH341","v":59},{"$f":"INPUT!AJ341","v":1.9}]
[{"$f":"INPUT!A:A","v":45196.231099537035},{"$f":"INPUT!K342","v":48.1},{"$f":"INPUT!O342","v":52.4},{"$f":"INPUT!AH342","v":59},{"$f":"INPUT!AJ342","v":1.9}]
[{"$f":"INPUT!A:A","v":45196.231805555559},{"$f":"INPUT!K343","v":48},{"$f":"INPUT!O343","v":52.4},{"$f":"INPUT!AH343","v":59},{"$f":"INPUT!AJ343","v":1.7}]
[{"$f":"INPUT!A:A","v":45196.232499999998},{"$f":"INPUT!K344","v":47.9},{"$f":"INPUT!O344","v":52.4},{"$f":"INPUT!AH344","v":59},{"$f":"INPUT!AJ344","v":1.7}]
[{"$f":"INPUT!A:A","v":45196.233206018522},{"$f":"INPUT!K345","v":47.8},{"$f":"INPUT!O345","v":52.4},{"$f":"INPUT!AH345","v":59},{"$f":"INPUT!AJ345","v":2}]
[{"$f":"INPUT!A:A","v":45196.233900462961},{"$f":"INPUT!K346","v":47.7},{"$f":"INPUT!O346","v":52.4},{"$f":"INPUT!AH346","v":59},{"$f":"INPUT!AJ346","v":1.9}]
[{"$f":"INPUT!A:A","v":45196.234618055554},{"$f":"INPUT!K347","v":47.6},{"$f":"INPUT!O347","v":52.4},{"$f":"INPUT!AH347","v":59},{"$f":"INPUT!AJ347","v":1.7}]
[{"$f":"INPUT!A:A","v":45196.235324074078},{"$f":"INPUT!K348","v":47.6},{"$f":"INPUT!O348","v":52.4},{"$f":"INPUT!AH348","v":59},{"$f":"INPUT!AJ348","v":1.8}]
[{"$f":"INPUT!A:A","v":45196.236030092594},{"$f":"INPUT!K349","v":47.5},{"$f":"INPUT!O349","v":52.4},{"$f":"INPUT!AH349","v":59},{"$f":"INPUT!AJ349","v":2}]
[{"$f":"INPUT!A:A","v":45196.236724537041},{"$f":"INPUT!K350","v":47.4},{"$f":"INPUT!O350","v":52.4},{"$f":"INPUT!AH350","v":59},{"$f":"INPUT!AJ350","v":1.9}]
[{"$f":"INPUT!A:A","v":45196.237430555557},{"$f":"INPUT!K351","v":47.3},{"$f":"INPUT!O351","v":52.4},{"$f":"INPUT!AH351","v":59},{"$f":"INPUT!AJ351","v":2.1}]
[{"$f":"INPUT!A:A","v":45196.238125000003},{"$f":"INPUT!K352","v":47.2},{"$f":"INPUT!O352","v":52.4},{"$f":"INPUT!AH352","v":59},{"$f":"INPUT!AJ352","v":2.2999999999999998}]
[{"$f":"INPUT!A:A","v":45196.23883101852},{"$f":"INPUT!K353","v":47.1},{"$f":"INPUT!O353","v":52.4},{"$f":"INPUT!AH353","v":59},{"$f":"INPUT!AJ353","v":2.2999999999999998}]
[{"$f":"INPUT!A:A","v":45196.239537037036},{"$f":"INPUT!K354","v":47.1},{"$f":"INPUT!O354","v":52.4},{"$f":"INPUT!AH354","v":59},{"$f":"INPUT!AJ354","v":2.2000000000000002}]
[{"$f":"INPUT!A:A","v":45196.240231481483},{"$f":"INPUT!K355","v":47},{"$f":"INPUT!O355","v":52.4},{"$f":"INPUT!AH355","v":59},{"$f":"INPUT!AJ355","v":2.2000000000000002}]
[{"$f":"INPUT!A:A","v":45196.240937499999},{"$f":"INPUT!K356","v":47},{"$f":"INPUT!O356","v":52.4},{"$f":"INPUT!AH356","v":59},{"$f":"INPUT!AJ356","v":2.2000000000000002}]
[{"$f":"INPUT!A:A","v":45196.241655092592},{"$f":"INPUT!K357","v":46.9},{"$f":"INPUT!O357","v":52.4},{"$f":"INPUT!AH357","v":59},{"$f":"INPUT!AJ357","v":2.2000000000000002}]
[{"$f":"INPUT!A:A","v":45196.242361111108},{"$f":"INPUT!K358","v":46.8},{"$f":"INPUT!O358","v":52.4},{"$f":"INPUT!AH358","v":59},{"$f":"INPUT!AJ358","v":2.1}]
[{"$f":"INPUT!A:A","v":45196.243055555555},{"$f":"INPUT!K359","v":46.7},{"$f":"INPUT!O359","v":52.4},{"$f":"INPUT!AH359","v":59},{"$f":"INPUT!AJ359","v":2.2000000000000002}]
[{"$f":"INPUT!A:A","v":45196.243761574071},{"$f":"INPUT!K360","v":46.7},{"$f":"INPUT!O360","v":52.4},{"$f":"INPUT!AH360","v":59},{"$f":"INPUT!AJ360","v":2.2999999999999998}]
[{"$f":"INPUT!A:A","v":45196.244467592594},{"$f":"INPUT!K361","v":46.6},{"$f":"INPUT!O361","v":52.4},{"$f":"INPUT!AH361","v":59},{"$f":"INPUT!AJ361","v":2.2999999999999998}]
[{"$f":"INPUT!A:A","v":45196.245173611111},{"$f":"INPUT!K362","v":46.5},{"$f":"INPUT!O362","v":52.4},{"$f":"INPUT!AH362","v":59},{"$f":"INPUT!AJ362","v":2.1}]
[{"$f":"INPUT!A:A","v":45196.245879629627},{"$f":"INPUT!K363","v":46.5},{"$f":"INPUT!O363","v":52.4},{"$f":"INPUT!AH363","v":59},{"$f":"INPUT!AJ363","v":2.2999999999999998}]
[{"$f":"INPUT!A:A","v":45196.246574074074},{"$f":"INPUT!K364","v":46.4},{"$f":"INPUT!O364","v":52.4},{"$f":"INPUT!AH364","v":59},{"$f":"INPUT!AJ364","v":2.2999999999999998}]
[{"$f":"INPUT!A:A","v":45196.24728009259},{"$f":"INPUT!K365","v":46.3},{"$f":"INPUT!O365","v":52.4},{"$f":"INPUT!AH365","v":59},{"$f":"INPUT!AJ365","v":2.2000000000000002}]
[{"$f":"INPUT!A:A","v":45196.247974537036},{"$f":"INPUT!K366","v":46.2},{"$f":"INPUT!O366","v":52.4},{"$f":"INPUT!AH366","v":59},{"$f":"INPUT!AJ366","v":2.2000000000000002}]
[{"$f":"INPUT!A:A","v":45196.248703703706},{"$f":"INPUT!K367","v":46.2},{"$f":"INPUT!O367","v":52.4},{"$f":"INPUT!AH367","v":59},{"$f":"INPUT!AJ367","v":2.2000000000000002}]
[{"$f":"INPUT!A:A","v":45196.249398148146},{"$f":"INPUT!K368","v":46.1},{"$f":"INPUT!O368","v":52.4},{"$f":"INPUT!AH368","v":59},{"$f":"INPUT!AJ368","v":2.2999999999999998}]
[{"$f":"INPUT!A:A","v":45196.250104166669},{"$f":"INPUT!K369","v":46},{"$f":"INPUT!O369","v":52.4},{"$f":"INPUT!AH369","v":59},{"$f":"INPUT!AJ369","v":2.2000000000000002}]
[{"$f":"INPUT!A:A","v":45196.250810185185},{"$f":"INPUT!K370","v":45.9},{"$f":"INPUT!O370","v":52.4},{"$f":"INPUT!AH370","v":59},{"$f":"INPUT!AJ370","v":2.2999999999999998}]
[{"$f":"INPUT!A:A","v":45196.251516203702},{"$f":"INPUT!K371","v":45.8},{"$f":"INPUT!O371","v":52.4},{"$f":"INPUT!AH371","v":59},{"$f":"INPUT!AJ371","v":2.2999999999999998}]
[{"$f":"INPUT!A:A","v":45196.252222222225},{"$f":"INPUT!K372","v":45.7},{"$f":"INPUT!O372","v":52.4},{"$f":"INPUT!AH372","v":59},{"$f":"INPUT!AJ372","v":2.2999999999999998}]
[{"$f":"INPUT!A:A","v":45196.252916666665},{"$f":"INPUT!K373","v":45.7},{"$f":"INPUT!O373","v":52.5},{"$f":"INPUT!AH373","v":59},{"$f":"INPUT!AJ373","v":2.2000000000000002}]
[{"$f":"INPUT!A:A","v":45196.253622685188},{"$f":"INPUT!K374","v":45.6},{"$f":"INPUT!O374","v":52.4},{"$f":"INPUT!AH374","v":59},{"$f":"INPUT!AJ374","v":2.2999999999999998}]
[{"$f":"INPUT!A:A","v":45196.254317129627},{"$f":"INPUT!K375","v":45.5},{"$f":"INPUT!O375","v":52.4},{"$f":"INPUT!AH375","v":59},{"$f":"INPUT!AJ375","v":2.2999999999999998}]
[{"$f":"INPUT!A:A","v":45196.25503472222},{"$f":"INPUT!K376","v":45.4},{"$f":"INPUT!O376","v":52.4},{"$f":"INPUT!AH376","v":59},{"$f":"INPUT!AJ376","v":2.2000000000000002}]
[{"$f":"INPUT!A:A","v":45196.255740740744},{"$f":"INPUT!K377","v":45.3},{"$f":"INPUT!O377","v":52.4},{"$f":"INPUT!AH377","v":59},{"$f":"INPUT!AJ377","v":2.2000000000000002}]
[{"$f":"INPUT!A:A","v":45196.25644675926},{"$f":"INPUT!K378","v":45.2},{"$f":"INPUT!O378","v":52.4},{"$f":"INPUT!AH378","v":59},{"$f":"INPUT!AJ378","v":2.2999999999999998}]
[{"$f":"INPUT!A:A","v":45196.257152777776},{"$f":"INPUT!K379","v":45.2},{"$f":"INPUT!O379","v":52.4},{"$f":"INPUT!AH379","v":59},{"$f":"INPUT!AJ379","v":2.2999999999999998}]
[{"$f":"INPUT!A:A","v":45196.2578587963},{"$f":"INPUT!K380","v":45.1},{"$f":"INPUT!O380","v":52.4},{"$f":"INPUT!AH380","v":59},{"$f":"INPUT!AJ380","v":2.2000000000000002}]
[{"$f":"INPUT!A:A","v":45196.258564814816},{"$f":"INPUT!K381","v":45},{"$f":"INPUT!O381","v":52.4},{"$f":"INPUT!AH381","v":59},{"$f":"INPUT!AJ381","v":2.2999999999999998}]
[{"$f":"INPUT!A:A","v":45196.259259259263},{"$f":"INPUT!K382","v":44.9},{"$f":"INPUT!O382","v":52.4},{"$f":"INPUT!AH382","v":59},{"$f":"INPUT!AJ382","v":2.2999999999999998}]
[{"$f":"INPUT!A:A","v":45196.259965277779},{"$f":"INPUT!K383","v":44.8},{"$f":"INPUT!O383","v":52.4},{"$f":"INPUT!AH383","v":59},{"$f":"INPUT!AJ383","v":2.2000000000000002}]
[{"$f":"INPUT!A:A","v":45196.260671296295},{"$f":"INPUT!K384","v":44.8},{"$f":"INPUT!O384","v":52.4},{"$f":"INPUT!AH384","v":59},{"$f":"INPUT!AJ384","v":2.2000000000000002}]
[{"$f":"INPUT!A:A","v":45196.261377314811},{"$f":"INPUT!K385","v":44.7},{"$f":"INPUT!O385","v":52.4},{"$f":"INPUT!AH385","v":59},{"$f":"INPUT!AJ385","v":2.4}]
[{"$f":"INPUT!A:A","v":45196.262083333335},{"$f":"INPUT!K386","v":44.6},{"$f":"INPUT!O386","v":52.4},{"$f":"INPUT!AH386","v":59},{"$f":"INPUT!AJ386","v":2.4}]
[{"$f":"INPUT!A:A","v":45196.262789351851},{"$f":"INPUT!K387","v":44.4},{"$f":"INPUT!O387","v":52.4},{"$f":"INPUT!AH387","v":59},{"$f":"INPUT!AJ387","v":2.2000000000000002}]
[{"$f":"INPUT!A:A","v":45196.263495370367},{"$f":"INPUT!K388","v":44.4},{"$f":"INPUT!O388","v":52.4},{"$f":"INPUT!AH388","v":59},{"$f":"INPUT!AJ388","v":2.2000000000000002}]
[{"$f":"INPUT!A:A","v":45196.264189814814},{"$f":"INPUT!K389","v":44.3},{"$f":"INPUT!O389","v":52.4},{"$f":"INPUT!AH389","v":59},{"$f":"INPUT!AJ389","v":2.2999999999999998}]
[{"$f":"INPUT!A:A","v":45196.264884259261},{"$f":"INPUT!K390","v":44.2},{"$f":"INPUT!O390","v":52.4},{"$f":"INPUT!AH390","v":59},{"$f":"INPUT!AJ390","v":2.2999999999999998}]
[{"$f":"INPUT!A:A","v":45196.265590277777},{"$f":"INPUT!K391","v":44.2},{"$f":"INPUT!O391","v":52.4},{"$f":"INPUT!AH391","v":59},{"$f":"INPUT!AJ391","v":2.2000000000000002}]
[{"$f":"INPUT!A:A","v":45196.266296296293},{"$f":"INPUT!K392","v":44.1},{"$f":"INPUT!O392","v":52.4},{"$f":"INPUT!AH392","v":59},{"$f":"INPUT!AJ392","v":2.2000000000000002}]
[{"$f":"INPUT!A:A","v":45196.267002314817},{"$f":"INPUT!K393","v":44},{"$f":"INPUT!O393","v":52.4},{"$f":"INPUT!AH393","v":59},{"$f":"INPUT!AJ393","v":2.2000000000000002}]
[{"$f":"INPUT!A:A","v":45196.267708333333},{"$f":"INPUT!K394","v":43.9},{"$f":"INPUT!O394","v":52.4},{"$f":"INPUT!AH394","v":59},{"$f":"INPUT!AJ394","v":2.2000000000000002}]
[{"$f":"INPUT!A:A","v":45196.268414351849},{"$f":"INPUT!K395","v":43.8},{"$f":"INPUT!O395","v":52.4},{"$f":"INPUT!AH395","v":59},{"$f":"INPUT!AJ395","v":2.2999999999999998}]
[{"$f":"INPUT!A:A","v":45196.269131944442},{"$f":"INPUT!K396","v":43.8},{"$f":"INPUT!O396","v":52.4},{"$f":"INPUT!AH396","v":59},{"$f":"INPUT!AJ396","v":2.4}]
[{"$f":"INPUT!A:A","v":45196.269837962966},{"$f":"INPUT!K397","v":43.7},{"$f":"INPUT!O397","v":52.4},{"$f":"INPUT!AH397","v":59},{"$f":"INPUT!AJ397","v":2.2000000000000002}]
[{"$f":"INPUT!A:A","v":45196.270532407405},{"$f":"INPUT!K398","v":43.6},{"$f":"INPUT!O398","v":52.4},{"$f":"INPUT!AH398","v":59},{"$f":"INPUT!AJ398","v":2.2000000000000002}]
[{"$f":"INPUT!A:A","v":45196.271238425928},{"$f":"INPUT!K399","v":43.5},{"$f":"INPUT!O399","v":52.4},{"$f":"INPUT!AH399","v":59},{"$f":"INPUT!AJ399","v":2.2999999999999998}]
[{"$f":"INPUT!A:A","v":45196.271944444445},{"$f":"INPUT!K400","v":43.4},{"$f":"INPUT!O400","v":52.4},{"$f":"INPUT!AH400","v":59},{"$f":"INPUT!AJ400","v":2.2999999999999998}]
[{"$f":"INPUT!A:A","v":45196.272650462961},{"$f":"INPUT!K401","v":43.4},{"$f":"INPUT!O401","v":52.4},{"$f":"INPUT!AH401","v":59},{"$f":"INPUT!AJ401","v":2.2999999999999998}]
[{"$f":"INPUT!A:A","v":45196.273344907408},{"$f":"INPUT!K402","v":43.3},{"$f":"INPUT!O402","v":52.4},{"$f":"INPUT!AH402","v":59},{"$f":"INPUT!AJ402","v":2.2000000000000002}]
[{"$f":"INPUT!A:A","v":45196.274050925924},{"$f":"INPUT!K403","v":43.2},{"$f":"INPUT!O403","v":52.4},{"$f":"INPUT!AH403","v":59},{"$f":"INPUT!AJ403","v":2.2999999999999998}]
[{"$f":"INPUT!A:A","v":45196.274756944447},{"$f":"INPUT!K404","v":43.2},{"$f":"INPUT!O404","v":52.4},{"$f":"INPUT!AH404","v":59},{"$f":"INPUT!AJ404","v":2.2999999999999998}]
[{"$f":"INPUT!A:A","v":45196.275462962964},{"$f":"INPUT!K405","v":43.1},{"$f":"INPUT!O405","v":52.4},{"$f":"INPUT!AH405","v":59},{"$f":"INPUT!AJ405","v":2.2000000000000002}]
[{"$f":"INPUT!A:A","v":45196.276180555556},{"$f":"INPUT!K406","v":43},{"$f":"INPUT!O406","v":52.4},{"$f":"INPUT!AH406","v":59},{"$f":"INPUT!AJ406","v":2.2999999999999998}]
[{"$f":"INPUT!A:A","v":45196.276886574073},{"$f":"INPUT!K407","v":42.9},{"$f":"INPUT!O407","v":52.4},{"$f":"INPUT!AH407","v":59},{"$f":"INPUT!AJ407","v":2.2999999999999998}]
[{"$f":"INPUT!A:A","v":45196.277581018519},{"$f":"INPUT!K408","v":42.8},{"$f":"INPUT!O408","v":52.4},{"$f":"INPUT!AH408","v":59},{"$f":"INPUT!AJ408","v":2.2000000000000002}]
[{"$f":"INPUT!A:A","v":45196.278287037036},{"$f":"INPUT!K409","v":42.8},{"$f":"INPUT!O409","v":52.4},{"$f":"INPUT!AH409","v":59},{"$f":"INPUT!AJ409","v":2.2000000000000002}]
[{"$f":"INPUT!A:A","v":45196.278993055559},{"$f":"INPUT!K410","v":42.7},{"$f":"INPUT!O410","v":52.4},{"$f":"INPUT!AH410","v":59},{"$f":"INPUT!AJ410","v":2.2999999999999998}]
[{"$f":"INPUT!A:A","v":45196.279699074075},{"$f":"INPUT!K411","v":42.6},{"$f":"INPUT!O411","v":52.4},{"$f":"INPUT!AH411","v":59},{"$f":"INPUT!AJ411","v":2.2000000000000002}]
[{"$f":"INPUT!A:A","v":45196.280393518522},{"$f":"INPUT!K412","v":42.5},{"$f":"INPUT!O412","v":52.4},{"$f":"INPUT!AH412","v":59},{"$f":"INPUT!AJ412","v":2.2000000000000002}]
[{"$f":"INPUT!A:A","v":45196.281099537038},{"$f":"INPUT!K413","v":42.5},{"$f":"INPUT!O413","v":52.4},{"$f":"INPUT!AH413","v":59},{"$f":"INPUT!AJ413","v":2.2999999999999998}]
[{"$f":"INPUT!A:A","v":45196.281805555554},{"$f":"INPUT!K414","v":42.4},{"$f":"INPUT!O414","v":52.4},{"$f":"INPUT!AH414","v":59},{"$f":"INPUT!AJ414","v":2.2999999999999998}]
[{"$f":"INPUT!A:A","v":45196.282500000001},{"$f":"INPUT!K415","v":42.3},{"$f":"INPUT!O415","v":52.4},{"$f":"INPUT!AH415","v":59},{"$f":"INPUT!AJ415","v":2.2000000000000002}]
[{"$f":"INPUT!A:A","v":45196.283217592594},{"$f":"INPUT!K416","v":42.3},{"$f":"INPUT!O416","v":52.4},{"$f":"INPUT!AH416","v":59},{"$f":"INPUT!AJ416","v":2.2999999999999998}]
[{"$f":"INPUT!A:A","v":45196.28392361111},{"$f":"INPUT!K417","v":42.1},{"$f":"INPUT!O417","v":52.4},{"$f":"INPUT!AH417","v":59},{"$f":"INPUT!AJ417","v":2.4}]
[{"$f":"INPUT!A:A","v":45196.284629629627},{"$f":"INPUT!K418","v":42},{"$f":"INPUT!O418","v":52.4},{"$f":"INPUT!AH418","v":59},{"$f":"INPUT!AJ418","v":2.4}]
[{"$f":"INPUT!A:A","v":45196.285324074073},{"$f":"INPUT!K419","v":41.9},{"$f":"INPUT!O419","v":52.4},{"$f":"INPUT!AH419","v":59},{"$f":"INPUT!AJ419","v":2.2000000000000002}]
[{"$f":"INPUT!A:A","v":45196.286030092589},{"$f":"INPUT!K420","v":41.8},{"$f":"INPUT!O420","v":52.4},{"$f":"INPUT!AH420","v":59},{"$f":"INPUT!AJ420","v":2.2999999999999998}]
[{"$f":"INPUT!A:A","v":45196.286736111113},{"$f":"INPUT!K421","v":41.8},{"$f":"INPUT!O421","v":52.4},{"$f":"INPUT!AH421","v":59},{"$f":"INPUT!AJ421","v":2.9}]
[{"$f":"INPUT!A:A","v":45196.287430555552},{"$f":"INPUT!K422","v":41.7},{"$f":"INPUT!O422","v":52.4},{"$f":"INPUT!AH422","v":59},{"$f":"INPUT!AJ422","v":2.6}]
[{"$f":"INPUT!A:A","v":45196.288124999999},{"$f":"INPUT!K423","v":41.6},{"$f":"INPUT!O423","v":52.4},{"$f":"INPUT!AH423","v":59},{"$f":"INPUT!AJ423","v":2.8}]
[{"$f":"INPUT!A:A","v":45196.288831018515},{"$f":"INPUT!K424","v":41.6},{"$f":"INPUT!O424","v":52.4},{"$f":"INPUT!AH424","v":59},{"$f":"INPUT!AJ424","v":2.9}]
[{"$f":"INPUT!A:A","v":45196.289525462962},{"$f":"INPUT!K425","v":41.5},{"$f":"INPUT!O425","v":52.4},{"$f":"INPUT!AH425","v":59},{"$f":"INPUT!AJ425","v":2.9}]
[{"$f":"INPUT!A:A","v":45196.290254629632},{"$f":"INPUT!K426","v":41.4},{"$f":"INPUT!O426","v":52.4},{"$f":"INPUT!AH426","v":59},{"$f":"INPUT!AJ426","v":2.9}]
[{"$f":"INPUT!A:A","v":45196.290960648148},{"$f":"INPUT!K427","v":41.3},{"$f":"INPUT!O427","v":52.3},{"$f":"INPUT!AH427","v":59},{"$f":"INPUT!AJ427","v":2.9}]
[{"$f":"INPUT!A:A","v":45196.291655092595},{"$f":"INPUT!K428","v":41.2},{"$f":"INPUT!O428","v":52.4},{"$f":"INPUT!AH428","v":59},{"$f":"INPUT!AJ428","v":3}]
[{"$f":"INPUT!A:A","v":45196.292361111111},{"$f":"INPUT!K429","v":41.2},{"$f":"INPUT!O429","v":52.4},{"$f":"INPUT!AH429","v":59},{"$f":"INPUT!AJ429","v":2.9}]
[{"$f":"INPUT!A:A","v":45196.293067129627},{"$f":"INPUT!K430","v":41.1},{"$f":"INPUT!O430","v":52.4},{"$f":"INPUT!AH430","v":59},{"$f":"INPUT!AJ430","v":2.8}]
[{"$f":"INPUT!A:A","v":45196.293761574074},{"$f":"INPUT!K431","v":41},{"$f":"INPUT!O431","v":52.3},{"$f":"INPUT!AH431","v":59},{"$f":"INPUT!AJ431","v":2.8}]
[{"$f":"INPUT!A:A","v":45196.29446759259},{"$f":"INPUT!K432","v":40.9},{"$f":"INPUT!O432","v":52.3},{"$f":"INPUT!AH432","v":59},{"$f":"INPUT!AJ432","v":2.9}]
[{"$f":"INPUT!A:A","v":45196.295173611114},{"$f":"INPUT!K433","v":40.799999999999997},{"$f":"INPUT!O433","v":52.3},{"$f":"INPUT!AH433","v":59},{"$f":"INPUT!AJ433","v":2.7}]
[{"$f":"INPUT!A:A","v":45196.29587962963},{"$f":"INPUT!K434","v":40.700000000000003},{"$f":"INPUT!O434","v":52.3},{"$f":"INPUT!AH434","v":59},{"$f":"INPUT!AJ434","v":2.7}]
[{"$f":"INPUT!A:A","v":45196.296585648146},{"$f":"INPUT!K435","v":40.700000000000003},{"$f":"INPUT!O435","v":52.4},{"$f":"INPUT!AH435","v":59},{"$f":"INPUT!AJ435","v":7.3}]
[{"$f":"INPUT!A:A","v":45196.297291666669},{"$f":"INPUT!K436","v":40.6},{"$f":"INPUT!O436","v":52.4},{"$f":"INPUT!AH436","v":59},{"$f":"INPUT!AJ436","v":2.7}]
[{"$f":"INPUT!A:A","v":45196.297986111109},{"$f":"INPUT!K437","v":40.5},{"$f":"INPUT!O437","v":52.4},{"$f":"INPUT!AH437","v":59},{"$f":"INPUT!AJ437","v":2.7}]
[{"$f":"INPUT!A:A","v":45196.298692129632},{"$f":"INPUT!K438","v":40.4},{"$f":"INPUT!O438","v":52.4},{"$f":"INPUT!AH438","v":59},{"$f":"INPUT!AJ438","v":2.7}]
[{"$f":"INPUT!A:A","v":45196.299398148149},{"$f":"INPUT!K439","v":40.4},{"$f":"INPUT!O439","v":52.4},{"$f":"INPUT!AH439","v":59},{"$f":"INPUT!AJ439","v":2.7}]
[{"$f":"INPUT!A:A","v":45196.300104166665},{"$f":"INPUT!K440","v":40.299999999999997},{"$f":"INPUT!O440","v":52.3},{"$f":"INPUT!AH440","v":59},{"$f":"INPUT!AJ440","v":2.6}]
[{"$f":"INPUT!A:A","v":45196.300810185188},{"$f":"INPUT!K441","v":40.200000000000003},{"$f":"INPUT!O441","v":52.4},{"$f":"INPUT!AH441","v":59},{"$f":"INPUT!AJ441","v":2.7}]
[{"$f":"INPUT!A:A","v":45196.301516203705},{"$f":"INPUT!K442","v":40.1},{"$f":"INPUT!O442","v":52.3},{"$f":"INPUT!AH442","v":59},{"$f":"INPUT!AJ442","v":2.8}]
[{"$f":"INPUT!A:A","v":45196.302222222221},{"$f":"INPUT!K443","v":40.1},{"$f":"INPUT!O443","v":52.4},{"$f":"INPUT!AH443","v":59},{"$f":"INPUT!AJ443","v":2.8}]
[{"$f":"INPUT!A:A","v":45196.302916666667},{"$f":"INPUT!K444","v":40},{"$f":"INPUT!O444","v":52.3},{"$f":"INPUT!AH444","v":59},{"$f":"INPUT!AJ444","v":2.8}]
[{"$f":"INPUT!A:A","v":45196.30363425926},{"$f":"INPUT!K445","v":39.9},{"$f":"INPUT!O445","v":52.3},{"$f":"INPUT!AH445","v":59},{"$f":"INPUT!AJ445","v":2}]
[{"$f":"INPUT!A:A","v":45196.304328703707},{"$f":"INPUT!K446","v":39.799999999999997},{"$f":"INPUT!O446","v":53},{"$f":"INPUT!AH446","v":60},{"$f":"INPUT!AJ446","v":15.2}]
[{"$f":"INPUT!A:A","v":45196.305034722223},{"$f":"INPUT!K447","v":39.9},{"$f":"INPUT!O447","v":53.4},{"$f":"INPUT!AH447","v":60.2},{"$f":"INPUT!AJ447","v":17.399999999999999}]
[{"$f":"INPUT!A:A","v":45196.30574074074},{"$f":"INPUT!K448","v":40.200000000000003},{"$f":"INPUT!O448","v":53.6},{"$f":"INPUT!AH448","v":60.3},{"$f":"INPUT!AJ448","v":16.899999999999999}]
[{"$f":"INPUT!A:A","v":45196.306446759256},{"$f":"INPUT!K449","v":40.4},{"$f":"INPUT!O449","v":53.5},{"$f":"INPUT!AH449","v":60.2},{"$f":"INPUT!AJ449","v":16}]
[{"$f":"INPUT!A:A","v":45196.307152777779},{"$f":"INPUT!K450","v":40.6},{"$f":"INPUT!O450","v":53.6},{"$f":"INPUT!AH450","v":60.1},{"$f":"INPUT!AJ450","v":14.6}]
[{"$f":"INPUT!A:A","v":45196.307858796295},{"$f":"INPUT!K451","v":40.799999999999997},{"$f":"INPUT!O451","v":53.6},{"$f":"INPUT!AH451","v":60.1},{"$f":"INPUT!AJ451","v":14.7}]
[{"$f":"INPUT!A:A","v":45196.308553240742},{"$f":"INPUT!K452","v":41.1},{"$f":"INPUT!O452","v":53.6},{"$f":"INPUT!AH452","v":60.1},{"$f":"INPUT!AJ452","v":14.7}]
[{"$f":"INPUT!A:A","v":45196.309259259258},{"$f":"INPUT!K453","v":41.3},{"$f":"INPUT!O453","v":53.7},{"$f":"INPUT!AH453","v":60.1},{"$f":"INPUT!AJ453","v":14.8}]
[{"$f":"INPUT!A:A","v":45196.309965277775},{"$f":"INPUT!K454","v":41.6},{"$f":"INPUT!O454","v":53.7},{"$f":"INPUT!AH454","v":60.1},{"$f":"INPUT!AJ454","v":14.6}]
[{"$f":"INPUT!A:A","v":45196.310682870368},{"$f":"INPUT!K455","v":41.8},{"$f":"INPUT!O455","v":53.7},{"$f":"INPUT!AH455","v":60.1},{"$f":"INPUT!AJ455","v":14.6}]
[{"$f":"INPUT!A:A","v":45196.311388888891},{"$f":"INPUT!K456","v":42.1},{"$f":"INPUT!O456","v":53.7},{"$f":"INPUT!AH456","v":60.1},{"$f":"INPUT!AJ456","v":14.6}]
[{"$f":"INPUT!A:A","v":45196.312094907407},{"$f":"INPUT!K457","v":42.3},{"$f":"INPUT!O457","v":53.7},{"$f":"INPUT!AH457","v":60.1},{"$f":"INPUT!AJ457","v":14.8}]
[{"$f":"INPUT!A:A","v":45196.312800925924},{"$f":"INPUT!K458","v":42.5},{"$f":"INPUT!O458","v":53.7},{"$f":"INPUT!AH458","v":60.1},{"$f":"INPUT!AJ458","v":14.5}]
[{"$f":"INPUT!A:A","v":45196.313506944447},{"$f":"INPUT!K459","v":42.7},{"$f":"INPUT!O459","v":53.7},{"$f":"INPUT!AH459","v":60.1},{"$f":"INPUT!AJ459","v":14.6}]
[{"$f":"INPUT!A:A","v":45196.314212962963},{"$f":"INPUT!K460","v":43},{"$f":"INPUT!O460","v":53.7},{"$f":"INPUT!AH460","v":60.1},{"$f":"INPUT!AJ460","v":14.6}]
[{"$f":"INPUT!A:A","v":45196.31490740741},{"$f":"INPUT!K461","v":43.2},{"$f":"INPUT!O461","v":53.8},{"$f":"INPUT!AH461","v":60.1},{"$f":"INPUT!AJ461","v":14.7}]
[{"$f":"INPUT!A:A","v":45196.315613425926},{"$f":"INPUT!K462","v":43.5},{"$f":"INPUT!O462","v":53.7},{"$f":"INPUT!AH462","v":60.1},{"$f":"INPUT!AJ462","v":14.5}]
[{"$f":"INPUT!A:A","v":45196.316319444442},{"$f":"INPUT!K463","v":43.7},{"$f":"INPUT!O463","v":53.7},{"$f":"INPUT!AH463","v":60.1},{"$f":"INPUT!AJ463","v":14.6}]
[{"$f":"INPUT!A:A","v":45196.317013888889},{"$f":"INPUT!K464","v":43.9},{"$f":"INPUT!O464","v":53.7},{"$f":"INPUT!AH464","v":60.1},{"$f":"INPUT!AJ464","v":14.7}]
[{"$f":"INPUT!A:A","v":45196.317731481482},{"$f":"INPUT!K465","v":44.1},{"$f":"INPUT!O465","v":53.7},{"$f":"INPUT!AH465","v":60.1},{"$f":"INPUT!AJ465","v":14.6}]
[{"$f":"INPUT!A:A","v":45196.318437499998},{"$f":"INPUT!K466","v":44.4},{"$f":"INPUT!O466","v":53.7},{"$f":"INPUT!AH466","v":60.1},{"$f":"INPUT!AJ466","v":14.9}]
[{"$f":"INPUT!A:A","v":45196.319143518522},{"$f":"INPUT!K467","v":44.6},{"$f":"INPUT!O467","v":53.7},{"$f":"INPUT!AH467","v":60.1},{"$f":"INPUT!AJ467","v":15.1}]
[{"$f":"INPUT!A:A","v":45196.319837962961},{"$f":"INPUT!K468","v":44.8},{"$f":"INPUT!O468","v":53.7},{"$f":"INPUT!AH468","v":60.1},{"$f":"INPUT!AJ468","v":15.6}]
[{"$f":"INPUT!A:A","v":45196.320543981485},{"$f":"INPUT!K469","v":45},{"$f":"INPUT!O469","v":53.7},{"$f":"INPUT!AH469","v":60.1},{"$f":"INPUT!AJ469","v":14.8}]
[{"$f":"INPUT!A:A","v":45196.321250000001},{"$f":"INPUT!K470","v":45.3},{"$f":"INPUT!O470","v":53.7},{"$f":"INPUT!AH470","v":60.1},{"$f":"INPUT!AJ470","v":14.9}]
[{"$f":"INPUT!A:A","v":45196.321956018517},{"$f":"INPUT!K471","v":45.5},{"$f":"INPUT!O471","v":53.7},{"$f":"INPUT!AH471","v":60.1},{"$f":"INPUT!AJ471","v":15}]
[{"$f":"INPUT!A:A","v":45196.322662037041},{"$f":"INPUT!K472","v":45.7},{"$f":"INPUT!O472","v":53.7},{"$f":"INPUT!AH472","v":60.1},{"$f":"INPUT!AJ472","v":15.2}]
[{"$f":"INPUT!A:A","v":45196.32335648148},{"$f":"INPUT!K473","v":45.9},{"$f":"INPUT!O473","v":53.7},{"$f":"INPUT!AH473","v":60.1},{"$f":"INPUT!AJ473","v":14.9}]
[{"$f":"INPUT!A:A","v":45196.324062500003},{"$f":"INPUT!K474","v":46.1},{"$f":"INPUT!O474","v":53.7},{"$f":"INPUT!AH474","v":60.2},{"$f":"INPUT!AJ474","v":15.7}]
[{"$f":"INPUT!A:A","v":45196.32476851852},{"$f":"INPUT!K475","v":46.3},{"$f":"INPUT!O475","v":53.7},{"$f":"INPUT!AH475","v":60},{"$f":"INPUT!AJ475","v":14.9}]
[{"$f":"INPUT!A:A","v":45196.325474537036},{"$f":"INPUT!K476","v":46.6},{"$f":"INPUT!O476","v":53.8},{"$f":"INPUT!AH476","v":60},{"$f":"INPUT!AJ476","v":14.8}]
[{"$f":"INPUT!A:A","v":45196.326180555552},{"$f":"INPUT!K477","v":46.8},{"$f":"INPUT!O477","v":53.8},{"$f":"INPUT!AH477","v":60},{"$f":"INPUT!AJ477","v":14.8}]
[{"$f":"INPUT!A:A","v":45196.326886574076},{"$f":"INPUT!K478","v":47},{"$f":"INPUT!O478","v":53.8},{"$f":"INPUT!AH478","v":60.1},{"$f":"INPUT!AJ478","v":14.9}]
[{"$f":"INPUT!A:A","v":45196.327592592592},{"$f":"INPUT!K479","v":47.3},{"$f":"INPUT!O479","v":53.8},{"$f":"INPUT!AH479","v":60},{"$f":"INPUT!AJ479","v":15}]
[{"$f":"INPUT!A:A","v":45196.328298611108},{"$f":"INPUT!K480","v":47.5},{"$f":"INPUT!O480","v":53.8},{"$f":"INPUT!AH480","v":60.1},{"$f":"INPUT!AJ480","v":14.9}]
[{"$f":"INPUT!A:A","v":45196.328993055555},{"$f":"INPUT!K481","v":47.8},{"$f":"INPUT!O481","v":53.8},{"$f":"INPUT!AH481","v":60.1},{"$f":"INPUT!AJ481","v":14.8}]
[{"$f":"INPUT!A:A","v":45196.329699074071},{"$f":"INPUT!K482","v":48},{"$f":"INPUT!O482","v":53.8},{"$f":"INPUT!AH482","v":60.1},{"$f":"INPUT!AJ482","v":14.7}]
[{"$f":"INPUT!A:A","v":45196.330405092594},{"$f":"INPUT!K483","v":48.2},{"$f":"INPUT!O483","v":53.8},{"$f":"INPUT!AH483","v":60.1},{"$f":"INPUT!AJ483","v":15.1}]
[{"$f":"INPUT!A:A","v":45196.331111111111},{"$f":"INPUT!K484","v":48.5},{"$f":"INPUT!O484","v":53.8},{"$f":"INPUT!AH484","v":60.1},{"$f":"INPUT!AJ484","v":14.6}]
[{"$f":"INPUT!A:A","v":45196.331828703704},{"$f":"INPUT!K485","v":48.7},{"$f":"INPUT!O485","v":53.8},{"$f":"INPUT!AH485","v":60.1},{"$f":"INPUT!AJ485","v":14.8}]
[{"$f":"INPUT!A:A","v":45196.33253472222},{"$f":"INPUT!K486","v":49},{"$f":"INPUT!O486","v":53.8},{"$f":"INPUT!AH486","v":60.1},{"$f":"INPUT!AJ486","v":14.6}]
[{"$f":"INPUT!A:A","v":45196.333229166667},{"$f":"INPUT!K487","v":49.2},{"$f":"INPUT!O487","v":53.8},{"$f":"INPUT!AH487","v":60.1},{"$f":"INPUT!AJ487","v":14.9}]
[{"$f":"INPUT!A:A","v":45196.333935185183},{"$f":"INPUT!K488","v":49.4},{"$f":"INPUT!O488","v":53.8},{"$f":"INPUT!AH488","v":60.1},{"$f":"INPUT!AJ488","v":14.8}]
[{"$f":"INPUT!A:A","v":45196.334629629629},{"$f":"INPUT!K489","v":49.7},{"$f":"INPUT!O489","v":53.8},{"$f":"INPUT!AH489","v":60.1},{"$f":"INPUT!AJ489","v":14.9}]
[{"$f":"INPUT!A:A","v":45196.335335648146},{"$f":"INPUT!K490","v":49.9},{"$f":"INPUT!O490","v":53.8},{"$f":"INPUT!AH490","v":60.1},{"$f":"INPUT!AJ490","v":14.7}]
[{"$f":"INPUT!A:A","v":45196.336030092592},{"$f":"INPUT!K491","v":50.1},{"$f":"INPUT!O491","v":53.8},{"$f":"INPUT!AH491","v":60.1},{"$f":"INPUT!AJ491","v":14.8}]
[{"$f":"INPUT!A:A","v":45196.336736111109},{"$f":"INPUT!K492","v":50.4},{"$f":"INPUT!O492","v":53.8},{"$f":"INPUT!AH492","v":60.1},{"$f":"INPUT!AJ492","v":14.7}]
[{"$f":"INPUT!A:A","v":45196.337442129632},{"$f":"INPUT!K493","v":50.7},{"$f":"INPUT!O493","v":53.8},{"$f":"INPUT!AH493","v":60.1},{"$f":"INPUT!AJ493","v":14.9}]
[{"$f":"INPUT!A:A","v":45196.338136574072},{"$f":"INPUT!K494","v":50.9},{"$f":"INPUT!O494","v":53.8},{"$f":"INPUT!AH494","v":60.1},{"$f":"INPUT!AJ494","v":15}]
[{"$f":"INPUT!A:A","v":45196.338854166665},{"$f":"INPUT!K495","v":51.1},{"$f":"INPUT!O495","v":53.8},{"$f":"INPUT!AH495","v":60.1},{"$f":"INPUT!AJ495","v":14.8}]
[{"$f":"INPUT!A:A","v":45196.339560185188},{"$f":"INPUT!K496","v":51.4},{"$f":"INPUT!O496","v":53.8},{"$f":"INPUT!AH496","v":60.1},{"$f":"INPUT!AJ496","v":14.8}]
[{"$f":"INPUT!A:A","v":45196.340266203704},{"$f":"INPUT!K497","v":51.6},{"$f":"INPUT!O497","v":53.8},{"$f":"INPUT!AH497","v":60.2},{"$f":"INPUT!AJ497","v":17.100000000000001}]
[{"$f":"INPUT!A:A","v":45196.34097222222},{"$f":"INPUT!K498","v":51.8},{"$f":"INPUT!O498","v":53.8},{"$f":"INPUT!AH498","v":60},{"$f":"INPUT!AJ498","v":14.8}]
[{"$f":"INPUT!A:A","v":45196.341678240744},{"$f":"INPUT!K499","v":52},{"$f":"INPUT!O499","v":53.8},{"$f":"INPUT!AH499","v":60.1},{"$f":"INPUT!AJ499","v":14.7}]
[{"$f":"INPUT!A:A","v":45196.34238425926},{"$f":"INPUT!K500","v":52.2},{"$f":"INPUT!O500","v":53.8},{"$f":"INPUT!AH500","v":60.1},{"$f":"INPUT!AJ500","v":14.6}]
[{"$f":"INPUT!A:A","v":45196.343090277776},{"$f":"INPUT!K501","v":52.5},{"$f":"INPUT!O501","v":53.9},{"$f":"INPUT!AH501","v":60.1},{"$f":"INPUT!AJ501","v":15}]
[{"$f":"INPUT!A:A","v":45196.3437962963},{"$f":"INPUT!K502","v":52.7},{"$f":"INPUT!O502","v":53.8},{"$f":"INPUT!AH502","v":60.1},{"$f":"INPUT!AJ502","v":15}]
[{"$f":"INPUT!A:A","v":45196.344490740739},{"$f":"INPUT!K503","v":52.9},{"$f":"INPUT!O503","v":53.8},{"$f":"INPUT!AH503","v":60.1},{"$f":"INPUT!AJ503","v":15.1}]
[{"$f":"INPUT!A:A","v":45196.345196759263},{"$f":"INPUT!K504","v":53.1},{"$f":"INPUT!O504","v":53.9},{"$f":"INPUT!AH504","v":60.1},{"$f":"INPUT!AJ504","v":15.3}]
[{"$f":"INPUT!A:A","v":45196.345914351848},{"$f":"INPUT!K505","v":53.4},{"$f":"INPUT!O505","v":53.9},{"$f":"INPUT!AH505","v":60.1},{"$f":"INPUT!AJ505","v":14.9}]
[{"$f":"INPUT!A:A","v":45196.346608796295},{"$f":"INPUT!K506","v":53.6},{"$f":"INPUT!O506","v":53.9},{"$f":"INPUT!AH506","v":60.1},{"$f":"INPUT!AJ506","v":15}]
[{"$f":"INPUT!A:A","v":45196.347314814811},{"$f":"INPUT!K507","v":53.8},{"$f":"INPUT!O507","v":53.9},{"$f":"INPUT!AH507","v":60.1},{"$f":"INPUT!AJ507","v":14.9}]
[{"$f":"INPUT!A:A","v":45196.348009259258},{"$f":"INPUT!K508","v":54.1},{"$f":"INPUT!O508","v":53.9},{"$f":"INPUT!AH508","v":60.1},{"$f":"INPUT!AJ508","v":14.8}]
[{"$f":"INPUT!A:A","v":45196.348715277774},{"$f":"INPUT!K509","v":54.3},{"$f":"INPUT!O509","v":53.9},{"$f":"INPUT!AH509","v":60.1},{"$f":"INPUT!AJ509","v":15.1}]
[{"$f":"INPUT!A:A","v":45196.349409722221},{"$f":"INPUT!K510","v":54.5},{"$f":"INPUT!O510","v":53.9},{"$f":"INPUT!AH510","v":60.1},{"$f":"INPUT!AJ510","v":15}]
[{"$f":"INPUT!A:A","v":45196.350115740737},{"$f":"INPUT!K511","v":54.7},{"$f":"INPUT!O511","v":53.9},{"$f":"INPUT!AH511","v":60.1},{"$f":"INPUT!AJ511","v":14.8}]
[{"$f":"INPUT!A:A","v":45196.350821759261},{"$f":"INPUT!K512","v":55},{"$f":"INPUT!O512","v":53.9},{"$f":"INPUT!AH512","v":60.1},{"$f":"INPUT!AJ512","v":15}]
[{"$f":"INPUT!A:A","v":45196.351527777777},{"$f":"INPUT!K513","v":55.2},{"$f":"INPUT!O513","v":53.9},{"$f":"INPUT!AH513","v":60.1},{"$f":"INPUT!AJ513","v":14.9}]
[{"$f":"INPUT!A:A","v":45196.352256944447},{"$f":"INPUT!K514","v":55.5},{"$f":"INPUT!O514","v":53.9},{"$f":"INPUT!AH514","v":60.1},{"$f":"INPUT!AJ514","v":14.9}]
[{"$f":"INPUT!A:A","v":45196.352962962963},{"$f":"INPUT!K515","v":55.7},{"$f":"INPUT!O515","v":53.9},{"$f":"INPUT!AH515","v":60.1},{"$f":"INPUT!AJ515","v":14.8}]
[{"$f":"INPUT!A:A","v":45196.353668981479},{"$f":"INPUT!K516","v":55.9},{"$f":"INPUT!O516","v":53.9},{"$f":"INPUT!AH516","v":60.2},{"$f":"INPUT!AJ516","v":15.8}]
[{"$f":"INPUT!A:A","v":45196.354363425926},{"$f":"INPUT!K517","v":56.1},{"$f":"INPUT!O517","v":53.9},{"$f":"INPUT!AH517","v":60},{"$f":"INPUT!AJ517","v":14.4}]
[{"$f":"INPUT!A:A","v":45196.355069444442},{"$f":"INPUT!K518","v":56.4},{"$f":"INPUT!O518","v":53.9},{"$f":"INPUT!AH518","v":60},{"$f":"INPUT!AJ518","v":14.6}]
[{"$f":"INPUT!A:A","v":45196.355775462966},{"$f":"INPUT!K519","v":56.6},{"$f":"INPUT!O519","v":54},{"$f":"INPUT!AH519","v":60.1},{"$f":"INPUT!AJ519","v":14.8}]
[{"$f":"INPUT!A:A","v":45196.356481481482},{"$f":"INPUT!K520","v":56.8},{"$f":"INPUT!O520","v":54},{"$f":"INPUT!AH520","v":60},{"$f":"INPUT!AJ520","v":14.7}]
[{"$f":"INPUT!A:A","v":45196.357187499998},{"$f":"INPUT!K521","v":57.1},{"$f":"INPUT!O521","v":54},{"$f":"INPUT!AH521","v":60.1},{"$f":"INPUT!AJ521","v":14.5}]
[{"$f":"INPUT!A:A","v":45196.357881944445},{"$f":"INPUT!K522","v":57.2},{"$f":"INPUT!O522","v":54},{"$f":"INPUT!AH522","v":60},{"$f":"INPUT!AJ522","v":13.8}]
[{"$f":"INPUT!A:A","v":45196.358587962961},{"$f":"INPUT!K523","v":57.5},{"$f":"INPUT!O523","v":54},{"$f":"INPUT!AH523","v":60.1},{"$f":"INPUT!AJ523","v":13.8}]
[{"$f":"INPUT!A:A","v":45196.359305555554},{"$f":"INPUT!K524","v":57.7},{"$f":"INPUT!O524","v":54},{"$f":"INPUT!AH524","v":60.1},{"$f":"INPUT!AJ524","v":13.8}]
[{"$f":"INPUT!A:A","v":45196.360011574077},{"$f":"INPUT!K525","v":57.9},{"$f":"INPUT!O525","v":54},{"$f":"INPUT!AH525","v":60.1},{"$f":"INPUT!AJ525","v":13.6}]
[{"$f":"INPUT!A:A","v":45196.360717592594},{"$f":"INPUT!K526","v":58.2},{"$f":"INPUT!O526","v":54},{"$f":"INPUT!AH526","v":60.1},{"$f":"INPUT!AJ526","v":14.2}]
[{"$f":"INPUT!A:A","v":45196.36142361111},{"$f":"INPUT!K527","v":58.4},{"$f":"INPUT!O527","v":54},{"$f":"INPUT!AH527","v":60.1},{"$f":"INPUT!AJ527","v":13.8}]
[{"$f":"INPUT!A:A","v":45196.362129629626},{"$f":"INPUT!K528","v":58.6},{"$f":"INPUT!O528","v":54},{"$f":"INPUT!AH528","v":60.1},{"$f":"INPUT!AJ528","v":13.8}]
[{"$f":"INPUT!A:A","v":45196.362835648149},{"$f":"INPUT!K529","v":58.9},{"$f":"INPUT!O529","v":54},{"$f":"INPUT!AH529","v":60.1},{"$f":"INPUT!AJ529","v":14}]
[{"$f":"INPUT!A:A","v":45196.363541666666},{"$f":"INPUT!K530","v":59.1},{"$f":"INPUT!O530","v":54.1},{"$f":"INPUT!AH530","v":60.1},{"$f":"INPUT!AJ530","v":14}]
[{"$f":"INPUT!A:A","v":45196.364236111112},{"$f":"INPUT!K531","v":59.3},{"$f":"INPUT!O531","v":54.1},{"$f":"INPUT!AH531","v":60.1},{"$f":"INPUT!AJ531","v":13.9}]
[{"$f":"INPUT!A:A","v":45196.364942129629},{"$f":"INPUT!K532","v":59.6},{"$f":"INPUT!O532","v":54.1},{"$f":"INPUT!AH532","v":60.1},{"$f":"INPUT!AJ532","v":13.8}]
[{"$f":"INPUT!A:A","v":45196.365648148145},{"$f":"INPUT!K533","v":59.8},{"$f":"INPUT!O533","v":54.1},{"$f":"INPUT!AH533","v":60.1},{"$f":"INPUT!AJ533","v":13.6}]
[{"$f":"INPUT!A:A","v":45196.366365740738},{"$f":"INPUT!K534","v":60},{"$f":"INPUT!O534","v":54.1},{"$f":"INPUT!AH534","v":60.1},{"$f":"INPUT!AJ534","v":14.6}]
[{"$f":"INPUT!A:A","v":45196.367071759261},{"$f":"INPUT!K535","v":60.3},{"$f":"INPUT!O535","v":54.2},{"$f":"INPUT!AH535","v":60.1},{"$f":"INPUT!AJ535","v":14.5}]
[{"$f":"INPUT!A:A","v":45196.367777777778},{"$f":"INPUT!K536","v":60.5},{"$f":"INPUT!O536","v":54.1},{"$f":"INPUT!AH536","v":60.2},{"$f":"INPUT!AJ536","v":14.8}]
[{"$f":"INPUT!A:A","v":45196.368483796294},{"$f":"INPUT!K537","v":60.7},{"$f":"INPUT!O537","v":54.2},{"$f":"INPUT!AH537","v":60},{"$f":"INPUT!AJ537","v":14.1}]
[{"$f":"INPUT!A:A","v":45196.369189814817},{"$f":"INPUT!K538","v":60.9},{"$f":"INPUT!O538","v":54.2},{"$f":"INPUT!AH538","v":60.1},{"$f":"INPUT!AJ538","v":14.2}]
[{"$f":"INPUT!A:A","v":45196.369895833333},{"$f":"INPUT!K539","v":61.1},{"$f":"INPUT!O539","v":54.2},{"$f":"INPUT!AH539","v":60},{"$f":"INPUT!AJ539","v":13.4}]
[{"$f":"INPUT!A:A","v":45196.37059027778},{"$f":"INPUT!K540","v":61.4},{"$f":"INPUT!O540","v":54.2},{"$f":"INPUT!AH540","v":60},{"$f":"INPUT!AJ540","v":13.1}]
[{"$f":"INPUT!A:A","v":45196.371296296296},{"$f":"INPUT!K541","v":61.6},{"$f":"INPUT!O541","v":54.2},{"$f":"INPUT!AH541","v":60.1},{"$f":"INPUT!AJ541","v":13.5}]
[{"$f":"INPUT!A:A","v":45196.372002314813},{"$f":"INPUT!K542","v":61.8},{"$f":"INPUT!O542","v":54.2},{"$f":"INPUT!AH542","v":60.1},{"$f":"INPUT!AJ542","v":14.2}]
[{"$f":"INPUT!A:A","v":45196.372708333336},{"$f":"INPUT!K543","v":62},{"$f":"INPUT!O543","v":54.2},{"$f":"INPUT!AH543","v":60.1},{"$f":"INPUT!AJ543","v":13.4}]
[{"$f":"INPUT!A:A","v":45196.373425925929},{"$f":"INPUT!K544","v":62.2},{"$f":"INPUT!O544","v":54.2},{"$f":"INPUT!AH544","v":60.1},{"$f":"INPUT!AJ544","v":13.3}]
[{"$f":"INPUT!A:A","v":45196.374120370368},{"$f":"INPUT!K545","v":62.4},{"$f":"INPUT!O545","v":54.2},{"$f":"INPUT!AH545","v":60.1},{"$f":"INPUT!AJ545","v":14.1}]
[{"$f":"INPUT!A:A","v":45196.374826388892},{"$f":"INPUT!K546","v":62.6},{"$f":"INPUT!O546","v":54.3},{"$f":"INPUT!AH546","v":60.1},{"$f":"INPUT!AJ546","v":13.8}]
[{"$f":"INPUT!A:A","v":45196.375532407408},{"$f":"INPUT!K547","v":62.8},{"$f":"INPUT!O547","v":54.3},{"$f":"INPUT!AH547","v":60.1},{"$f":"INPUT!AJ547","v":13.8}]
[{"$f":"INPUT!A:A","v":45196.376226851855},{"$f":"INPUT!K548","v":63.1},{"$f":"INPUT!O548","v":54.3},{"$f":"INPUT!AH548","v":60.1},{"$f":"INPUT!AJ548","v":13.4}]
[{"$f":"INPUT!A:A","v":45196.376932870371},{"$f":"INPUT!K549","v":63.3},{"$f":"INPUT!O549","v":54.3},{"$f":"INPUT!AH549","v":60.1},{"$f":"INPUT!AJ549","v":13.8}]
[{"$f":"INPUT!A:A","v":45196.377638888887},{"$f":"INPUT!K550","v":63.5},{"$f":"INPUT!O550","v":54.3},{"$f":"INPUT!AH550","v":60.1},{"$f":"INPUT!AJ550","v":13.7}]
[{"$f":"INPUT!A:A","v":45196.378333333334},{"$f":"INPUT!K551","v":63.7},{"$f":"INPUT!O551","v":54.3},{"$f":"INPUT!AH551","v":60.1},{"$f":"INPUT!AJ551","v":13.4}]
[{"$f":"INPUT!A:A","v":45196.37903935185},{"$f":"INPUT!K552","v":63.9},{"$f":"INPUT!O552","v":54.3},{"$f":"INPUT!AH552","v":60.1},{"$f":"INPUT!AJ552","v":14.4}]
[{"$f":"INPUT!A:A","v":45196.379733796297},{"$f":"INPUT!K553","v":64.2},{"$f":"INPUT!O553","v":54.3},{"$f":"INPUT!AH553","v":60.1},{"$f":"INPUT!AJ553","v":14.1}]
[{"$f":"INPUT!A:A","v":45196.38045138889},{"$f":"INPUT!K554","v":64.400000000000006},{"$f":"INPUT!O554","v":54.3},{"$f":"INPUT!AH554","v":60.1},{"$f":"INPUT!AJ554","v":14.6}]
[{"$f":"INPUT!A:A","v":45196.381157407406},{"$f":"INPUT!K555","v":64.599999999999994},{"$f":"INPUT!O555","v":54.3},{"$f":"INPUT!AH555","v":60.1},{"$f":"INPUT!AJ555","v":14}]
[{"$f":"INPUT!A:A","v":45196.381851851853},{"$f":"INPUT!K556","v":64.8},{"$f":"INPUT!O556","v":54.3},{"$f":"INPUT!AH556","v":60.1},{"$f":"INPUT!AJ556","v":14.3}]
[{"$f":"INPUT!A:A","v":45196.382557870369},{"$f":"INPUT!K557","v":65},{"$f":"INPUT!O557","v":54.3},{"$f":"INPUT!AH557","v":60.1},{"$f":"INPUT!AJ557","v":14.6}]
[{"$f":"INPUT!A:A","v":45196.383252314816},{"$f":"INPUT!K558","v":65.2},{"$f":"INPUT!O558","v":54.3},{"$f":"INPUT!AH558","v":60.1},{"$f":"INPUT!AJ558","v":14.5}]
[{"$f":"INPUT!A:A","v":45196.383958333332},{"$f":"INPUT!K559","v":65.5},{"$f":"INPUT!O559","v":54.3},{"$f":"INPUT!AH559","v":60.2},{"$f":"INPUT!AJ559","v":16.399999999999999}]
[{"$f":"INPUT!A:A","v":45196.384664351855},{"$f":"INPUT!K560","v":65.599999999999994},{"$f":"INPUT!O560","v":54.3},{"$f":"INPUT!AH560","v":60},{"$f":"INPUT!AJ560","v":15.2}]
[{"$f":"INPUT!A:A","v":45196.385370370372},{"$f":"INPUT!K561","v":65.900000000000006},{"$f":"INPUT!O561","v":54.3},{"$f":"INPUT!AH561","v":60.1},{"$f":"INPUT!AJ561","v":15.1}]
[{"$f":"INPUT!A:A","v":45196.386064814818},{"$f":"INPUT!K562","v":66.099999999999994},{"$f":"INPUT!O562","v":54.3},{"$f":"INPUT!AH562","v":60.1},{"$f":"INPUT!AJ562","v":15.1}]
[{"$f":"INPUT!A:A","v":45196.386770833335},{"$f":"INPUT!K563","v":66.3},{"$f":"INPUT!O563","v":54.3},{"$f":"INPUT!AH563","v":60.1},{"$f":"INPUT!AJ563","v":14.4}]
[{"$f":"INPUT!A:A","v":45196.387488425928},{"$f":"INPUT!K564","v":66.5},{"$f":"INPUT!O564","v":54.3},{"$f":"INPUT!AH564","v":60.2},{"$f":"INPUT!AJ564","v":14.3}]
[{"$f":"INPUT!A:A","v":45196.388194444444},{"$f":"INPUT!K565","v":66.7},{"$f":"INPUT!O565","v":54.3},{"$f":"INPUT!AH565","v":60.1},{"$f":"INPUT!AJ565","v":13.9}]
[{"$f":"INPUT!A:A","v":45196.38890046296},{"$f":"INPUT!K566","v":66.900000000000006},{"$f":"INPUT!O566","v":54.3},{"$f":"INPUT!AH566","v":60.1},{"$f":"INPUT!AJ566","v":15.3}]
[{"$f":"INPUT!A:A","v":45196.389606481483},{"$f":"INPUT!K567","v":67.099999999999994},{"$f":"INPUT!O567","v":54.2},{"$f":"INPUT!AH567","v":60.1},{"$f":"INPUT!AJ567","v":16.2}]
[{"$f":"INPUT!A:A","v":45196.3903125},{"$f":"INPUT!K568","v":67.3},{"$f":"INPUT!O568","v":54.2},{"$f":"INPUT!AH568","v":60.1},{"$f":"INPUT!AJ568","v":15.4}]
[{"$f":"INPUT!A:A","v":45196.391006944446},{"$f":"INPUT!K569","v":67.5},{"$f":"INPUT!O569","v":54.2},{"$f":"INPUT!AH569","v":60.2},{"$f":"INPUT!AJ569","v":16.100000000000001}]
[{"$f":"INPUT!A:A","v":45196.391712962963},{"$f":"INPUT!K570","v":67.7},{"$f":"INPUT!O570","v":54.2},{"$f":"INPUT!AH570","v":60.1},{"$f":"INPUT!AJ570","v":14.8}]
[{"$f":"INPUT!A:A","v":45196.392407407409},{"$f":"INPUT!K571","v":67.900000000000006},{"$f":"INPUT!O571","v":54.2},{"$f":"INPUT!AH571","v":60.1},{"$f":"INPUT!AJ571","v":14.9}]
[{"$f":"INPUT!A:A","v":45196.393113425926},{"$f":"INPUT!K572","v":68},{"$f":"INPUT!O572","v":54.2},{"$f":"INPUT!AH572","v":60.1},{"$f":"INPUT!AJ572","v":15.4}]
[{"$f":"INPUT!A:A","v":45196.393819444442},{"$f":"INPUT!K573","v":68.2},{"$f":"INPUT!O573","v":54.2},{"$f":"INPUT!AH573","v":60.1},{"$f":"INPUT!AJ573","v":15.5}]
[{"$f":"INPUT!A:A","v":45196.394537037035},{"$f":"INPUT!K574","v":68.400000000000006},{"$f":"INPUT!O574","v":54.2},{"$f":"INPUT!AH574","v":60.1},{"$f":"INPUT!AJ574","v":15.3}]
[{"$f":"INPUT!A:A","v":45196.395243055558},{"$f":"INPUT!K575","v":68.599999999999994},{"$f":"INPUT!O575","v":54.2},{"$f":"INPUT!AH575","v":60.2},{"$f":"INPUT!AJ575","v":17.100000000000001}]
[{"$f":"INPUT!A:A","v":45196.395937499998},{"$f":"INPUT!K576","v":68.7},{"$f":"INPUT!O576","v":54.2},{"$f":"INPUT!AH576","v":60.1},{"$f":"INPUT!AJ576","v":15}]
[{"$f":"INPUT!A:A","v":45196.396643518521},{"$f":"INPUT!K577","v":68.900000000000006},{"$f":"INPUT!O577","v":54.2},{"$f":"INPUT!AH577","v":60.1},{"$f":"INPUT!AJ577","v":15.5}]
[{"$f":"INPUT!A:A","v":45196.397337962961},{"$f":"INPUT!K578","v":69.099999999999994},{"$f":"INPUT!O578","v":54.2},{"$f":"INPUT!AH578","v":60.1},{"$f":"INPUT!AJ578","v":15}]
[{"$f":"INPUT!A:A","v":45196.398032407407},{"$f":"INPUT!K579","v":69.3},{"$f":"INPUT!O579","v":54.3},{"$f":"INPUT!AH579","v":60.1},{"$f":"INPUT!AJ579","v":15.1}]
[{"$f":"INPUT!A:A","v":45196.398738425924},{"$f":"INPUT!K580","v":69.5},{"$f":"INPUT!O580","v":54.2},{"$f":"INPUT!AH580","v":60.1},{"$f":"INPUT!AJ580","v":15.3}]
[{"$f":"INPUT!A:A","v":45196.399444444447},{"$f":"INPUT!K581","v":69.7},{"$f":"INPUT!O581","v":54.2},{"$f":"INPUT!AH581","v":60.1},{"$f":"INPUT!AJ581","v":15.9}]
[{"$f":"INPUT!A:A","v":45196.400150462963},{"$f":"INPUT!K582","v":69.8},{"$f":"INPUT!O582","v":54.2},{"$f":"INPUT!AH582","v":60.1},{"$f":"INPUT!AJ582","v":15.2}]
[{"$f":"INPUT!A:A","v":45196.400868055556},{"$f":"INPUT!K583","v":70},{"$f":"INPUT!O583","v":54.2},{"$f":"INPUT!AH583","v":60.1},{"$f":"INPUT!AJ583","v":15}]
[{"$f":"INPUT!A:A","v":45196.401562500003},{"$f":"INPUT!K584","v":70.2},{"$f":"INPUT!O584","v":54.2},{"$f":"INPUT!AH584","v":60.1},{"$f":"INPUT!AJ584","v":15.4}]
[{"$f":"INPUT!A:A","v":45196.402268518519},{"$f":"INPUT!K585","v":70.3},{"$f":"INPUT!O585","v":54.2},{"$f":"INPUT!AH585","v":60.1},{"$f":"INPUT!AJ585","v":15}]
[{"$f":"INPUT!A:A","v":45196.402974537035},{"$f":"INPUT!K586","v":70.5},{"$f":"INPUT!O586","v":54.2},{"$f":"INPUT!AH586","v":60.1},{"$f":"INPUT!AJ586","v":15.4}]
[{"$f":"INPUT!A:A","v":45196.403680555559},{"$f":"INPUT!K587","v":70.7},{"$f":"INPUT!O587","v":54.2},{"$f":"INPUT!AH587","v":60.1},{"$f":"INPUT!AJ587","v":15.2}]
[{"$f":"INPUT!A:A","v":45196.404386574075},{"$f":"INPUT!K588","v":70.900000000000006},{"$f":"INPUT!O588","v":54.3},{"$f":"INPUT!AH588","v":60.1},{"$f":"INPUT!AJ588","v":15}]
[{"$f":"INPUT!A:A","v":45196.405081018522},{"$f":"INPUT!K589","v":71.099999999999994},{"$f":"INPUT!O589","v":54.3},{"$f":"INPUT!AH589","v":60.1},{"$f":"INPUT!AJ589","v":14.5}]
[{"$f":"INPUT!A:A","v":45196.405787037038},{"$f":"INPUT!K590","v":71.3},{"$f":"INPUT!O590","v":54.3},{"$f":"INPUT!AH590","v":60.1},{"$f":"INPUT!AJ590","v":14.7}]
[{"$f":"INPUT!A:A","v":45196.406493055554},{"$f":"INPUT!K591","v":71.5},{"$f":"INPUT!O591","v":54.3},{"$f":"INPUT!AH591","v":60.1},{"$f":"INPUT!AJ591","v":14.8}]
[{"$f":"INPUT!A:A","v":45196.407199074078},{"$f":"INPUT!K592","v":71.7},{"$f":"INPUT!O592","v":54.3},{"$f":"INPUT!AH592","v":60.1},{"$f":"INPUT!AJ592","v":14.6}]
[{"$f":"INPUT!A:A","v":45196.407916666663},{"$f":"INPUT!K593","v":71.8},{"$f":"INPUT!O593","v":54.3},{"$f":"INPUT!AH593","v":60.1},{"$f":"INPUT!AJ593","v":14.1}]
[{"$f":"INPUT!A:A","v":45196.408622685187},{"$f":"INPUT!K594","v":72},{"$f":"INPUT!O594","v":54.3},{"$f":"INPUT!AH594","v":60.1},{"$f":"INPUT!AJ594","v":14.6}]
[{"$f":"INPUT!A:A","v":45196.409328703703},{"$f":"INPUT!K595","v":72.2},{"$f":"INPUT!O595","v":54.2},{"$f":"INPUT!AH595","v":60.1},{"$f":"INPUT!AJ595","v":14.7}]
[{"$f":"INPUT!A:A","v":45196.41002314815},{"$f":"INPUT!K596","v":72.400000000000006},{"$f":"INPUT!O596","v":54.2},{"$f":"INPUT!AH596","v":60.1},{"$f":"INPUT!AJ596","v":15.5}]
[{"$f":"INPUT!A:A","v":45196.410717592589},{"$f":"INPUT!K597","v":72.599999999999994},{"$f":"INPUT!O597","v":54.3},{"$f":"INPUT!AH597","v":60.1},{"$f":"INPUT!AJ597","v":14.4}]
[{"$f":"INPUT!A:A","v":45196.411423611113},{"$f":"INPUT!K598","v":72.8},{"$f":"INPUT!O598","v":54.3},{"$f":"INPUT!AH598","v":60.2},{"$f":"INPUT!AJ598","v":13.9}]
[{"$f":"INPUT!A:A","v":45196.412129629629},{"$f":"INPUT!K599","v":73},{"$f":"INPUT!O599","v":54.3},{"$f":"INPUT!AH599","v":60.1},{"$f":"INPUT!AJ599","v":13}]
[{"$f":"INPUT!A:A","v":45196.412835648145},{"$f":"INPUT!K600","v":73.2},{"$f":"INPUT!O600","v":54.3},{"$f":"INPUT!AH600","v":60.1},{"$f":"INPUT!AJ600","v":12.7}]
[{"$f":"INPUT!A:A","v":45196.413541666669},{"$f":"INPUT!K601","v":73.400000000000006},{"$f":"INPUT!O601","v":54.3},{"$f":"INPUT!AH601","v":60.1},{"$f":"INPUT!AJ601","v":16.2}]
[{"$f":"INPUT!A:A","v":45196.414236111108},{"$f":"INPUT!K602","v":73.599999999999994},{"$f":"INPUT!O602","v":54.3},{"$f":"INPUT!AH602","v":60.1},{"$f":"INPUT!AJ602","v":13.8}]
[{"$f":"INPUT!A:A","v":45196.414953703701},{"$f":"INPUT!K603","v":73.8},{"$f":"INPUT!O603","v":54.3},{"$f":"INPUT!AH603","v":60.1},{"$f":"INPUT!AJ603","v":13.3}]
[{"$f":"INPUT!A:A","v":45196.415648148148},{"$f":"INPUT!K604","v":74},{"$f":"INPUT!O604","v":54.3},{"$f":"INPUT!AH604","v":60.1},{"$f":"INPUT!AJ604","v":12.5}]
[{"$f":"INPUT!A:A","v":45196.416354166664},{"$f":"INPUT!K605","v":74.2},{"$f":"INPUT!O605","v":54.3},{"$f":"INPUT!AH605","v":60.1},{"$f":"INPUT!AJ605","v":12.8}]
[{"$f":"INPUT!A:A","v":45196.417060185187},{"$f":"INPUT!K606","v":74.400000000000006},{"$f":"INPUT!O606","v":54.3},{"$f":"INPUT!AH606","v":60.1},{"$f":"INPUT!AJ606","v":14.4}]
[{"$f":"INPUT!A:A","v":45196.417766203704},{"$f":"INPUT!K607","v":74.599999999999994},{"$f":"INPUT!O607","v":54.3},{"$f":"INPUT!AH607","v":60.1},{"$f":"INPUT!AJ607","v":13.1}]
[{"$f":"INPUT!A:A","v":45196.41847222222},{"$f":"INPUT!K608","v":74.8},{"$f":"INPUT!O608","v":54.3},{"$f":"INPUT!AH608","v":60.1},{"$f":"INPUT!AJ608","v":13.1}]
[{"$f":"INPUT!A:A","v":45196.419178240743},{"$f":"INPUT!K609","v":75},{"$f":"INPUT!O609","v":54.3},{"$f":"INPUT!AH609","v":60.1},{"$f":"INPUT!AJ609","v":13}]
[{"$f":"INPUT!A:A","v":45196.41988425926},{"$f":"INPUT!K610","v":75.2},{"$f":"INPUT!O610","v":54.3},{"$f":"INPUT!AH610","v":60.1},{"$f":"INPUT!AJ610","v":13.8}]
[{"$f":"INPUT!A:A","v":45196.420590277776},{"$f":"INPUT!K611","v":75.400000000000006},{"$f":"INPUT!O611","v":54.3},{"$f":"INPUT!AH611","v":60.1},{"$f":"INPUT!AJ611","v":12.9}]
[{"$f":"INPUT!A:A","v":45196.421296296299},{"$f":"INPUT!K612","v":75.599999999999994},{"$f":"INPUT!O612","v":54.3},{"$f":"INPUT!AH612","v":60.1},{"$f":"INPUT!AJ612","v":13}]
[{"$f":"INPUT!A:A","v":45196.422002314815},{"$f":"INPUT!K613","v":75.8},{"$f":"INPUT!O613","v":54.3},{"$f":"INPUT!AH613","v":60.1},{"$f":"INPUT!AJ613","v":12.9}]
[{"$f":"INPUT!A:A","v":45196.422708333332},{"$f":"INPUT!K614","v":76},{"$f":"INPUT!O614","v":54.3},{"$f":"INPUT!AH614","v":60.1},{"$f":"INPUT!AJ614","v":16.399999999999999}]
[{"$f":"INPUT!A:A","v":45196.423414351855},{"$f":"INPUT!K615","v":76.2},{"$f":"INPUT!O615","v":54.3},{"$f":"INPUT!AH615","v":60.2},{"$f":"INPUT!AJ615","v":13.4}]
[{"$f":"INPUT!A:A","v":45196.424120370371},{"$f":"INPUT!K616","v":76.400000000000006},{"$f":"INPUT!O616","v":54.3},{"$f":"INPUT!AH616","v":60.2},{"$f":"INPUT!AJ616","v":12.1}]
[{"$f":"INPUT!A:A","v":45196.424826388888},{"$f":"INPUT!K617","v":76.599999999999994},{"$f":"INPUT!O617","v":54.3},{"$f":"INPUT!AH617","v":60.1},{"$f":"INPUT!AJ617","v":12.3}]
[{"$f":"INPUT!A:A","v":45196.425520833334},{"$f":"INPUT!K618","v":76.8},{"$f":"INPUT!O618","v":54.3},{"$f":"INPUT!AH618","v":60.1},{"$f":"INPUT!AJ618","v":12.7}]
[{"$f":"INPUT!A:A","v":45196.426226851851},{"$f":"INPUT!K619","v":77},{"$f":"INPUT!O619","v":54.3},{"$f":"INPUT!AH619","v":60.1},{"$f":"INPUT!AJ619","v":12.9}]
[{"$f":"INPUT!A:A","v":45196.426921296297},{"$f":"INPUT!K620","v":77.2},{"$f":"INPUT!O620","v":54.3},{"$f":"INPUT!AH620","v":60.1},{"$f":"INPUT!AJ620","v":13.1}]
[{"$f":"INPUT!A:A","v":45196.427615740744},{"$f":"INPUT!K621","v":77.400000000000006},{"$f":"INPUT!O621","v":54.3},{"$f":"INPUT!AH621","v":60.1},{"$f":"INPUT!AJ621","v":13.9}]
[{"$f":"INPUT!A:A","v":45196.42832175926},{"$f":"INPUT!K622","v":77.599999999999994},{"$f":"INPUT!O622","v":54.3},{"$f":"INPUT!AH622","v":60.1},{"$f":"INPUT!AJ622","v":12.3}]
[{"$f":"INPUT!A:A","v":45196.429039351853},{"$f":"INPUT!K623","v":77.8},{"$f":"INPUT!O623","v":54.3},{"$f":"INPUT!AH623","v":60.1},{"$f":"INPUT!AJ623","v":12.7}]
[{"$f":"INPUT!A:A","v":45196.429745370369},{"$f":"INPUT!K624","v":78},{"$f":"INPUT!O624","v":54.3},{"$f":"INPUT!AH624","v":60.1},{"$f":"INPUT!AJ624","v":12.9}]
[{"$f":"INPUT!A:A","v":45196.430439814816},{"$f":"INPUT!K625","v":78.2},{"$f":"INPUT!O625","v":54.3},{"$f":"INPUT!AH625","v":60.1},{"$f":"INPUT!AJ625","v":12.9}]
[{"$f":"INPUT!A:A","v":45196.431134259263},{"$f":"INPUT!K626","v":78.400000000000006},{"$f":"INPUT!O626","v":54.3},{"$f":"INPUT!AH626","v":60.1},{"$f":"INPUT!AJ626","v":12.9}]
[{"$f":"INPUT!A:A","v":45196.431840277779},{"$f":"INPUT!K627","v":78.5},{"$f":"INPUT!O627","v":54.3},{"$f":"INPUT!AH627","v":60.1},{"$f":"INPUT!AJ627","v":13.1}]
[{"$f":"INPUT!A:A","v":45196.432546296295},{"$f":"INPUT!K628","v":78.7},{"$f":"INPUT!O628","v":54.3},{"$f":"INPUT!AH628","v":60.1},{"$f":"INPUT!AJ628","v":13.2}]
[{"$f":"INPUT!A:A","v":45196.433240740742},{"$f":"INPUT!K629","v":78.900000000000006},{"$f":"INPUT!O629","v":54.3},{"$f":"INPUT!AH629","v":60.2},{"$f":"INPUT!AJ629","v":12.3}]
[{"$f":"INPUT!A:A","v":45196.433946759258},{"$f":"INPUT!K630","v":79.099999999999994},{"$f":"INPUT!O630","v":54.3},{"$f":"INPUT!AH630","v":60.1},{"$f":"INPUT!AJ630","v":11.7}]
[{"$f":"INPUT!A:A","v":45196.434652777774},{"$f":"INPUT!K631","v":79.3},{"$f":"INPUT!O631","v":54.3},{"$f":"INPUT!AH631","v":60.1},{"$f":"INPUT!AJ631","v":11.5}]
[{"$f":"INPUT!A:A","v":45196.435358796298},{"$f":"INPUT!K632","v":79.5},{"$f":"INPUT!O632","v":54.3},{"$f":"INPUT!AH632","v":60.1},{"$f":"INPUT!AJ632","v":14.1}]
[{"$f":"INPUT!A:A","v":45196.436076388891},{"$f":"INPUT!K633","v":79.7},{"$f":"INPUT!O633","v":54.3},{"$f":"INPUT!AH633","v":60.2},{"$f":"INPUT!AJ633","v":15.6}]
[{"$f":"INPUT!A:A","v":45196.43677083333},{"$f":"INPUT!K634","v":79.8},{"$f":"INPUT!O634","v":54.3},{"$f":"INPUT!AH634","v":60.2},{"$f":"INPUT!AJ634","v":12.4}]
[{"$f":"INPUT!A:A","v":45196.437476851854},{"$f":"INPUT!K635","v":80},{"$f":"INPUT!O635","v":54.1},{"$f":"INPUT!AH635","v":60.5},{"$f":"INPUT!AJ635","v":7.7}]
[{"$f":"INPUT!A:A","v":45196.43818287037},{"$f":"INPUT!K636","v":79.900000000000006},{"$f":"INPUT!O636","v":53.5},{"$f":"INPUT!AH636","v":59},{"$f":"INPUT!AJ636","v":3.1}]
[{"$f":"INPUT!A:A","v":45196.438888888886},{"$f":"INPUT!K637","v":79.8},{"$f":"INPUT!O637","v":53.5},{"$f":"INPUT!AH637","v":59},{"$f":"INPUT!AJ637","v":3.1}]
[{"$f":"INPUT!A:A","v":45196.439583333333},{"$f":"INPUT!K638","v":79.7},{"$f":"INPUT!O638","v":53.4},{"$f":"INPUT!AH638","v":59},{"$f":"INPUT!AJ638","v":3.1}]
[{"$f":"INPUT!A:A","v":45196.440289351849},{"$f":"INPUT!K639","v":79.599999999999994},{"$f":"INPUT!O639","v":53.4},{"$f":"INPUT!AH639","v":59},{"$f":"INPUT!AJ639","v":3.1}]
[{"$f":"INPUT!A:A","v":45196.440995370373},{"$f":"INPUT!K640","v":79.599999999999994},{"$f":"INPUT!O640","v":53.3},{"$f":"INPUT!AH640","v":59},{"$f":"INPUT!AJ640","v":3.3}]
[{"$f":"INPUT!A:A","v":45196.441689814812},{"$f":"INPUT!K641","v":79.5},{"$f":"INPUT!O641","v":53.3},{"$f":"INPUT!AH641","v":59},{"$f":"INPUT!AJ641","v":3.4}]
[{"$f":"INPUT!A:A","v":45196.442395833335},{"$f":"INPUT!K642","v":79.400000000000006},{"$f":"INPUT!O642","v":53.3},{"$f":"INPUT!AH642","v":59},{"$f":"INPUT!AJ642","v":3.2}]
[{"$f":"INPUT!A:A","v":45196.443101851852},{"$f":"INPUT!K643","v":79.3},{"$f":"INPUT!O643","v":53.3},{"$f":"INPUT!AH643","v":59},{"$f":"INPUT!AJ643","v":3.2}]
[{"$f":"INPUT!A:A","v":45196.443807870368},{"$f":"INPUT!K644","v":79.2},{"$f":"INPUT!O644","v":53.3},{"$f":"INPUT!AH644","v":59},{"$f":"INPUT!AJ644","v":3.3}]
[{"$f":"INPUT!A:A","v":45196.444513888891},{"$f":"INPUT!K645","v":79.099999999999994},{"$f":"INPUT!O645","v":53.3},{"$f":"INPUT!AH645","v":59},{"$f":"INPUT!AJ645","v":3.7}]
[{"$f":"INPUT!A:A","v":45196.445219907408},{"$f":"INPUT!K646","v":79.099999999999994},{"$f":"INPUT!O646","v":54.1},{"$f":"INPUT!AH646","v":59},{"$f":"INPUT!AJ646","v":12.8}]
[{"$f":"INPUT!A:A","v":45196.445925925924},{"$f":"INPUT!K647","v":79.3},{"$f":"INPUT!O647","v":54.2},{"$f":"INPUT!AH647","v":59},{"$f":"INPUT!AJ647","v":12.3}]
[{"$f":"INPUT!A:A","v":45196.446631944447},{"$f":"INPUT!K648","v":79.5},{"$f":"INPUT!O648","v":54.3},{"$f":"INPUT!AH648","v":59},{"$f":"INPUT!AJ648","v":12.1}]
[{"$f":"INPUT!A:A","v":45196.447337962964},{"$f":"INPUT!K649","v":79.8},{"$f":"INPUT!O649","v":54.3},{"$f":"INPUT!AH649","v":59},{"$f":"INPUT!AJ649","v":12.8}]
[{"$f":"INPUT!A:A","v":45196.44804398148},{"$f":"INPUT!K650","v":80},{"$f":"INPUT!O650","v":54.4},{"$f":"INPUT!AH650","v":59.1},{"$f":"INPUT!AJ650","v":13.1}]
[{"$f":"INPUT!A:A","v":45196.448738425926},{"$f":"INPUT!K651","v":80.3},{"$f":"INPUT!O651","v":54.5},{"$f":"INPUT!AH651","v":59.3},{"$f":"INPUT!AJ651","v":13}]
[{"$f":"INPUT!A:A","v":45196.449467592596},{"$f":"INPUT!K652","v":80.5},{"$f":"INPUT!O652","v":54.5},{"$f":"INPUT!AH652","v":59.4},{"$f":"INPUT!AJ652","v":12.6}]
[{"$f":"INPUT!A:A","v":45196.450162037036},{"$f":"INPUT!K653","v":80.7},{"$f":"INPUT!O653","v":54.4},{"$f":"INPUT!AH653","v":59.4},{"$f":"INPUT!AJ653","v":8.4}]
[{"$f":"INPUT!A:A","v":45196.450868055559},{"$f":"INPUT!K654","v":81},{"$f":"INPUT!O654","v":54.3},{"$f":"INPUT!AH654","v":59.5},{"$f":"INPUT!AJ654","v":8.4}]
[{"$f":"INPUT!A:A","v":45196.451574074075},{"$f":"INPUT!K655","v":81.2},{"$f":"INPUT!O655","v":54.3},{"$f":"INPUT!AH655","v":59.5},{"$f":"INPUT!AJ655","v":8.5}]
[{"$f":"INPUT!A:A","v":45196.452280092592},{"$f":"INPUT!K656","v":81.400000000000006},{"$f":"INPUT!O656","v":54.3},{"$f":"INPUT!AH656","v":59.5},{"$f":"INPUT!AJ656","v":8.6}]
[{"$f":"INPUT!A:A","v":45196.452986111108},{"$f":"INPUT!K657","v":81.599999999999994},{"$f":"INPUT!O657","v":54.3},{"$f":"INPUT!AH657","v":59.5},{"$f":"INPUT!AJ657","v":9.3000000000000007}]
[{"$f":"INPUT!A:A","v":45196.453692129631},{"$f":"INPUT!K658","v":81.7},{"$f":"INPUT!O658","v":54.3},{"$f":"INPUT!AH658","v":59.4},{"$f":"INPUT!AJ658","v":8.8000000000000007}]
[{"$f":"INPUT!A:A","v":45196.454386574071},{"$f":"INPUT!K659","v":81.900000000000006},{"$f":"INPUT!O659","v":54.4},{"$f":"INPUT!AH659","v":59.5},{"$f":"INPUT!AJ659","v":8.8000000000000007}]
[{"$f":"INPUT!A:A","v":45196.455092592594},{"$f":"INPUT!K660","v":82.1},{"$f":"INPUT!O660","v":54.4},{"$f":"INPUT!AH660","v":59.6},{"$f":"INPUT!AJ660","v":8.8000000000000007}]
[{"$f":"INPUT!A:A","v":45196.455787037034},{"$f":"INPUT!K661","v":82.3},{"$f":"INPUT!O661","v":54.4},{"$f":"INPUT!AH661","v":59.7},{"$f":"INPUT!AJ661","v":9}]
[{"$f":"INPUT!A:A","v":45196.456504629627},{"$f":"INPUT!K662","v":82.5},{"$f":"INPUT!O662","v":54.4},{"$f":"INPUT!AH662","v":59.8},{"$f":"INPUT!AJ662","v":9.1}]
[{"$f":"INPUT!A:A","v":45196.45721064815},{"$f":"INPUT!K663","v":82.7},{"$f":"INPUT!O663","v":54.4},{"$f":"INPUT!AH663","v":59.8},{"$f":"INPUT!AJ663","v":8.6999999999999993}]
[{"$f":"INPUT!A:A","v":45196.457905092589},{"$f":"INPUT!K664","v":82.9},{"$f":"INPUT!O664","v":54.4},{"$f":"INPUT!AH664","v":59.9},{"$f":"INPUT!AJ664","v":8.9}]
[{"$f":"INPUT!A:A","v":45196.458611111113},{"$f":"INPUT!K665","v":83.1},{"$f":"INPUT!O665","v":54.4},{"$f":"INPUT!AH665","v":60},{"$f":"INPUT!AJ665","v":9}]
[{"$f":"INPUT!A:A","v":45196.459317129629},{"$f":"INPUT!K666","v":83.4},{"$f":"INPUT!O666","v":54.4},{"$f":"INPUT!AH666","v":60.1},{"$f":"INPUT!AJ666","v":9.1}]
[{"$f":"INPUT!A:A","v":45196.460023148145},{"$f":"INPUT!K667","v":83.6},{"$f":"INPUT!O667","v":54.4},{"$f":"INPUT!AH667","v":60.2},{"$f":"INPUT!AJ667","v":9.1}]
[{"$f":"INPUT!A:A","v":45196.460729166669},{"$f":"INPUT!K668","v":83.8},{"$f":"INPUT!O668","v":54.4},{"$f":"INPUT!AH668","v":60.3},{"$f":"INPUT!AJ668","v":9.4}]
[{"$f":"INPUT!A:A","v":45196.461435185185},{"$f":"INPUT!K669","v":84},{"$f":"INPUT!O669","v":54.4},{"$f":"INPUT!AH669","v":60.4},{"$f":"INPUT!AJ669","v":9.1999999999999993}]
[{"$f":"INPUT!A:A","v":45196.462129629632},{"$f":"INPUT!K670","v":84.2},{"$f":"INPUT!O670","v":54.4},{"$f":"INPUT!AH670","v":60.5},{"$f":"INPUT!AJ670","v":9}]
[{"$f":"INPUT!A:A","v":45196.462835648148},{"$f":"INPUT!K671","v":84.4},{"$f":"INPUT!O671","v":54.4},{"$f":"INPUT!AH671","v":60.6},{"$f":"INPUT!AJ671","v":9.1999999999999993}]
[{"$f":"INPUT!A:A","v":45196.463553240741},{"$f":"INPUT!K672","v":84.6},{"$f":"INPUT!O672","v":54.4},{"$f":"INPUT!AH672","v":60.7},{"$f":"INPUT!AJ672","v":9.4}]
[{"$f":"INPUT!A:A","v":45196.464259259257},{"$f":"INPUT!K673","v":84.8},{"$f":"INPUT!O673","v":54.5},{"$f":"INPUT!AH673","v":61},{"$f":"INPUT!AJ673","v":13.9}]
[{"$f":"INPUT!A:A","v":45196.464965277781},{"$f":"INPUT!K674","v":85.1},{"$f":"INPUT!O674","v":54.6},{"$f":"INPUT!AH674","v":61.3},{"$f":"INPUT!AJ674","v":13.9}]
[{"$f":"INPUT!A:A","v":45196.465671296297},{"$f":"INPUT!K675","v":85.3},{"$f":"INPUT!O675","v":54.6},{"$f":"INPUT!AH675","v":61.5},{"$f":"INPUT!AJ675","v":13.9}]
[{"$f":"INPUT!A:A","v":45196.466377314813},{"$f":"INPUT!K676","v":85.6},{"$f":"INPUT!O676","v":54.5},{"$f":"INPUT!AH676","v":61.5},{"$f":"INPUT!AJ676","v":11.2}]
[{"$f":"INPUT!A:A","v":45196.467083333337},{"$f":"INPUT!K677","v":85.8},{"$f":"INPUT!O677","v":54.3},{"$f":"INPUT!AH677","v":61.5},{"$f":"INPUT!AJ677","v":7.5}]
[{"$f":"INPUT!A:A","v":45196.467777777776},{"$f":"INPUT!K678","v":86},{"$f":"INPUT!O678","v":54.3},{"$f":"INPUT!AH678","v":61.5},{"$f":"INPUT!AJ678","v":7.4}]
[{"$f":"INPUT!A:A","v":45196.4684837963},{"$f":"INPUT!K679","v":86.1},{"$f":"INPUT!O679","v":54.3},{"$f":"INPUT!AH679","v":61.5},{"$f":"INPUT!AJ679","v":8.9}]
[{"$f":"INPUT!A:A","v":45196.469189814816},{"$f":"INPUT!K680","v":86.3},{"$f":"INPUT!O680","v":54.4},{"$f":"INPUT!AH680","v":61.4},{"$f":"INPUT!AJ680","v":9.1}]
[{"$f":"INPUT!A:A","v":45196.469895833332},{"$f":"INPUT!K681","v":86.5},{"$f":"INPUT!O681","v":54.4},{"$f":"INPUT!AH681","v":61.4},{"$f":"INPUT!AJ681","v":8.3000000000000007}]
[{"$f":"INPUT!A:A","v":45196.470613425925},{"$f":"INPUT!K682","v":86.7},{"$f":"INPUT!O682","v":54.3},{"$f":"INPUT!AH682","v":61.5},{"$f":"INPUT!AJ682","v":7.8}]
[{"$f":"INPUT!A:A","v":45196.471319444441},{"$f":"INPUT!K683","v":86.9},{"$f":"INPUT!O683","v":54.3},{"$f":"INPUT!AH683","v":61.5},{"$f":"INPUT!AJ683","v":7.5}]
[{"$f":"INPUT!A:A","v":45196.472025462965},{"$f":"INPUT!K684","v":87.1},{"$f":"INPUT!O684","v":54.3},{"$f":"INPUT!AH684","v":61.5},{"$f":"INPUT!AJ684","v":7.5}]
[{"$f":"INPUT!A:A","v":45196.472719907404},{"$f":"INPUT!K685","v":87.2},{"$f":"INPUT!O685","v":54.3},{"$f":"INPUT!AH685","v":61.5},{"$f":"INPUT!AJ685","v":7.5}]
[{"$f":"INPUT!A:A","v":45196.473425925928},{"$f":"INPUT!K686","v":87.4},{"$f":"INPUT!O686","v":54.3},{"$f":"INPUT!AH686","v":61.5},{"$f":"INPUT!AJ686","v":7.6}]
[{"$f":"INPUT!A:A","v":45196.474120370367},{"$f":"INPUT!K687","v":87.6},{"$f":"INPUT!O687","v":54.3},{"$f":"INPUT!AH687","v":61.5},{"$f":"INPUT!AJ687","v":7.6}]
[{"$f":"INPUT!A:A","v":45196.474826388891},{"$f":"INPUT!K688","v":87.8},{"$f":"INPUT!O688","v":54.3},{"$f":"INPUT!AH688","v":61.5},{"$f":"INPUT!AJ688","v":7.6}]
[{"$f":"INPUT!A:A","v":45196.475532407407},{"$f":"INPUT!K689","v":87.9},{"$f":"INPUT!O689","v":54.3},{"$f":"INPUT!AH689","v":61.5},{"$f":"INPUT!AJ689","v":7.5}]
[{"$f":"INPUT!A:A","v":45196.476238425923},{"$f":"INPUT!K690","v":88.1},{"$f":"INPUT!O690","v":54.3},{"$f":"INPUT!AH690","v":61.5},{"$f":"INPUT!AJ690","v":7.6}]
[{"$f":"INPUT!A:A","v":45196.476944444446},{"$f":"INPUT!K691","v":88.3},{"$f":"INPUT!O691","v":54.3},{"$f":"INPUT!AH691","v":61.5},{"$f":"INPUT!AJ691","v":7.7}]
[{"$f":"INPUT!A:A","v":45196.477662037039},{"$f":"INPUT!K692","v":88.4},{"$f":"INPUT!O692","v":54.3},{"$f":"INPUT!AH692","v":61.5},{"$f":"INPUT!AJ692","v":7.6}]
[{"$f":"INPUT!A:A","v":45196.478368055556},{"$f":"INPUT!K693","v":88.6},{"$f":"INPUT!O693","v":54.3},{"$f":"INPUT!AH693","v":61.5},{"$f":"INPUT!AJ693","v":7.5}]
[{"$f":"INPUT!A:A","v":45196.479062500002},{"$f":"INPUT!K694","v":88.8},{"$f":"INPUT!O694","v":54.3},{"$f":"INPUT!AH694","v":61.5},{"$f":"INPUT!AJ694","v":7.5}]
[{"$f":"INPUT!A:A","v":45196.479768518519},{"$f":"INPUT!K695","v":89},{"$f":"INPUT!O695","v":54.3},{"$f":"INPUT!AH695","v":61.5},{"$f":"INPUT!AJ695","v":7.5}]
[{"$f":"INPUT!A:A","v":45196.480474537035},{"$f":"INPUT!K696","v":89.1},{"$f":"INPUT!O696","v":54.3},{"$f":"INPUT!AH696","v":61.5},{"$f":"INPUT!AJ696","v":7.3}]
[{"$f":"INPUT!A:A","v":45196.481180555558},{"$f":"INPUT!K697","v":89.3},{"$f":"INPUT!O697","v":54.3},{"$f":"INPUT!AH697","v":61.5},{"$f":"INPUT!AJ697","v":7.8}]
[{"$f":"INPUT!A:A","v":45196.481874999998},{"$f":"INPUT!K698","v":89.5},{"$f":"INPUT!O698","v":54.4},{"$f":"INPUT!AH698","v":61.5},{"$f":"INPUT!AJ698","v":8.5}]
[{"$f":"INPUT!A:A","v":45196.482581018521},{"$f":"INPUT!K699","v":89.6},{"$f":"INPUT!O699","v":54.4},{"$f":"INPUT!AH699","v":61.5},{"$f":"INPUT!AJ699","v":8}]
[{"$f":"INPUT!A:A","v":45196.483287037037},{"$f":"INPUT!K700","v":89.8},{"$f":"INPUT!O700","v":54.3},{"$f":"INPUT!AH700","v":61.5},{"$f":"INPUT!AJ700","v":7.2}]
[{"$f":"INPUT!A:A","v":45196.483981481484},{"$f":"INPUT!K701","v":89.9},{"$f":"INPUT!O701","v":54.4},{"$f":"INPUT!AH701","v":61.6},{"$f":"INPUT!AJ701","v":10}]
[{"$f":"INPUT!A:A","v":45196.484699074077},{"$f":"INPUT!K702","v":90.1},{"$f":"INPUT!O702","v":54.3},{"$f":"INPUT!AH702","v":61.6},{"$f":"INPUT!AJ702","v":9.1}]
[{"$f":"INPUT!A:A","v":45196.485405092593},{"$f":"INPUT!K703","v":90.3},{"$f":"INPUT!O703","v":54.3},{"$f":"INPUT!AH703","v":61.6},{"$f":"INPUT!AJ703","v":8.6999999999999993}]
[{"$f":"INPUT!A:A","v":45196.486111111109},{"$f":"INPUT!K704","v":90.4},{"$f":"INPUT!O704","v":54.3},{"$f":"INPUT!AH704","v":61.6},{"$f":"INPUT!AJ704","v":8.8000000000000007}]
[{"$f":"INPUT!A:A","v":45196.486805555556},{"$f":"INPUT!K705","v":90.6},{"$f":"INPUT!O705","v":54.3},{"$f":"INPUT!AH705","v":61.6},{"$f":"INPUT!AJ705","v":8.8000000000000007}]
[{"$f":"INPUT!A:A","v":45196.487511574072},{"$f":"INPUT!K706","v":90.7},{"$f":"INPUT!O706","v":54.3},{"$f":"INPUT!AH706","v":61.6},{"$f":"INPUT!AJ706","v":8.8000000000000007}]
[{"$f":"INPUT!A:A","v":45196.488206018519},{"$f":"INPUT!K707","v":90.9},{"$f":"INPUT!O707","v":54.3},{"$f":"INPUT!AH707","v":61.6},{"$f":"INPUT!AJ707","v":8.6}]
[{"$f":"INPUT!A:A","v":45196.488912037035},{"$f":"INPUT!K708","v":91},{"$f":"INPUT!O708","v":54.3},{"$f":"INPUT!AH708","v":61.6},{"$f":"INPUT!AJ708","v":8.6999999999999993}]
[{"$f":"INPUT!A:A","v":45196.489618055559},{"$f":"INPUT!K709","v":91.2},{"$f":"INPUT!O709","v":54.3},{"$f":"INPUT!AH709","v":61.6},{"$f":"INPUT!AJ709","v":9.1}]
[{"$f":"INPUT!A:A","v":45196.490312499998},{"$f":"INPUT!K710","v":91.3},{"$f":"INPUT!O710","v":54.3},{"$f":"INPUT!AH710","v":61.6},{"$f":"INPUT!AJ710","v":9.1}]
[{"$f":"INPUT!A:A","v":45196.491018518522},{"$f":"INPUT!K711","v":91.5},{"$f":"INPUT!O711","v":54.3},{"$f":"INPUT!AH711","v":61.6},{"$f":"INPUT!AJ711","v":8.9}]
[{"$f":"INPUT!A:A","v":45196.491736111115},{"$f":"INPUT!K712","v":91.7},{"$f":"INPUT!O712","v":54.3},{"$f":"INPUT!AH712","v":61.6},{"$f":"INPUT!AJ712","v":8.6}]
[{"$f":"INPUT!A:A","v":45196.492442129631},{"$f":"INPUT!K713","v":91.8},{"$f":"INPUT!O713","v":54.3},{"$f":"INPUT!AH713","v":61.6},{"$f":"INPUT!AJ713","v":8.6999999999999993}]
[{"$f":"INPUT!A:A","v":45196.493148148147},{"$f":"INPUT!K714","v":91.9},{"$f":"INPUT!O714","v":54.3},{"$f":"INPUT!AH714","v":61.6},{"$f":"INPUT!AJ714","v":8.6}]
[{"$f":"INPUT!A:A","v":45196.493854166663},{"$f":"INPUT!K715","v":92.1},{"$f":"INPUT!O715","v":54.3},{"$f":"INPUT!AH715","v":61.6},{"$f":"INPUT!AJ715","v":8.6}]
[{"$f":"INPUT!A:A","v":45196.49454861111},{"$f":"INPUT!K716","v":92.2},{"$f":"INPUT!O716","v":54.3},{"$f":"INPUT!AH716","v":61.6},{"$f":"INPUT!AJ716","v":9.5}]
[{"$f":"INPUT!A:A","v":45196.495254629626},{"$f":"INPUT!K717","v":92.3},{"$f":"INPUT!O717","v":54.4},{"$f":"INPUT!AH717","v":61.6},{"$f":"INPUT!AJ717","v":10.199999999999999}]
[{"$f":"INPUT!A:A","v":45196.49596064815},{"$f":"INPUT!K718","v":92.5},{"$f":"INPUT!O718","v":54.4},{"$f":"INPUT!AH718","v":61.6},{"$f":"INPUT!AJ718","v":9.4}]
[{"$f":"INPUT!A:A","v":45196.496666666666},{"$f":"INPUT!K719","v":92.6},{"$f":"INPUT!O719","v":54.3},{"$f":"INPUT!AH719","v":61.6},{"$f":"INPUT!AJ719","v":8.5}]
[{"$f":"INPUT!A:A","v":45196.497372685182},{"$f":"INPUT!K720","v":92.8},{"$f":"INPUT!O720","v":54.3},{"$f":"INPUT!AH720","v":61.6},{"$f":"INPUT!AJ720","v":8.6999999999999993}]
[{"$f":"INPUT!A:A","v":45196.498067129629},{"$f":"INPUT!K721","v":92.9},{"$f":"INPUT!O721","v":54.3},{"$f":"INPUT!AH721","v":61.6},{"$f":"INPUT!AJ721","v":8.6999999999999993}]
[{"$f":"INPUT!A:A","v":45196.498796296299},{"$f":"INPUT!K722","v":93.1},{"$f":"INPUT!O722","v":54.3},{"$f":"INPUT!AH722","v":61.6},{"$f":"INPUT!AJ722","v":8.5}]
[{"$f":"INPUT!A:A","v":45196.499502314815},{"$f":"INPUT!K723","v":93.2},{"$f":"INPUT!O723","v":54.3},{"$f":"INPUT!AH723","v":61.6},{"$f":"INPUT!AJ723","v":8.3000000000000007}]
[{"$f":"INPUT!A:A","v":45196.500196759262},{"$f":"INPUT!K724","v":93.3},{"$f":"INPUT!O724","v":54.3},{"$f":"INPUT!AH724","v":61.6},{"$f":"INPUT!AJ724","v":8.3000000000000007}]
[{"$f":"INPUT!A:A","v":45196.500902777778},{"$f":"INPUT!K725","v":93.5},{"$f":"INPUT!O725","v":54.3},{"$f":"INPUT!AH725","v":61.6},{"$f":"INPUT!AJ725","v":8}]
[{"$f":"INPUT!A:A","v":45196.501597222225},{"$f":"INPUT!K726","v":93.6},{"$f":"INPUT!O726","v":54.3},{"$f":"INPUT!AH726","v":61.6},{"$f":"INPUT!AJ726","v":8.1999999999999993}]
[{"$f":"INPUT!A:A","v":45196.502303240741},{"$f":"INPUT!K727","v":93.7},{"$f":"INPUT!O727","v":54.3},{"$f":"INPUT!AH727","v":61.6},{"$f":"INPUT!AJ727","v":8.1999999999999993}]
[{"$f":"INPUT!A:A","v":45196.502997685187},{"$f":"INPUT!K728","v":93.8},{"$f":"INPUT!O728","v":54.3},{"$f":"INPUT!AH728","v":61.6},{"$f":"INPUT!AJ728","v":8}]
[{"$f":"INPUT!A:A","v":45196.503703703704},{"$f":"INPUT!K729","v":94},{"$f":"INPUT!O729","v":54.3},{"$f":"INPUT!AH729","v":61.6},{"$f":"INPUT!AJ729","v":7.9}]
[{"$f":"INPUT!A:A","v":45196.50440972222},{"$f":"INPUT!K730","v":94.1},{"$f":"INPUT!O730","v":54.3},{"$f":"INPUT!AH730","v":61.6},{"$f":"INPUT!AJ730","v":8.3000000000000007}]
[{"$f":"INPUT!A:A","v":45196.505127314813},{"$f":"INPUT!K731","v":94.2},{"$f":"INPUT!O731","v":54.3},{"$f":"INPUT!AH731","v":61.7},{"$f":"INPUT!AJ731","v":8.5}]
[{"$f":"INPUT!A:A","v":45196.505833333336},{"$f":"INPUT!K732","v":94.3},{"$f":"INPUT!O732","v":54.3},{"$f":"INPUT!AH732","v":61.7},{"$f":"INPUT!AJ732","v":8.5}]
[{"$f":"INPUT!A:A","v":45196.506539351853},{"$f":"INPUT!K733","v":94.5},{"$f":"INPUT!O733","v":54.3},{"$f":"INPUT!AH733","v":61.7},{"$f":"INPUT!AJ733","v":7.9}]
[{"$f":"INPUT!A:A","v":45196.507233796299},{"$f":"INPUT!K734","v":94.6},{"$f":"INPUT!O734","v":54.3},{"$f":"INPUT!AH734","v":61.6},{"$f":"INPUT!AJ734","v":4.9000000000000004}]
[{"$f":"INPUT!A:A","v":45196.507939814815},{"$f":"INPUT!K735","v":94.7},{"$f":"INPUT!O735","v":54.3},{"$f":"INPUT!AH735","v":61.6},{"$f":"INPUT!AJ735","v":5.0999999999999996}]
[{"$f":"INPUT!A:A","v":45196.508634259262},{"$f":"INPUT!K736","v":94.8},{"$f":"INPUT!O736","v":54.3},{"$f":"INPUT!AH736","v":61.6},{"$f":"INPUT!AJ736","v":5.0999999999999996}]
[{"$f":"INPUT!A:A","v":45196.509328703702},{"$f":"INPUT!K737","v":94.9},{"$f":"INPUT!O737","v":54.3},{"$f":"INPUT!AH737","v":61.6},{"$f":"INPUT!AJ737","v":5.0999999999999996}]
[{"$f":"INPUT!A:A","v":45196.510034722225},{"$f":"INPUT!K738","v":94.9},{"$f":"INPUT!O738","v":54.3},{"$f":"INPUT!AH738","v":61.6},{"$f":"INPUT!AJ738","v":5.0999999999999996}]
[{"$f":"INPUT!A:A","v":45196.510740740741},{"$f":"INPUT!K739","v":94.9},{"$f":"INPUT!O739","v":54.3},{"$f":"INPUT!AH739","v":61.6},{"$f":"INPUT!AJ739","v":5}]
[{"$f":"INPUT!A:A","v":45196.511435185188},{"$f":"INPUT!K740","v":94.9},{"$f":"INPUT!O740","v":54.3},{"$f":"INPUT!AH740","v":61.6},{"$f":"INPUT!AJ740","v":5.4}]
[{"$f":"INPUT!A:A","v":45196.512152777781},{"$f":"INPUT!K741","v":94.9},{"$f":"INPUT!O741","v":54.4},{"$f":"INPUT!AH741","v":61.5},{"$f":"INPUT!AJ741","v":6.1}]
[{"$f":"INPUT!A:A","v":45196.512858796297},{"$f":"INPUT!K742","v":94.9},{"$f":"INPUT!O742","v":54.4},{"$f":"INPUT!AH742","v":61.6},{"$f":"INPUT!AJ742","v":5.3}]
[{"$f":"INPUT!A:A","v":45196.513564814813},{"$f":"INPUT!K743","v":94.9},{"$f":"INPUT!O743","v":54.3},{"$f":"INPUT!AH743","v":61.6},{"$f":"INPUT!AJ743","v":4}]
[{"$f":"INPUT!A:A","v":45196.514270833337},{"$f":"INPUT!K744","v":94.9},{"$f":"INPUT!O744","v":54.3},{"$f":"INPUT!AH744","v":61.6},{"$f":"INPUT!AJ744","v":3.9}]
[{"$f":"INPUT!A:A","v":45196.514976851853},{"$f":"INPUT!K745","v":94.9},{"$f":"INPUT!O745","v":54.3},{"$f":"INPUT!AH745","v":61.6},{"$f":"INPUT!AJ745","v":4.2}]
[{"$f":"INPUT!A:A","v":45196.5156712963},{"$f":"INPUT!K746","v":94.9},{"$f":"INPUT!O746","v":54.3},{"$f":"INPUT!AH746","v":61.6},{"$f":"INPUT!AJ746","v":4.5}]
[{"$f":"INPUT!A:A","v":45196.516377314816},{"$f":"INPUT!K747","v":94.9},{"$f":"INPUT!O747","v":54.3},{"$f":"INPUT!AH747","v":61.6},{"$f":"INPUT!AJ747","v":5.3}]
[{"$f":"INPUT!A:A","v":45196.517071759263},{"$f":"INPUT!K748","v":94.9},{"$f":"INPUT!O748","v":54.3},{"$f":"INPUT!AH748","v":61.5},{"$f":"INPUT!AJ748","v":5.2}]
[{"$f":"INPUT!A:A","v":45196.517777777779},{"$f":"INPUT!K749","v":94.9},{"$f":"INPUT!O749","v":54.4},{"$f":"INPUT!AH749","v":61.5},{"$f":"INPUT!AJ749","v":5.4}]
[{"$f":"INPUT!A:A","v":45196.518472222226},{"$f":"INPUT!K750","v":94.9},{"$f":"INPUT!O750","v":54.4},{"$f":"INPUT!AH750","v":61.6},{"$f":"INPUT!AJ750","v":5.0999999999999996}]
[{"$f":"INPUT!A:A","v":45196.519189814811},{"$f":"INPUT!K751","v":94.9},{"$f":"INPUT!O751","v":54.3},{"$f":"INPUT!AH751","v":61.6},{"$f":"INPUT!AJ751","v":3.9}]
[{"$f":"INPUT!A:A","v":45196.519895833335},{"$f":"INPUT!K752","v":94.9},{"$f":"INPUT!O752","v":54.3},{"$f":"INPUT!AH752","v":61.6},{"$f":"INPUT!AJ752","v":3.7}]
[{"$f":"INPUT!A:A","v":45196.520590277774},{"$f":"INPUT!K753","v":94.9},{"$f":"INPUT!O753","v":54.3},{"$f":"INPUT!AH753","v":61.6},{"$f":"INPUT!AJ753","v":3.8}]
[{"$f":"INPUT!A:A","v":45196.521296296298},{"$f":"INPUT!K754","v":94.9},{"$f":"INPUT!O754","v":54.3},{"$f":"INPUT!AH754","v":61.6},{"$f":"INPUT!AJ754","v":3.7}]
[{"$f":"INPUT!A:A","v":45196.522002314814},{"$f":"INPUT!K755","v":94.9},{"$f":"INPUT!O755","v":54.3},{"$f":"INPUT!AH755","v":61.6},{"$f":"INPUT!AJ755","v":4.9000000000000004}]
[{"$f":"INPUT!A:A","v":45196.52270833333},{"$f":"INPUT!K756","v":94.9},{"$f":"INPUT!O756","v":54.4},{"$f":"INPUT!AH756","v":61.6},{"$f":"INPUT!AJ756","v":5.7}]
[{"$f":"INPUT!A:A","v":45196.523402777777},{"$f":"INPUT!K757","v":94.9},{"$f":"INPUT!O757","v":54.4},{"$f":"INPUT!AH757","v":61.6},{"$f":"INPUT!AJ757","v":5}]
[{"$f":"INPUT!A:A","v":45196.524108796293},{"$f":"INPUT!K758","v":94.9},{"$f":"INPUT!O758","v":54.3},{"$f":"INPUT!AH758","v":61.6},{"$f":"INPUT!AJ758","v":4.2}]
[{"$f":"INPUT!A:A","v":45196.524814814817},{"$f":"INPUT!K759","v":94.9},{"$f":"INPUT!O759","v":54.3},{"$f":"INPUT!AH759","v":61.6},{"$f":"INPUT!AJ759","v":4.2}]
[{"$f":"INPUT!A:A","v":45196.525520833333},{"$f":"INPUT!K760","v":94.9},{"$f":"INPUT!O760","v":54.3},{"$f":"INPUT!AH760","v":61.6},{"$f":"INPUT!AJ760","v":4.5}]
[{"$f":"INPUT!A:A","v":45196.526226851849},{"$f":"INPUT!K761","v":94.9},{"$f":"INPUT!O761","v":54.3},{"$f":"INPUT!AH761","v":61.6},{"$f":"INPUT!AJ761","v":4.5999999999999996}]
[{"$f":"INPUT!A:A","v":45196.526932870373},{"$f":"INPUT!K762","v":94.9},{"$f":"INPUT!O762","v":54.3},{"$f":"INPUT!AH762","v":61.6},{"$f":"INPUT!AJ762","v":4.4000000000000004}]
[{"$f":"INPUT!A:A","v":45196.527638888889},{"$f":"INPUT!K763","v":94.9},{"$f":"INPUT!O763","v":54.4},{"$f":"INPUT!AH763","v":61.6},{"$f":"INPUT!AJ763","v":4.3}]
[{"$f":"INPUT!A:A","v":45196.528344907405},{"$f":"INPUT!K764","v":94.9},{"$f":"INPUT!O764","v":54.3},{"$f":"INPUT!AH764","v":61.7},{"$f":"INPUT!AJ764","v":3.9}]
[{"$f":"INPUT!A:A","v":45196.529050925928},{"$f":"INPUT!K765","v":94.9},{"$f":"INPUT!O765","v":54.3},{"$f":"INPUT!AH765","v":61.7},{"$f":"INPUT!AJ765","v":3.8}]
[{"$f":"INPUT!A:A","v":45196.529745370368},{"$f":"INPUT!K766","v":94.9},{"$f":"INPUT!O766","v":54.3},{"$f":"INPUT!AH766","v":61.7},{"$f":"INPUT!AJ766","v":3.6}]
[{"$f":"INPUT!A:A","v":45196.530451388891},{"$f":"INPUT!K767","v":94.9},{"$f":"INPUT!O767","v":54.3},{"$f":"INPUT!AH767","v":61.7},{"$f":"INPUT!AJ767","v":3.3}]
[{"$f":"INPUT!A:A","v":45196.531145833331},{"$f":"INPUT!K768","v":94.9},{"$f":"INPUT!O768","v":54.3},{"$f":"INPUT!AH768","v":61.7},{"$f":"INPUT!AJ768","v":3.5}]
[{"$f":"INPUT!A:A","v":45196.531840277778},{"$f":"INPUT!K769","v":94.9},{"$f":"INPUT!O769","v":54.3},{"$f":"INPUT!AH769","v":61.7},{"$f":"INPUT!AJ769","v":3.5}]
[{"$f":"INPUT!A:A","v":45196.532546296294},{"$f":"INPUT!K770","v":95},{"$f":"INPUT!O770","v":54.3},{"$f":"INPUT!AH770","v":61.7},{"$f":"INPUT!AJ770","v":3.5}]
[{"$f":"INPUT!A:A","v":45196.533275462964},{"$f":"INPUT!K771","v":95},{"$f":"INPUT!O771","v":54.3},{"$f":"INPUT!AH771","v":61.7},{"$f":"INPUT!AJ771","v":5.8}]
[{"$f":"INPUT!A:A","v":45196.53396990741},{"$f":"INPUT!K772","v":95},{"$f":"INPUT!O772","v":54.4},{"$f":"INPUT!AH772","v":61.8},{"$f":"INPUT!AJ772","v":5.9}]
[{"$f":"INPUT!A:A","v":45196.53466435185},{"$f":"INPUT!K773","v":95},{"$f":"INPUT!O773","v":54.3},{"$f":"INPUT!AH773","v":61.8},{"$f":"INPUT!AJ773","v":5.0999999999999996}]
[{"$f":"INPUT!A:A","v":45196.535370370373},{"$f":"INPUT!K774","v":95},{"$f":"INPUT!O774","v":54.3},{"$f":"INPUT!AH774","v":61.8},{"$f":"INPUT!AJ774","v":5.0999999999999996}]
[{"$f":"INPUT!A:A","v":45196.536064814813},{"$f":"INPUT!K775","v":95},{"$f":"INPUT!O775","v":54.3},{"$f":"INPUT!AH775","v":61.8},{"$f":"INPUT!AJ775","v":5.2}]
[{"$f":"INPUT!A:A","v":45196.536770833336},{"$f":"INPUT!K776","v":95},{"$f":"INPUT!O776","v":54.3},{"$f":"INPUT!AH776","v":61.8},{"$f":"INPUT!AJ776","v":5.7}]
[{"$f":"INPUT!A:A","v":45196.537476851852},{"$f":"INPUT!K777","v":95},{"$f":"INPUT!O777","v":54.4},{"$f":"INPUT!AH777","v":61.8},{"$f":"INPUT!AJ777","v":7.4}]
[{"$f":"INPUT!A:A","v":45196.538182870368},{"$f":"INPUT!K778","v":95},{"$f":"INPUT!O778","v":54.4},{"$f":"INPUT!AH778","v":61.8},{"$f":"INPUT!AJ778","v":6.9}]
[{"$f":"INPUT!A:A","v":45196.538888888892},{"$f":"INPUT!K779","v":95},{"$f":"INPUT!O779","v":54.4},{"$f":"INPUT!AH779","v":61.8},{"$f":"INPUT!AJ779","v":5.0999999999999996}]
[{"$f":"INPUT!A:A","v":45196.539594907408},{"$f":"INPUT!K780","v":95},{"$f":"INPUT!O780","v":54.3},{"$f":"INPUT!AH780","v":61.8},{"$f":"INPUT!AJ780","v":4.7}]
[{"$f":"INPUT!A:A","v":45196.540312500001},{"$f":"INPUT!K781","v":95},{"$f":"INPUT!O781","v":54.3},{"$f":"INPUT!AH781","v":61.8},{"$f":"INPUT!AJ781","v":4.8}]
[{"$f":"INPUT!A:A","v":45196.541018518517},{"$f":"INPUT!K782","v":95},{"$f":"INPUT!O782","v":54.3},{"$f":"INPUT!AH782","v":61.8},{"$f":"INPUT!AJ782","v":5.0999999999999996}]
[{"$f":"INPUT!A:A","v":45196.541712962964},{"$f":"INPUT!K783","v":95},{"$f":"INPUT!O783","v":54.3},{"$f":"INPUT!AH783","v":61.8},{"$f":"INPUT!AJ783","v":5.0999999999999996}]
[{"$f":"INPUT!A:A","v":45196.54241898148},{"$f":"INPUT!K784","v":95},{"$f":"INPUT!O784","v":54.3},{"$f":"INPUT!AH784","v":61.8},{"$f":"INPUT!AJ784","v":5.0999999999999996}]
[{"$f":"INPUT!A:A","v":45196.543124999997},{"$f":"INPUT!K785","v":95},{"$f":"INPUT!O785","v":54.3},{"$f":"INPUT!AH785","v":61.8},{"$f":"INPUT!AJ785","v":4.8}]
[{"$f":"INPUT!A:A","v":45196.543819444443},{"$f":"INPUT!K786","v":95},{"$f":"INPUT!O786","v":54.3},{"$f":"INPUT!AH786","v":61.8},{"$f":"INPUT!AJ786","v":4.8}]
[{"$f":"INPUT!A:A","v":45196.544525462959},{"$f":"INPUT!K787","v":95},{"$f":"INPUT!O787","v":54.3},{"$f":"INPUT!AH787","v":61.8},{"$f":"INPUT!AJ787","v":4.9000000000000004}]
[{"$f":"INPUT!A:A","v":45196.545231481483},{"$f":"INPUT!K788","v":95},{"$f":"INPUT!O788","v":54.3},{"$f":"INPUT!AH788","v":61.8},{"$f":"INPUT!AJ788","v":4.8}]
[{"$f":"INPUT!A:A","v":45196.545937499999},{"$f":"INPUT!K789","v":95},{"$f":"INPUT!O789","v":54.3},{"$f":"INPUT!AH789","v":61.8},{"$f":"INPUT!AJ789","v":4.4000000000000004}]
[{"$f":"INPUT!A:A","v":45196.546631944446},{"$f":"INPUT!K790","v":95},{"$f":"INPUT!O790","v":54.3},{"$f":"INPUT!AH790","v":61.8},{"$f":"INPUT!AJ790","v":4.5}]
[{"$f":"INPUT!A:A","v":45196.547349537039},{"$f":"INPUT!K791","v":95},{"$f":"INPUT!O791","v":54.3},{"$f":"INPUT!AH791","v":61.8},{"$f":"INPUT!AJ791","v":4.8}]
[{"$f":"INPUT!A:A","v":45196.548055555555},{"$f":"INPUT!K792","v":95},{"$f":"INPUT!O792","v":54.3},{"$f":"INPUT!AH792","v":61.8},{"$f":"INPUT!AJ792","v":4.7}]
[{"$f":"INPUT!A:A","v":45196.548750000002},{"$f":"INPUT!K793","v":95},{"$f":"INPUT!O793","v":54.3},{"$f":"INPUT!AH793","v":61.8},{"$f":"INPUT!AJ793","v":4.7}]
[{"$f":"INPUT!A:A","v":45196.549456018518},{"$f":"INPUT!K794","v":95},{"$f":"INPUT!O794","v":54.3},{"$f":"INPUT!AH794","v":61.8},{"$f":"INPUT!AJ794","v":4.5999999999999996}]
[{"$f":"INPUT!A:A","v":45196.550162037034},{"$f":"INPUT!K795","v":95},{"$f":"INPUT!O795","v":54.3},{"$f":"INPUT!AH795","v":61.9},{"$f":"INPUT!AJ795","v":4.3}]
[{"$f":"INPUT!A:A","v":45196.550856481481},{"$f":"INPUT!K796","v":95},{"$f":"INPUT!O796","v":54.3},{"$f":"INPUT!AH796","v":61.9},{"$f":"INPUT!AJ796","v":4.2}]
[{"$f":"INPUT!A:A","v":45196.551562499997},{"$f":"INPUT!K797","v":95},{"$f":"INPUT!O797","v":54.3},{"$f":"INPUT!AH797","v":61.8},{"$f":"INPUT!AJ797","v":4.3}]
[{"$f":"INPUT!A:A","v":45196.552268518521},{"$f":"INPUT!K798","v":95},{"$f":"INPUT!O798","v":54.3},{"$f":"INPUT!AH798","v":61.8},{"$f":"INPUT!AJ798","v":4.5}]
[{"$f":"INPUT!A:A","v":45196.55296296296},{"$f":"INPUT!K799","v":95},{"$f":"INPUT!O799","v":54.3},{"$f":"INPUT!AH799","v":61.8},{"$f":"INPUT!AJ799","v":4.4000000000000004}]
[{"$f":"INPUT!A:A","v":45196.553680555553},{"$f":"INPUT!K800","v":95},{"$f":"INPUT!O800","v":54.3},{"$f":"INPUT!AH800","v":61.8},{"$f":"INPUT!AJ800","v":4.5}]
[{"$f":"INPUT!A:A","v":45196.554386574076},{"$f":"INPUT!K801","v":95},{"$f":"INPUT!O801","v":54.3},{"$f":"INPUT!AH801","v":61.9},{"$f":"INPUT!AJ801","v":4.5}]
[{"$f":"INPUT!A:A","v":45196.555092592593},{"$f":"INPUT!K802","v":95},{"$f":"INPUT!O802","v":54.3},{"$f":"INPUT!AH802","v":61.9},{"$f":"INPUT!AJ802","v":4}]
[{"$f":"INPUT!A:A","v":45196.555798611109},{"$f":"INPUT!K803","v":95},{"$f":"INPUT!O803","v":54.3},{"$f":"INPUT!AH803","v":61.9},{"$f":"INPUT!AJ803","v":6.2}]
[{"$f":"INPUT!A:A","v":45196.556493055556},{"$f":"INPUT!K804","v":95},{"$f":"INPUT!O804","v":54.5},{"$f":"INPUT!AH804","v":61.8},{"$f":"INPUT!AJ804","v":6.5}]
[{"$f":"INPUT!A:A","v":45196.557199074072},{"$f":"INPUT!K805","v":95},{"$f":"INPUT!O805","v":54.5},{"$f":"INPUT!AH805","v":61.9},{"$f":"INPUT!AJ805","v":5.2}]
[{"$f":"INPUT!A:A","v":45196.557905092595},{"$f":"INPUT!K806","v":95},{"$f":"INPUT!O806","v":54.3},{"$f":"INPUT!AH806","v":61.9},{"$f":"INPUT!AJ806","v":3.9}]
[{"$f":"INPUT!A:A","v":45196.558599537035},{"$f":"INPUT!K807","v":95},{"$f":"INPUT!O807","v":54.3},{"$f":"INPUT!AH807","v":61.9},{"$f":"INPUT!AJ807","v":6.2}]
[{"$f":"INPUT!A:A","v":45196.559305555558},{"$f":"INPUT!K808","v":95},{"$f":"INPUT!O808","v":54.3},{"$f":"INPUT!AH808","v":61.8},{"$f":"INPUT!AJ808","v":4.4000000000000004}]
[{"$f":"INPUT!A:A","v":45196.56},{"$f":"INPUT!K809","v":95},{"$f":"INPUT!O809","v":54.3},{"$f":"INPUT!AH809","v":61.8},{"$f":"INPUT!AJ809","v":3.6}]
[{"$f":"INPUT!A:A","v":45196.560717592591},{"$f":"INPUT!K810","v":95},{"$f":"INPUT!O810","v":54.3},{"$f":"INPUT!AH810","v":61.8},{"$f":"INPUT!AJ810","v":3.7}]
[{"$f":"INPUT!A:A","v":45196.561412037037},{"$f":"INPUT!K811","v":95},{"$f":"INPUT!O811","v":54.3},{"$f":"INPUT!AH811","v":61.8},{"$f":"INPUT!AJ811","v":3.4}]
[{"$f":"INPUT!A:A","v":45196.562118055554},{"$f":"INPUT!K812","v":95},{"$f":"INPUT!O812","v":54.3},{"$f":"INPUT!AH812","v":61.8},{"$f":"INPUT!AJ812","v":3.4}]
[{"$f":"INPUT!A:A","v":45196.562824074077},{"$f":"INPUT!K813","v":95},{"$f":"INPUT!O813","v":54.3},{"$f":"INPUT!AH813","v":61.8},{"$f":"INPUT!AJ813","v":6.2}]
[{"$f":"INPUT!A:A","v":45196.563530092593},{"$f":"INPUT!K814","v":95},{"$f":"INPUT!O814","v":54.5},{"$f":"INPUT!AH814","v":61.8},{"$f":"INPUT!AJ814","v":6.2}]
[{"$f":"INPUT!A:A","v":45196.56422453704},{"$f":"INPUT!K815","v":95},{"$f":"INPUT!O815","v":54.5},{"$f":"INPUT!AH815","v":61.9},{"$f":"INPUT!AJ815","v":3.6}]
[{"$f":"INPUT!A:A","v":45196.564930555556},{"$f":"INPUT!K816","v":95},{"$f":"INPUT!O816","v":54.3},{"$f":"INPUT!AH816","v":61.9},{"$f":"INPUT!AJ816","v":2.2000000000000002}]
[{"$f":"INPUT!A:A","v":45196.565636574072},{"$f":"INPUT!K817","v":95},{"$f":"INPUT!O817","v":54.3},{"$f":"INPUT!AH817","v":61.8},{"$f":"INPUT!AJ817","v":2.8}]
[{"$f":"INPUT!A:A","v":45196.566342592596},{"$f":"INPUT!K818","v":95},{"$f":"INPUT!O818","v":54.3},{"$f":"INPUT!AH818","v":61.8},{"$f":"INPUT!AJ818","v":2.9}]
[{"$f":"INPUT!A:A","v":45196.567037037035},{"$f":"INPUT!K819","v":95},{"$f":"INPUT!O819","v":54.3},{"$f":"INPUT!AH819","v":61.8},{"$f":"INPUT!AJ819","v":2.9}]
[{"$f":"INPUT!A:A","v":45196.567766203705},{"$f":"INPUT!K820","v":95},{"$f":"INPUT!O820","v":54.3},{"$f":"INPUT!AH820","v":61.8},{"$f":"INPUT!AJ820","v":3.7}]
[{"$f":"INPUT!A:A","v":45196.568472222221},{"$f":"INPUT!K821","v":95},{"$f":"INPUT!O821","v":54.3},{"$f":"INPUT!AH821","v":61.8},{"$f":"INPUT!AJ821","v":3.7}]
[{"$f":"INPUT!A:A","v":45196.569178240738},{"$f":"INPUT!K822","v":95},{"$f":"INPUT!O822","v":54.3},{"$f":"INPUT!AH822","v":61.8},{"$f":"INPUT!AJ822","v":3.4}]
[{"$f":"INPUT!A:A","v":45196.569884259261},{"$f":"INPUT!K823","v":95},{"$f":"INPUT!O823","v":54.3},{"$f":"INPUT!AH823","v":61.8},{"$f":"INPUT!AJ823","v":3.3}]
[{"$f":"INPUT!A:A","v":45196.570590277777},{"$f":"INPUT!K824","v":95},{"$f":"INPUT!O824","v":54.3},{"$f":"INPUT!AH824","v":61.8},{"$f":"INPUT!AJ824","v":4.3}]
[{"$f":"INPUT!A:A","v":45196.571284722224},{"$f":"INPUT!K825","v":95},{"$f":"INPUT!O825","v":54.3},{"$f":"INPUT!AH825","v":61.8},{"$f":"INPUT!AJ825","v":2.8}]
[{"$f":"INPUT!A:A","v":45196.57199074074},{"$f":"INPUT!K826","v":95},{"$f":"INPUT!O826","v":54.3},{"$f":"INPUT!AH826","v":61.7},{"$f":"INPUT!AJ826","v":2.5}]
[{"$f":"INPUT!A:A","v":45196.572696759256},{"$f":"INPUT!K827","v":95},{"$f":"INPUT!O827","v":54.4},{"$f":"INPUT!AH827","v":61.7},{"$f":"INPUT!AJ827","v":3.5}]
[{"$f":"INPUT!A:A","v":45196.57340277778},{"$f":"INPUT!K828","v":95},{"$f":"INPUT!O828","v":54.4},{"$f":"INPUT!AH828","v":61.7},{"$f":"INPUT!AJ828","v":3.2}]
[{"$f":"INPUT!A:A","v":45196.574108796296},{"$f":"INPUT!K829","v":95},{"$f":"INPUT!O829","v":54.3},{"$f":"INPUT!AH829","v":61.7},{"$f":"INPUT!AJ829","v":1.7}]
[{"$f":"INPUT!A:A","v":45196.574814814812},{"$f":"INPUT!K830","v":95},{"$f":"INPUT!O830","v":54.5},{"$f":"INPUT!AH830","v":61.7},{"$f":"INPUT!AJ830","v":1.7}]
[{"$f":"INPUT!A:A","v":45196.575520833336},{"$f":"INPUT!K831","v":95},{"$f":"INPUT!O831","v":54.5},{"$f":"INPUT!AH831","v":61.8},{"$f":"INPUT!AJ831","v":3.6}]
[{"$f":"INPUT!A:A","v":45196.576215277775},{"$f":"INPUT!K832","v":95},{"$f":"INPUT!O832","v":54.3},{"$f":"INPUT!AH832","v":61.8},{"$f":"INPUT!AJ832","v":3.4}]
[{"$f":"INPUT!A:A","v":45196.576921296299},{"$f":"INPUT!K833","v":95},{"$f":"INPUT!O833","v":54.3},{"$f":"INPUT!AH833","v":61.8},{"$f":"INPUT!AJ833","v":2.5}]
[{"$f":"INPUT!A:A","v":45196.577627314815},{"$f":"INPUT!K834","v":95},{"$f":"INPUT!O834","v":54.3},{"$f":"INPUT!AH834","v":61.7},{"$f":"INPUT!AJ834","v":2}]
[{"$f":"INPUT!A:A","v":45196.578321759262},{"$f":"INPUT!K835","v":95},{"$f":"INPUT!O835","v":54.3},{"$f":"INPUT!AH835","v":61.8},{"$f":"INPUT!AJ835","v":3.4}]
[{"$f":"INPUT!A:A","v":45196.579027777778},{"$f":"INPUT!K836","v":95},{"$f":"INPUT!O836","v":54.3},{"$f":"INPUT!AH836","v":61.8},{"$f":"INPUT!AJ836","v":3.3}]
[{"$f":"INPUT!A:A","v":45196.579733796294},{"$f":"INPUT!K837","v":95},{"$f":"INPUT!O837","v":54.3},{"$f":"INPUT!AH837","v":61.8},{"$f":"INPUT!AJ837","v":3.1}]
[{"$f":"INPUT!A:A","v":45196.580428240741},{"$f":"INPUT!K838","v":95},{"$f":"INPUT!O838","v":54.3},{"$f":"INPUT!AH838","v":61.8},{"$f":"INPUT!AJ838","v":3.1}]
[{"$f":"INPUT!A:A","v":45196.581134259257},{"$f":"INPUT!K839","v":95},{"$f":"INPUT!O839","v":54.3},{"$f":"INPUT!AH839","v":61.8},{"$f":"INPUT!AJ839","v":3.1}]
[{"$f":"INPUT!A:A","v":45196.58185185185},{"$f":"INPUT!K840","v":95},{"$f":"INPUT!O840","v":54.3},{"$f":"INPUT!AH840","v":61.8},{"$f":"INPUT!AJ840","v":3}]
[{"$f":"INPUT!A:A","v":45196.582557870373},{"$f":"INPUT!K841","v":95},{"$f":"INPUT!O841","v":54.3},{"$f":"INPUT!AH841","v":61.8},{"$f":"INPUT!AJ841","v":4.3}]
[{"$f":"INPUT!A:A","v":45196.583252314813},{"$f":"INPUT!K842","v":95},{"$f":"INPUT!O842","v":54.5},{"$f":"INPUT!AH842","v":61.7},{"$f":"INPUT!AJ842","v":4.5999999999999996}]
[{"$f":"INPUT!A:A","v":45196.583958333336},{"$f":"INPUT!K843","v":95},{"$f":"INPUT!O843","v":54.5},{"$f":"INPUT!AH843","v":61.8},{"$f":"INPUT!AJ843","v":5.5}]
[{"$f":"INPUT!A:A","v":45196.584664351853},{"$f":"INPUT!K844","v":95},{"$f":"INPUT!O844","v":54.4},{"$f":"INPUT!AH844","v":61.9},{"$f":"INPUT!AJ844","v":4.0999999999999996}]
[{"$f":"INPUT!A:A","v":45196.585370370369},{"$f":"INPUT!K845","v":95},{"$f":"INPUT!O845","v":54.3},{"$f":"INPUT!AH845","v":61.9},{"$f":"INPUT!AJ845","v":3.8}]
[{"$f":"INPUT!A:A","v":45196.586076388892},{"$f":"INPUT!K846","v":95},{"$f":"INPUT!O846","v":54.3},{"$f":"INPUT!AH846","v":61.8},{"$f":"INPUT!AJ846","v":3.1}]
[{"$f":"INPUT!A:A","v":45196.586770833332},{"$f":"INPUT!K847","v":95},{"$f":"INPUT!O847","v":54.3},{"$f":"INPUT!AH847","v":61.8},{"$f":"INPUT!AJ847","v":3.1}]
[{"$f":"INPUT!A:A","v":45196.587476851855},{"$f":"INPUT!K848","v":95},{"$f":"INPUT!O848","v":54.3},{"$f":"INPUT!AH848","v":61.8},{"$f":"INPUT!AJ848","v":3.1}]
[{"$f":"INPUT!A:A","v":45196.588182870371},{"$f":"INPUT!K849","v":95},{"$f":"INPUT!O849","v":54.3},{"$f":"INPUT!AH849","v":61.8},{"$f":"INPUT!AJ849","v":3.1}]
[{"$f":"INPUT!A:A","v":45196.588912037034},{"$f":"INPUT!K850","v":95},{"$f":"INPUT!O850","v":54.3},{"$f":"INPUT!AH850","v":61.8},{"$f":"INPUT!AJ850","v":3.1}]
[{"$f":"INPUT!A:A","v":45196.589618055557},{"$f":"INPUT!K851","v":95},{"$f":"INPUT!O851","v":54.3},{"$f":"INPUT!AH851","v":61.8},{"$f":"INPUT!AJ851","v":3.1}]
[{"$f":"INPUT!A:A","v":45196.590312499997},{"$f":"INPUT!K852","v":95},{"$f":"INPUT!O852","v":54.3},{"$f":"INPUT!AH852","v":61.8},{"$f":"INPUT!AJ852","v":3.1}]
[{"$f":"INPUT!A:A","v":45196.59101851852},{"$f":"INPUT!K853","v":95},{"$f":"INPUT!O853","v":54.3},{"$f":"INPUT!AH853","v":61.8},{"$f":"INPUT!AJ853","v":3.1}]
[{"$f":"INPUT!A:A","v":45196.591724537036},{"$f":"INPUT!K854","v":95},{"$f":"INPUT!O854","v":54.3},{"$f":"INPUT!AH854","v":61.8},{"$f":"INPUT!AJ854","v":3.1}]
[{"$f":"INPUT!A:A","v":45196.592430555553},{"$f":"INPUT!K855","v":95},{"$f":"INPUT!O855","v":54.3},{"$f":"INPUT!AH855","v":61.8},{"$f":"INPUT!AJ855","v":4.5}]
[{"$f":"INPUT!A:A","v":45196.593136574076},{"$f":"INPUT!K856","v":95},{"$f":"INPUT!O856","v":54.3},{"$f":"INPUT!AH856","v":61.8},{"$f":"INPUT!AJ856","v":4.5}]
[{"$f":"INPUT!A:A","v":45196.593842592592},{"$f":"INPUT!K857","v":95},{"$f":"INPUT!O857","v":54.4},{"$f":"INPUT!AH857","v":61.9},{"$f":"INPUT!AJ857","v":4.3}]
[{"$f":"INPUT!A:A","v":45196.594548611109},{"$f":"INPUT!K858","v":95},{"$f":"INPUT!O858","v":54.3},{"$f":"INPUT!AH858","v":61.8},{"$f":"INPUT!AJ858","v":3.7}]
[{"$f":"INPUT!A:A","v":45196.595254629632},{"$f":"INPUT!K859","v":95},{"$f":"INPUT!O859","v":54.5},{"$f":"INPUT!AH859","v":61.7},{"$f":"INPUT!AJ859","v":6.3}]
[{"$f":"INPUT!A:A","v":45196.595972222225},{"$f":"INPUT!K860","v":95},{"$f":"INPUT!O860","v":54.5},{"$f":"INPUT!AH860","v":61.9},{"$f":"INPUT!AJ860","v":6}]
[{"$f":"INPUT!A:A","v":45196.596666666665},{"$f":"INPUT!K861","v":95},{"$f":"INPUT!O861","v":54.5},{"$f":"INPUT!AH861","v":61.9},{"$f":"INPUT!AJ861","v":3.7}]
[{"$f":"INPUT!A:A","v":45196.597372685188},{"$f":"INPUT!K862","v":95},{"$f":"INPUT!O862","v":54.4},{"$f":"INPUT!AH862","v":61.9},{"$f":"INPUT!AJ862","v":3.6}]
[{"$f":"INPUT!A:A","v":45196.598078703704},{"$f":"INPUT!K863","v":95},{"$f":"INPUT!O863","v":54.3},{"$f":"INPUT!AH863","v":61.8},{"$f":"INPUT!AJ863","v":3.1}]
[{"$f":"INPUT!A:A","v":45196.598773148151},{"$f":"INPUT!K864","v":95},{"$f":"INPUT!O864","v":54.3},{"$f":"INPUT!AH864","v":61.8},{"$f":"INPUT!AJ864","v":3.1}]
[{"$f":"INPUT!A:A","v":45196.599479166667},{"$f":"INPUT!K865","v":95},{"$f":"INPUT!O865","v":54.3},{"$f":"INPUT!AH865","v":61.8},{"$f":"INPUT!AJ865","v":3.1}]
[{"$f":"INPUT!A:A","v":45196.600185185183},{"$f":"INPUT!K866","v":95},{"$f":"INPUT!O866","v":54.3},{"$f":"INPUT!AH866","v":61.8},{"$f":"INPUT!AJ866","v":3.1}]
[{"$f":"INPUT!A:A","v":45196.60087962963},{"$f":"INPUT!K867","v":95},{"$f":"INPUT!O867","v":54.3},{"$f":"INPUT!AH867","v":61.8},{"$f":"INPUT!AJ867","v":3.1}]
[{"$f":"INPUT!A:A","v":45196.601574074077},{"$f":"INPUT!K868","v":95},{"$f":"INPUT!O868","v":54.3},{"$f":"INPUT!AH868","v":61.8},{"$f":"INPUT!AJ868","v":3.2}]
[{"$f":"INPUT!A:A","v":45196.602280092593},{"$f":"INPUT!K869","v":95},{"$f":"INPUT!O869","v":54.3},{"$f":"INPUT!AH869","v":61.8},{"$f":"INPUT!AJ869","v":3.1}]
[{"$f":"INPUT!A:A","v":45196.602997685186},{"$f":"INPUT!K870","v":95},{"$f":"INPUT!O870","v":54.3},{"$f":"INPUT!AH870","v":61.8},{"$f":"INPUT!AJ870","v":3.1}]
[{"$f":"INPUT!A:A","v":45196.603703703702},{"$f":"INPUT!K871","v":95},{"$f":"INPUT!O871","v":54.3},{"$f":"INPUT!AH871","v":61.8},{"$f":"INPUT!AJ871","v":3}]
[{"$f":"INPUT!A:A","v":45196.604398148149},{"$f":"INPUT!K872","v":95},{"$f":"INPUT!O872","v":54.3},{"$f":"INPUT!AH872","v":61.8},{"$f":"INPUT!AJ872","v":6}]
[{"$f":"INPUT!A:A","v":45196.605104166665},{"$f":"INPUT!K873","v":95},{"$f":"INPUT!O873","v":54.5},{"$f":"INPUT!AH873","v":61.9},{"$f":"INPUT!AJ873","v":6}]
[{"$f":"INPUT!A:A","v":45196.605810185189},{"$f":"INPUT!K874","v":95},{"$f":"INPUT!O874","v":54.5},{"$f":"INPUT!AH874","v":61.9},{"$f":"INPUT!AJ874","v":3.8}]
[{"$f":"INPUT!A:A","v":45196.606516203705},{"$f":"INPUT!K875","v":95},{"$f":"INPUT!O875","v":54.4},{"$f":"INPUT!AH875","v":61.9},{"$f":"INPUT!AJ875","v":3.5}]
[{"$f":"INPUT!A:A","v":45196.607210648152},{"$f":"INPUT!K876","v":95},{"$f":"INPUT!O876","v":54.3},{"$f":"INPUT!AH876","v":61.9},{"$f":"INPUT!AJ876","v":3.5}]
[{"$f":"INPUT!A:A","v":45196.607916666668},{"$f":"INPUT!K877","v":95},{"$f":"INPUT!O877","v":54.3},{"$f":"INPUT!AH877","v":61.9},{"$f":"INPUT!AJ877","v":3.8}]
[{"$f":"INPUT!A:A","v":45196.608622685184},{"$f":"INPUT!K878","v":95},{"$f":"INPUT!O878","v":54.3},{"$f":"INPUT!AH878","v":61.9},{"$f":"INPUT!AJ878","v":3.9}]
[{"$f":"INPUT!A:A","v":45196.609340277777},{"$f":"INPUT!K879","v":95},{"$f":"INPUT!O879","v":54.3},{"$f":"INPUT!AH879","v":61.9},{"$f":"INPUT!AJ879","v":3.9}]
[{"$f":"INPUT!A:A","v":45196.610046296293},{"$f":"INPUT!K880","v":95},{"$f":"INPUT!O880","v":54.3},{"$f":"INPUT!AH880","v":61.9},{"$f":"INPUT!AJ880","v":4}]
[{"$f":"INPUT!A:A","v":45196.61074074074},{"$f":"INPUT!K881","v":95},{"$f":"INPUT!O881","v":54.3},{"$f":"INPUT!AH881","v":61.9},{"$f":"INPUT!AJ881","v":3.9}]
[{"$f":"INPUT!A:A","v":45196.611446759256},{"$f":"INPUT!K882","v":95},{"$f":"INPUT!O882","v":54.3},{"$f":"INPUT!AH882","v":61.9},{"$f":"INPUT!AJ882","v":3.7}]
[{"$f":"INPUT!A:A","v":45196.612141203703},{"$f":"INPUT!K883","v":95},{"$f":"INPUT!O883","v":54.3},{"$f":"INPUT!AH883","v":61.9},{"$f":"INPUT!AJ883","v":3.8}]
[{"$f":"INPUT!A:A","v":45196.612847222219},{"$f":"INPUT!K884","v":95},{"$f":"INPUT!O884","v":54.3},{"$f":"INPUT!AH884","v":61.9},{"$f":"INPUT!AJ884","v":3.9}]
[{"$f":"INPUT!A:A","v":45196.613553240742},{"$f":"INPUT!K885","v":95},{"$f":"INPUT!O885","v":54.3},{"$f":"INPUT!AH885","v":61.9},{"$f":"INPUT!AJ885","v":3.9}]
[{"$f":"INPUT!A:A","v":45196.614247685182},{"$f":"INPUT!K886","v":95},{"$f":"INPUT!O886","v":54.3},{"$f":"INPUT!AH886","v":61.9},{"$f":"INPUT!AJ886","v":3.9}]
[{"$f":"INPUT!A:A","v":45196.614953703705},{"$f":"INPUT!K887","v":95},{"$f":"INPUT!O887","v":54.3},{"$f":"INPUT!AH887","v":61.9},{"$f":"INPUT!AJ887","v":4.9000000000000004}]
[{"$f":"INPUT!A:A","v":45196.615648148145},{"$f":"INPUT!K888","v":95},{"$f":"INPUT!O888","v":54.3},{"$f":"INPUT!AH888","v":61.8},{"$f":"INPUT!AJ888","v":5.2}]
[{"$f":"INPUT!A:A","v":45196.616365740738},{"$f":"INPUT!K889","v":95},{"$f":"INPUT!O889","v":54.3},{"$f":"INPUT!AH889","v":61.8},{"$f":"INPUT!AJ889","v":6.7}]
[{"$f":"INPUT!A:A","v":45196.617071759261},{"$f":"INPUT!K890","v":95},{"$f":"INPUT!O890","v":54.5},{"$f":"INPUT!AH890","v":61.8},{"$f":"INPUT!AJ890","v":7.2}]
[{"$f":"INPUT!A:A","v":45196.617766203701},{"$f":"INPUT!K891","v":95},{"$f":"INPUT!O891","v":54.5},{"$f":"INPUT!AH891","v":61.8},{"$f":"INPUT!AJ891","v":5.8}]
[{"$f":"INPUT!A:A","v":45196.618472222224},{"$f":"INPUT!K892","v":95},{"$f":"INPUT!O892","v":54.4},{"$f":"INPUT!AH892","v":61.9},{"$f":"INPUT!AJ892","v":4.5}]
[{"$f":"INPUT!A:A","v":45196.61917824074},{"$f":"INPUT!K893","v":95},{"$f":"INPUT!O893","v":54.4},{"$f":"INPUT!AH893","v":61.9},{"$f":"INPUT!AJ893","v":4.5}]
[{"$f":"INPUT!A:A","v":45196.619884259257},{"$f":"INPUT!K894","v":95},{"$f":"INPUT!O894","v":54.3},{"$f":"INPUT!AH894","v":61.8},{"$f":"INPUT!AJ894","v":4.5}]
[{"$f":"INPUT!A:A","v":45196.62059027778},{"$f":"INPUT!K895","v":95},{"$f":"INPUT!O895","v":54.3},{"$f":"INPUT!AH895","v":61.8},{"$f":"INPUT!AJ895","v":4.7}]
[{"$f":"INPUT!A:A","v":45196.62128472222},{"$f":"INPUT!K896","v":95},{"$f":"INPUT!O896","v":54.3},{"$f":"INPUT!AH896","v":61.8},{"$f":"INPUT!AJ896","v":4.7}]
[{"$f":"INPUT!A:A","v":45196.621990740743},{"$f":"INPUT!K897","v":95},{"$f":"INPUT!O897","v":54.3},{"$f":"INPUT!AH897","v":61.8},{"$f":"INPUT!AJ897","v":4.9000000000000004}]
[{"$f":"INPUT!A:A","v":45196.622696759259},{"$f":"INPUT!K898","v":95},{"$f":"INPUT!O898","v":54.4},{"$f":"INPUT!AH898","v":61.8},{"$f":"INPUT!AJ898","v":4.9000000000000004}]
[{"$f":"INPUT!A:A","v":45196.623414351852},{"$f":"INPUT!K899","v":95},{"$f":"INPUT!O899","v":54.4},{"$f":"INPUT!AH899","v":61.9},{"$f":"INPUT!AJ899","v":4.5}]
[{"$f":"INPUT!A:A","v":45196.624120370368},{"$f":"INPUT!K900","v":95},{"$f":"INPUT!O900","v":54.4},{"$f":"INPUT!AH900","v":61.9},{"$f":"INPUT!AJ900","v":3.6}]
[{"$f":"INPUT!A:A","v":45196.624814814815},{"$f":"INPUT!K901","v":95},{"$f":"INPUT!O901","v":54.3},{"$f":"INPUT!AH901","v":61.9},{"$f":"INPUT!AJ901","v":3.6}]
[{"$f":"INPUT!A:A","v":45196.625520833331},{"$f":"INPUT!K902","v":95},{"$f":"INPUT!O902","v":54.3},{"$f":"INPUT!AH902","v":61.9},{"$f":"INPUT!AJ902","v":4.4000000000000004}]
[{"$f":"INPUT!A:A","v":45196.626226851855},{"$f":"INPUT!K903","v":95},{"$f":"INPUT!O903","v":54.3},{"$f":"INPUT!AH903","v":61.9},{"$f":"INPUT!AJ903","v":4.5999999999999996}]
[{"$f":"INPUT!A:A","v":45196.626932870371},{"$f":"INPUT!K904","v":95},{"$f":"INPUT!O904","v":54.3},{"$f":"INPUT!AH904","v":61.8},{"$f":"INPUT!AJ904","v":4.5999999999999996}]
[{"$f":"INPUT!A:A","v":45196.627638888887},{"$f":"INPUT!K905","v":95},{"$f":"INPUT!O905","v":54.3},{"$f":"INPUT!AH905","v":61.8},{"$f":"INPUT!AJ905","v":4.4000000000000004}]
[{"$f":"INPUT!A:A","v":45196.628333333334},{"$f":"INPUT!K906","v":95},{"$f":"INPUT!O906","v":54.2},{"$f":"INPUT!AH906","v":61.8},{"$f":"INPUT!AJ906","v":6.1}]
[{"$f":"INPUT!A:A","v":45196.62903935185},{"$f":"INPUT!K907","v":95},{"$f":"INPUT!O907","v":54.3},{"$f":"INPUT!AH907","v":61.8},{"$f":"INPUT!AJ907","v":6.8}]
[{"$f":"INPUT!A:A","v":45196.629745370374},{"$f":"INPUT!K908","v":95},{"$f":"INPUT!O908","v":54.4},{"$f":"INPUT!AH908","v":61.8},{"$f":"INPUT!AJ908","v":6.6}]
[{"$f":"INPUT!A:A","v":45196.630462962959},{"$f":"INPUT!K909","v":95},{"$f":"INPUT!O909","v":54.3},{"$f":"INPUT!AH909","v":61.8},{"$f":"INPUT!AJ909","v":5.6}]
[{"$f":"INPUT!A:A","v":45196.631157407406},{"$f":"INPUT!K910","v":95},{"$f":"INPUT!O910","v":54.3},{"$f":"INPUT!AH910","v":61.8},{"$f":"INPUT!AJ910","v":5.9}]
[{"$f":"INPUT!A:A","v":45196.631863425922},{"$f":"INPUT!K911","v":95},{"$f":"INPUT!O911","v":54.3},{"$f":"INPUT!AH911","v":61.8},{"$f":"INPUT!AJ911","v":7.2}]
[{"$f":"INPUT!A:A","v":45196.632569444446},{"$f":"INPUT!K912","v":95},{"$f":"INPUT!O912","v":54.4},{"$f":"INPUT!AH912","v":61.7},{"$f":"INPUT!AJ912","v":8.5}]
[{"$f":"INPUT!A:A","v":45196.633263888885},{"$f":"INPUT!K913","v":95},{"$f":"INPUT!O913","v":54.5},{"$f":"INPUT!AH913","v":61.8},{"$f":"INPUT!AJ913","v":7.9}]
[{"$f":"INPUT!A:A","v":45196.633958333332},{"$f":"INPUT!K914","v":95},{"$f":"INPUT!O914","v":54.5},{"$f":"INPUT!AH914","v":61.8},{"$f":"INPUT!AJ914","v":5.5}]
[{"$f":"INPUT!A:A","v":45196.634664351855},{"$f":"INPUT!K915","v":95},{"$f":"INPUT!O915","v":54.4},{"$f":"INPUT!AH915","v":61.8},{"$f":"INPUT!AJ915","v":5.6}]
[{"$f":"INPUT!A:A","v":45196.635370370372},{"$f":"INPUT!K916","v":95},{"$f":"INPUT!O916","v":54.3},{"$f":"INPUT!AH916","v":61.8},{"$f":"INPUT!AJ916","v":5.6}]
[{"$f":"INPUT!A:A","v":45196.636064814818},{"$f":"INPUT!K917","v":95},{"$f":"INPUT!O917","v":54.3},{"$f":"INPUT!AH917","v":61.8},{"$f":"INPUT!AJ917","v":6}]
[{"$f":"INPUT!A:A","v":45196.636770833335},{"$f":"INPUT!K918","v":95},{"$f":"INPUT!O918","v":54.3},{"$f":"INPUT!AH918","v":61.8},{"$f":"INPUT!AJ918","v":6}]
[{"$f":"INPUT!A:A","v":45196.637499999997},{"$f":"INPUT!K919","v":95},{"$f":"INPUT!O919","v":54.3},{"$f":"INPUT!AH919","v":61.8},{"$f":"INPUT!AJ919","v":6.1}]
[{"$f":"INPUT!A:A","v":45196.638206018521},{"$f":"INPUT!K920","v":95},{"$f":"INPUT!O920","v":54.4},{"$f":"INPUT!AH920","v":61.8},{"$f":"INPUT!AJ920","v":6.2}]
[{"$f":"INPUT!A:A","v":45196.63890046296},{"$f":"INPUT!K921","v":95},{"$f":"INPUT!O921","v":54.4},{"$f":"INPUT!AH921","v":61.8},{"$f":"INPUT!AJ921","v":5.5}]
[{"$f":"INPUT!A:A","v":45196.639606481483},{"$f":"INPUT!K922","v":95},{"$f":"INPUT!O922","v":54.3},{"$f":"INPUT!AH922","v":61.8},{"$f":"INPUT!AJ922","v":5.3}]
[{"$f":"INPUT!A:A","v":45196.6403125},{"$f":"INPUT!K923","v":95},{"$f":"INPUT!O923","v":54.3},{"$f":"INPUT!AH923","v":61.8},{"$f":"INPUT!AJ923","v":5.3}]
[{"$f":"INPUT!A:A","v":45196.641018518516},{"$f":"INPUT!K924","v":95},{"$f":"INPUT!O924","v":54.3},{"$f":"INPUT!AH924","v":61.8},{"$f":"INPUT!AJ924","v":5.6}]
[{"$f":"INPUT!A:A","v":45196.641724537039},{"$f":"INPUT!K925","v":95},{"$f":"INPUT!O925","v":54.3},{"$f":"INPUT!AH925","v":61.8},{"$f":"INPUT!AJ925","v":5.6}]
[{"$f":"INPUT!A:A","v":45196.642418981479},{"$f":"INPUT!K926","v":95},{"$f":"INPUT!O926","v":54.3},{"$f":"INPUT!AH926","v":61.8},{"$f":"INPUT!AJ926","v":5.4}]
[{"$f":"INPUT!A:A","v":45196.643125000002},{"$f":"INPUT!K927","v":95},{"$f":"INPUT!O927","v":54.3},{"$f":"INPUT!AH927","v":61.8},{"$f":"INPUT!AJ927","v":5.2}]
[{"$f":"INPUT!A:A","v":45196.643831018519},{"$f":"INPUT!K928","v":95},{"$f":"INPUT!O928","v":54.3},{"$f":"INPUT!AH928","v":61.8},{"$f":"INPUT!AJ928","v":5.2}]
[{"$f":"INPUT!A:A","v":45196.644548611112},{"$f":"INPUT!K929","v":95},{"$f":"INPUT!O929","v":54.3},{"$f":"INPUT!AH929","v":61.8},{"$f":"INPUT!AJ929","v":5.3}]
[{"$f":"INPUT!A:A","v":45196.645243055558},{"$f":"INPUT!K930","v":95},{"$f":"INPUT!O930","v":54.3},{"$f":"INPUT!AH930","v":61.8},{"$f":"INPUT!AJ930","v":5.2}]
[{"$f":"INPUT!A:A","v":45196.645949074074},{"$f":"INPUT!K931","v":95},{"$f":"INPUT!O931","v":54.3},{"$f":"INPUT!AH931","v":61.8},{"$f":"INPUT!AJ931","v":5.3}]
[{"$f":"INPUT!A:A","v":45196.646655092591},{"$f":"INPUT!K932","v":95},{"$f":"INPUT!O932","v":54.3},{"$f":"INPUT!AH932","v":61.8},{"$f":"INPUT!AJ932","v":5.4}]
[{"$f":"INPUT!A:A","v":45196.647349537037},{"$f":"INPUT!K933","v":95},{"$f":"INPUT!O933","v":54.3},{"$f":"INPUT!AH933","v":61.8},{"$f":"INPUT!AJ933","v":5.5}]
[{"$f":"INPUT!A:A","v":45196.648055555554},{"$f":"INPUT!K934","v":95},{"$f":"INPUT!O934","v":54.3},{"$f":"INPUT!AH934","v":61.8},{"$f":"INPUT!AJ934","v":5.4}]
[{"$f":"INPUT!A:A","v":45196.648761574077},{"$f":"INPUT!K935","v":95},{"$f":"INPUT!O935","v":54.4},{"$f":"INPUT!AH935","v":61.8},{"$f":"INPUT!AJ935","v":5}]
[{"$f":"INPUT!A:A","v":45196.649467592593},{"$f":"INPUT!K936","v":95},{"$f":"INPUT!O936","v":54.4},{"$f":"INPUT!AH936","v":61.9},{"$f":"INPUT!AJ936","v":5.2}]
[{"$f":"INPUT!A:A","v":45196.650173611109},{"$f":"INPUT!K937","v":95},{"$f":"INPUT!O937","v":54.4},{"$f":"INPUT!AH937","v":61.8},{"$f":"INPUT!AJ937","v":5.3}]
[{"$f":"INPUT!A:A","v":45196.650879629633},{"$f":"INPUT!K938","v":95},{"$f":"INPUT!O938","v":54.4},{"$f":"INPUT!AH938","v":61.9},{"$f":"INPUT!AJ938","v":4.5999999999999996}]
[{"$f":"INPUT!A:A","v":45196.651585648149},{"$f":"INPUT!K939","v":95},{"$f":"INPUT!O939","v":54.4},{"$f":"INPUT!AH939","v":61.9},{"$f":"INPUT!AJ939","v":3.8}]
[{"$f":"INPUT!A:A","v":45196.652291666665},{"$f":"INPUT!K940","v":95},{"$f":"INPUT!O940","v":54.3},{"$f":"INPUT!AH940","v":61.9},{"$f":"INPUT!AJ940","v":3.8}]
[{"$f":"INPUT!A:A","v":45196.652997685182},{"$f":"INPUT!K941","v":95},{"$f":"INPUT!O941","v":54.3},{"$f":"INPUT!AH941","v":61.9},{"$f":"INPUT!AJ941","v":4}]
[{"$f":"INPUT!A:A","v":45196.653703703705},{"$f":"INPUT!K942","v":95},{"$f":"INPUT!O942","v":54.3},{"$f":"INPUT!AH942","v":61.9},{"$f":"INPUT!AJ942","v":4}]
[{"$f":"INPUT!A:A","v":45196.654398148145},{"$f":"INPUT!K943","v":95},{"$f":"INPUT!O943","v":54.3},{"$f":"INPUT!AH943","v":61.9},{"$f":"INPUT!AJ943","v":4.2}]
[{"$f":"INPUT!A:A","v":45196.655104166668},{"$f":"INPUT!K944","v":95},{"$f":"INPUT!O944","v":54.3},{"$f":"INPUT!AH944","v":61.9},{"$f":"INPUT!AJ944","v":4.2}]
[{"$f":"INPUT!A:A","v":45196.655810185184},{"$f":"INPUT!K945","v":95},{"$f":"INPUT!O945","v":54.3},{"$f":"INPUT!AH945","v":61.9},{"$f":"INPUT!AJ945","v":4.2}]
[{"$f":"INPUT!A:A","v":45196.6565162037},{"$f":"INPUT!K946","v":95},{"$f":"INPUT!O946","v":54.3},{"$f":"INPUT!AH946","v":61.9},{"$f":"INPUT!AJ946","v":4}]
[{"$f":"INPUT!A:A","v":45196.657222222224},{"$f":"INPUT!K947","v":95},{"$f":"INPUT!O947","v":54.3},{"$f":"INPUT!AH947","v":61.9},{"$f":"INPUT!AJ947","v":4}]
[{"$f":"INPUT!A:A","v":45196.65792824074},{"$f":"INPUT!K948","v":95},{"$f":"INPUT!O948","v":54.3},{"$f":"INPUT!AH948","v":61.9},{"$f":"INPUT!AJ948","v":4}]
[{"$f":"INPUT!A:A","v":45196.658634259256},{"$f":"INPUT!K949","v":95},{"$f":"INPUT!O949","v":54.3},{"$f":"INPUT!AH949","v":61.9},{"$f":"INPUT!AJ949","v":3.9}]
[{"$f":"INPUT!A:A","v":45196.659328703703},{"$f":"INPUT!K950","v":95},{"$f":"INPUT!O950","v":54.3},{"$f":"INPUT!AH950","v":61.9},{"$f":"INPUT!AJ950","v":3.9}]
[{"$f":"INPUT!A:A","v":45196.660034722219},{"$f":"INPUT!K951","v":95},{"$f":"INPUT!O951","v":54.3},{"$f":"INPUT!AH951","v":61.9},{"$f":"INPUT!AJ951","v":4.5}]
[{"$f":"INPUT!A:A","v":45196.660740740743},{"$f":"INPUT!K952","v":95},{"$f":"INPUT!O952","v":54.3},{"$f":"INPUT!AH952","v":61.9},{"$f":"INPUT!AJ952","v":6.1}]
[{"$f":"INPUT!A:A","v":45196.661446759259},{"$f":"INPUT!K953","v":95},{"$f":"INPUT!O953","v":54.5},{"$f":"INPUT!AH953","v":61.9},{"$f":"INPUT!AJ953","v":6}]
[{"$f":"INPUT!A:A","v":45196.662152777775},{"$f":"INPUT!K954","v":95},{"$f":"INPUT!O954","v":54.5},{"$f":"INPUT!AH954","v":61.9},{"$f":"INPUT!AJ954","v":3.8}]
[{"$f":"INPUT!A:A","v":45196.662858796299},{"$f":"INPUT!K955","v":95},{"$f":"INPUT!O955","v":54.4},{"$f":"INPUT!AH955","v":61.9},{"$f":"INPUT!AJ955","v":3.8}]
[{"$f":"INPUT!A:A","v":45196.663553240738},{"$f":"INPUT!K956","v":95},{"$f":"INPUT!O956","v":54.3},{"$f":"INPUT!AH956","v":61.9},{"$f":"INPUT!AJ956","v":3.8}]
[{"$f":"INPUT!A:A","v":45196.664259259262},{"$f":"INPUT!K957","v":95},{"$f":"INPUT!O957","v":54.3},{"$f":"INPUT!AH957","v":61.9},{"$f":"INPUT!AJ957","v":3.8}]
[{"$f":"INPUT!A:A","v":45196.664976851855},{"$f":"INPUT!K958","v":95},{"$f":"INPUT!O958","v":54.3},{"$f":"INPUT!AH958","v":61.9},{"$f":"INPUT!AJ958","v":3.7}]
[{"$f":"INPUT!A:A","v":45196.665682870371},{"$f":"INPUT!K959","v":95},{"$f":"INPUT!O959","v":54.3},{"$f":"INPUT!AH959","v":61.9},{"$f":"INPUT!AJ959","v":3.9}]
[{"$f":"INPUT!A:A","v":45196.666388888887},{"$f":"INPUT!K960","v":95},{"$f":"INPUT!O960","v":54.3},{"$f":"INPUT!AH960","v":61.9},{"$f":"INPUT!AJ960","v":4}]
[{"$f":"INPUT!A:A","v":45196.667094907411},{"$f":"INPUT!K961","v":95},{"$f":"INPUT!O961","v":54.3},{"$f":"INPUT!AH961","v":61.9},{"$f":"INPUT!AJ961","v":4}]
[{"$f":"INPUT!A:A","v":45196.66778935185},{"$f":"INPUT!K962","v":95},{"$f":"INPUT!O962","v":54.3},{"$f":"INPUT!AH962","v":61.9},{"$f":"INPUT!AJ962","v":3.7}]
[{"$f":"INPUT!A:A","v":45196.668495370373},{"$f":"INPUT!K963","v":95},{"$f":"INPUT!O963","v":54.3},{"$f":"INPUT!AH963","v":61.9},{"$f":"INPUT!AJ963","v":3.9}]
[{"$f":"INPUT!A:A","v":45196.66920138889},{"$f":"INPUT!K964","v":95},{"$f":"INPUT!O964","v":54.3},{"$f":"INPUT!AH964","v":61.9},{"$f":"INPUT!AJ964","v":4}]
[{"$f":"INPUT!A:A","v":45196.669907407406},{"$f":"INPUT!K965","v":95},{"$f":"INPUT!O965","v":54.3},{"$f":"INPUT!AH965","v":61.9},{"$f":"INPUT!AJ965","v":3.9}]
[{"$f":"INPUT!A:A","v":45196.670613425929},{"$f":"INPUT!K966","v":95},{"$f":"INPUT!O966","v":54.3},{"$f":"INPUT!AH966","v":61.9},{"$f":"INPUT!AJ966","v":3.6}]
[{"$f":"INPUT!A:A","v":45196.671307870369},{"$f":"INPUT!K967","v":95},{"$f":"INPUT!O967","v":54.3},{"$f":"INPUT!AH967","v":61.9},{"$f":"INPUT!AJ967","v":3.8}]
[{"$f":"INPUT!A:A","v":45196.672037037039},{"$f":"INPUT!K968","v":95},{"$f":"INPUT!O968","v":54.3},{"$f":"INPUT!AH968","v":61.9},{"$f":"INPUT!AJ968","v":3.9}]
[{"$f":"INPUT!A:A","v":45196.672743055555},{"$f":"INPUT!K969","v":95},{"$f":"INPUT!O969","v":54.3},{"$f":"INPUT!AH969","v":61.9},{"$f":"INPUT!AJ969","v":3.9}]
[{"$f":"INPUT!A:A","v":45196.673449074071},{"$f":"INPUT!K970","v":95},{"$f":"INPUT!O970","v":54.3},{"$f":"INPUT!AH970","v":61.9},{"$f":"INPUT!AJ970","v":5.2}]
[{"$f":"INPUT!A:A","v":45196.674143518518},{"$f":"INPUT!K971","v":95},{"$f":"INPUT!O971","v":54.5},{"$f":"INPUT!AH971","v":61.8},{"$f":"INPUT!AJ971","v":6.1}]
[{"$f":"INPUT!A:A","v":45196.674849537034},{"$f":"INPUT!K972","v":95},{"$f":"INPUT!O972","v":54.5},{"$f":"INPUT!AH972","v":61.9},{"$f":"INPUT!AJ972","v":4.9000000000000004}]
[{"$f":"INPUT!A:A","v":45196.675543981481},{"$f":"INPUT!K973","v":95},{"$f":"INPUT!O973","v":54.4},{"$f":"INPUT!AH973","v":61.9},{"$f":"INPUT!AJ973","v":3.6}]
[{"$f":"INPUT!A:A","v":45196.676249999997},{"$f":"INPUT!K974","v":95},{"$f":"INPUT!O974","v":54.4},{"$f":"INPUT!AH974","v":61.9},{"$f":"INPUT!AJ974","v":4.5999999999999996}]
[{"$f":"INPUT!A:A","v":45196.67695601852},{"$f":"INPUT!K975","v":95},{"$f":"INPUT!O975","v":54.2},{"$f":"INPUT!AH975","v":61.8},{"$f":"INPUT!AJ975","v":3.8}]
[{"$f":"INPUT!A:A","v":45196.677662037036},{"$f":"INPUT!K976","v":95},{"$f":"INPUT!O976","v":54.3},{"$f":"INPUT!AH976","v":61.7},{"$f":"INPUT!AJ976","v":2.9}]
[{"$f":"INPUT!A:A","v":45196.678356481483},{"$f":"INPUT!K977","v":95},{"$f":"INPUT!O977","v":54.3},{"$f":"INPUT!AH977","v":61.7},{"$f":"INPUT!AJ977","v":2.9}]
[{"$f":"INPUT!A:A","v":45196.679074074076},{"$f":"INPUT!K978","v":95},{"$f":"INPUT!O978","v":54.3},{"$f":"INPUT!AH978","v":61.8},{"$f":"INPUT!AJ978","v":3}]
[{"$f":"INPUT!A:A","v":45196.679780092592},{"$f":"INPUT!K979","v":95},{"$f":"INPUT!O979","v":54.3},{"$f":"INPUT!AH979","v":61.8},{"$f":"INPUT!AJ979","v":3.1}]
[{"$f":"INPUT!A:A","v":45196.680486111109},{"$f":"INPUT!K980","v":95},{"$f":"INPUT!O980","v":54.3},{"$f":"INPUT!AH980","v":61.8},{"$f":"INPUT!AJ980","v":3}]
[{"$f":"INPUT!A:A","v":45196.681192129632},{"$f":"INPUT!K981","v":95},{"$f":"INPUT!O981","v":54.3},{"$f":"INPUT!AH981","v":61.7},{"$f":"INPUT!AJ981","v":2.8}]
[{"$f":"INPUT!A:A","v":45196.681886574072},{"$f":"INPUT!K982","v":95},{"$f":"INPUT!O982","v":54.3},{"$f":"INPUT!AH982","v":61.7},{"$f":"INPUT!AJ982","v":2.8}]
[{"$f":"INPUT!A:A","v":45196.682592592595},{"$f":"INPUT!K983","v":95},{"$f":"INPUT!O983","v":54.3},{"$f":"INPUT!AH983","v":61.7},{"$f":"INPUT!AJ983","v":2.8}]
[{"$f":"INPUT!A:A","v":45196.683298611111},{"$f":"INPUT!K984","v":95},{"$f":"INPUT!O984","v":54.3},{"$f":"INPUT!AH984","v":61.8},{"$f":"INPUT!AJ984","v":3}]
[{"$f":"INPUT!A:A","v":45196.684004629627},{"$f":"INPUT!K985","v":95},{"$f":"INPUT!O985","v":54.3},{"$f":"INPUT!AH985","v":61.9},{"$f":"INPUT!AJ985","v":4.5}]
[{"$f":"INPUT!A:A","v":45196.684710648151},{"$f":"INPUT!K986","v":95},{"$f":"INPUT!O986","v":54.3},{"$f":"INPUT!AH986","v":61.8},{"$f":"INPUT!AJ986","v":4.5999999999999996}]
[{"$f":"INPUT!A:A","v":45196.68540509259},{"$f":"INPUT!K987","v":95},{"$f":"INPUT!O987","v":54.4},{"$f":"INPUT!AH987","v":61.9},{"$f":"INPUT!AJ987","v":4.5}]
[{"$f":"INPUT!A:A","v":45196.686122685183},{"$f":"INPUT!K988","v":95},{"$f":"INPUT!O988","v":54.4},{"$f":"INPUT!AH988","v":61.9},{"$f":"INPUT!AJ988","v":3.7}]
[{"$f":"INPUT!A:A","v":45196.686828703707},{"$f":"INPUT!K989","v":95},{"$f":"INPUT!O989","v":54.3},{"$f":"INPUT!AH989","v":61.9},{"$f":"INPUT!AJ989","v":3.6}]
[{"$f":"INPUT!A:A","v":45196.687534722223},{"$f":"INPUT!K990","v":95},{"$f":"INPUT!O990","v":54.3},{"$f":"INPUT!AH990","v":61.9},{"$f":"INPUT!AJ990","v":4.2}]
[{"$f":"INPUT!A:A","v":45196.68822916667},{"$f":"INPUT!K991","v":95},{"$f":"INPUT!O991","v":54.4},{"$f":"INPUT!AH991","v":61.8},{"$f":"INPUT!AJ991","v":5.6}]
[{"$f":"INPUT!A:A","v":45196.688935185186},{"$f":"INPUT!K992","v":95},{"$f":"INPUT!O992","v":54.5},{"$f":"INPUT!AH992","v":61.9},{"$f":"INPUT!AJ992","v":5}]
[{"$f":"INPUT!A:A","v":45196.689641203702},{"$f":"INPUT!K993","v":95},{"$f":"INPUT!O993","v":54.4},{"$f":"INPUT!AH993","v":61.9},{"$f":"INPUT!AJ993","v":3.6}]
[{"$f":"INPUT!A:A","v":45196.690335648149},{"$f":"INPUT!K994","v":95},{"$f":"INPUT!O994","v":54.4},{"$f":"INPUT!AH994","v":61.9},{"$f":"INPUT!AJ994","v":3.6}]
[{"$f":"INPUT!A:A","v":45196.691041666665},{"$f":"INPUT!K995","v":95},{"$f":"INPUT!O995","v":54.3},{"$f":"INPUT!AH995","v":61.9},{"$f":"INPUT!AJ995","v":3.6}]
[{"$f":"INPUT!A:A","v":45196.691747685189},{"$f":"INPUT!K996","v":95},{"$f":"INPUT!O996","v":54.3},{"$f":"INPUT!AH996","v":61.9},{"$f":"INPUT!AJ996","v":3.6}]
[{"$f":"INPUT!A:A","v":45196.692453703705},{"$f":"INPUT!K997","v":95},{"$f":"INPUT!O997","v":54.3},{"$f":"INPUT!AH997","v":61.9},{"$f":"INPUT!AJ997","v":3.6}]
[{"$f":"INPUT!A:A","v":45196.693159722221},{"$f":"INPUT!K998","v":95},{"$f":"INPUT!O998","v":54.3},{"$f":"INPUT!AH998","v":61.9},{"$f":"INPUT!AJ998","v":3.7}]
[{"$f":"INPUT!A:A","v":45196.693865740737},{"$f":"INPUT!K999","v":95},{"$f":"INPUT!O999","v":54.3},{"$f":"INPUT!AH999","v":61.9},{"$f":"INPUT!AJ999","v":3.7}]
[{"$f":"INPUT!A:A","v":45196.694571759261},{"$f":"INPUT!K1000","v":95},{"$f":"INPUT!O1000","v":54.3},{"$f":"INPUT!AH1000","v":61.9},{"$f":"INPUT!AJ1000","v":3.7}]
[{"$f":"INPUT!A:A","v":45196.695277777777},{"$f":"INPUT!K1001","v":95},{"$f":"INPUT!O1001","v":54.3},{"$f":"INPUT!AH1001","v":61.9},{"$f":"INPUT!AJ1001","v":4.5999999999999996}]
[{"$f":"INPUT!A:A","v":45196.695972222224},{"$f":"INPUT!K1002","v":95},{"$f":"INPUT!O1002","v":54.4},{"$f":"INPUT!AH1002","v":61.8},{"$f":"INPUT!AJ1002","v":5.9}]
[{"$f":"INPUT!A:A","v":45196.696666666663},{"$f":"INPUT!K1003","v":95},{"$f":"INPUT!O1003","v":54.5},{"$f":"INPUT!AH1003","v":61.9},{"$f":"INPUT!AJ1003","v":5.0999999999999996}]
[{"$f":"INPUT!A:A","v":45196.697372685187},{"$f":"INPUT!K1004","v":95},{"$f":"INPUT!O1004","v":54.5},{"$f":"INPUT!AH1004","v":61.9},{"$f":"INPUT!AJ1004","v":3.5}]
[{"$f":"INPUT!A:A","v":45196.698078703703},{"$f":"INPUT!K1005","v":95},{"$f":"INPUT!O1005","v":54.4},{"$f":"INPUT!AH1005","v":61.9},{"$f":"INPUT!AJ1005","v":3.5}]
[{"$f":"INPUT!A:A","v":45196.698784722219},{"$f":"INPUT!K1006","v":95},{"$f":"INPUT!O1006","v":54.4},{"$f":"INPUT!AH1006","v":61.9},{"$f":"INPUT!AJ1006","v":3.5}]
[{"$f":"INPUT!A:A","v":45196.699490740742},{"$f":"INPUT!K1007","v":95},{"$f":"INPUT!O1007","v":54.3},{"$f":"INPUT!AH1007","v":61.9},{"$f":"INPUT!AJ1007","v":3.6}]
[{"$f":"INPUT!A:A","v":45196.700208333335},{"$f":"INPUT!K1008","v":95},{"$f":"INPUT!O1008","v":54.3},{"$f":"INPUT!AH1008","v":61.9},{"$f":"INPUT!AJ1008","v":3.7}]
[{"$f":"INPUT!A:A","v":45196.700914351852},{"$f":"INPUT!K1009","v":95},{"$f":"INPUT!O1009","v":54.3},{"$f":"INPUT!AH1009","v":61.9},{"$f":"INPUT!AJ1009","v":3.8}]
[{"$f":"INPUT!A:A","v":45196.701620370368},{"$f":"INPUT!K1010","v":95},{"$f":"INPUT!O1010","v":54.3},{"$f":"INPUT!AH1010","v":61.9},{"$f":"INPUT!AJ1010","v":3.7}]
[{"$f":"INPUT!A:A","v":45196.702326388891},{"$f":"INPUT!K1011","v":95},{"$f":"INPUT!O1011","v":54.3},{"$f":"INPUT!AH1011","v":61.9},{"$f":"INPUT!AJ1011","v":3.7}]
[{"$f":"INPUT!A:A","v":45196.703020833331},{"$f":"INPUT!K1012","v":95},{"$f":"INPUT!O1012","v":54.3},{"$f":"INPUT!AH1012","v":61.9},{"$f":"INPUT!AJ1012","v":3.5}]
[{"$f":"INPUT!A:A","v":45196.703726851854},{"$f":"INPUT!K1013","v":95},{"$f":"INPUT!O1013","v":54.3},{"$f":"INPUT!AH1013","v":61.9},{"$f":"INPUT!AJ1013","v":3.6}]
[{"$f":"INPUT!A:A","v":45196.704432870371},{"$f":"INPUT!K1014","v":95},{"$f":"INPUT!O1014","v":54.3},{"$f":"INPUT!AH1014","v":61.9},{"$f":"INPUT!AJ1014","v":3.6}]
[{"$f":"INPUT!A:A","v":45196.705138888887},{"$f":"INPUT!K1015","v":95},{"$f":"INPUT!O1015","v":54.3},{"$f":"INPUT!AH1015","v":61.9},{"$f":"INPUT!AJ1015","v":3.8}]
[{"$f":"INPUT!A:A","v":45196.705833333333},{"$f":"INPUT!K1016","v":95},{"$f":"INPUT!O1016","v":54.3},{"$f":"INPUT!AH1016","v":61.9},{"$f":"INPUT!AJ1016","v":3.8}]
[{"$f":"INPUT!A:A","v":45196.706550925926},{"$f":"INPUT!K1017","v":95},{"$f":"INPUT!O1017","v":54.3},{"$f":"INPUT!AH1017","v":61.9},{"$f":"INPUT!AJ1017","v":2.7}]
[{"$f":"INPUT!A:A","v":45196.707256944443},{"$f":"INPUT!K1018","v":95},{"$f":"INPUT!O1018","v":54.3},{"$f":"INPUT!AH1018","v":61.9},{"$f":"INPUT!AJ1018","v":2.7}]
[{"$f":"INPUT!A:A","v":45196.707962962966},{"$f":"INPUT!K1019","v":95},{"$f":"INPUT!O1019","v":54.3},{"$f":"INPUT!AH1019","v":61.9},{"$f":"INPUT!AJ1019","v":2.8}]
[{"$f":"INPUT!A:A","v":45196.708668981482},{"$f":"INPUT!K1020","v":95},{"$f":"INPUT!O1020","v":54.3},{"$f":"INPUT!AH1020","v":61.9},{"$f":"INPUT!AJ1020","v":2.8}]
[{"$f":"INPUT!A:A","v":45196.709363425929},{"$f":"INPUT!K1021","v":95},{"$f":"INPUT!O1021","v":54.3},{"$f":"INPUT!AH1021","v":61.9},{"$f":"INPUT!AJ1021","v":2.7}]
[{"$f":"INPUT!A:A","v":45196.710069444445},{"$f":"INPUT!K1022","v":95},{"$f":"INPUT!O1022","v":54.3},{"$f":"INPUT!AH1022","v":61.9},{"$f":"INPUT!AJ1022","v":2.9}]
[{"$f":"INPUT!A:A","v":45196.710775462961},{"$f":"INPUT!K1023","v":95},{"$f":"INPUT!O1023","v":54.3},{"$f":"INPUT!AH1023","v":61.8},{"$f":"INPUT!AJ1023","v":5.0999999999999996}]
[{"$f":"INPUT!A:A","v":45196.711481481485},{"$f":"INPUT!K1024","v":95},{"$f":"INPUT!O1024","v":54.5},{"$f":"INPUT!AH1024","v":61.8},{"$f":"INPUT!AJ1024","v":5.0999999999999996}]
[{"$f":"INPUT!A:A","v":45196.712175925924},{"$f":"INPUT!K1025","v":95},{"$f":"INPUT!O1025","v":54.5},{"$f":"INPUT!AH1025","v":61.9},{"$f":"INPUT!AJ1025","v":2.1}]
[{"$f":"INPUT!A:A","v":45196.712881944448},{"$f":"INPUT!K1026","v":95},{"$f":"INPUT!O1026","v":54.4},{"$f":"INPUT!AH1026","v":61.9},{"$f":"INPUT!AJ1026","v":2.7}]
[{"$f":"INPUT!A:A","v":45196.713599537034},{"$f":"INPUT!K1027","v":95},{"$f":"INPUT!O1027","v":54.3},{"$f":"INPUT!AH1027","v":61.9},{"$f":"INPUT!AJ1027","v":3}]
[{"$f":"INPUT!A:A","v":45196.714305555557},{"$f":"INPUT!K1028","v":95},{"$f":"INPUT!O1028","v":54.3},{"$f":"INPUT!AH1028","v":61.9},{"$f":"INPUT!AJ1028","v":3.2}]
[{"$f":"INPUT!A:A","v":45196.714999999997},{"$f":"INPUT!K1029","v":95},{"$f":"INPUT!O1029","v":54.3},{"$f":"INPUT!AH1029","v":61.8},{"$f":"INPUT!AJ1029","v":3.1}]
[{"$f":"INPUT!A:A","v":45196.71570601852},{"$f":"INPUT!K1030","v":95},{"$f":"INPUT!O1030","v":54.3},{"$f":"INPUT!AH1030","v":61.8},{"$f":"INPUT!AJ1030","v":3.2}]
[{"$f":"INPUT!A:A","v":45196.716412037036},{"$f":"INPUT!K1031","v":95},{"$f":"INPUT!O1031","v":54.3},{"$f":"INPUT!AH1031","v":61.8},{"$f":"INPUT!AJ1031","v":3.2}]
[{"$f":"INPUT!A:A","v":45196.717118055552},{"$f":"INPUT!K1032","v":95},{"$f":"INPUT!O1032","v":54.3},{"$f":"INPUT!AH1032","v":61.8},{"$f":"INPUT!AJ1032","v":4.0999999999999996}]
[{"$f":"INPUT!A:A","v":45196.717812499999},{"$f":"INPUT!K1033","v":95},{"$f":"INPUT!O1033","v":54.4},{"$f":"INPUT!AH1033","v":61.9},{"$f":"INPUT!AJ1033","v":4}]
[{"$f":"INPUT!A:A","v":45196.718518518515},{"$f":"INPUT!K1034","v":95},{"$f":"INPUT!O1034","v":54.3},{"$f":"INPUT!AH1034","v":61.9},{"$f":"INPUT!AJ1034","v":3.7}]
[{"$f":"INPUT!A:A","v":45196.719224537039},{"$f":"INPUT!K1035","v":95},{"$f":"INPUT!O1035","v":54.3},{"$f":"INPUT!AH1035","v":61.9},{"$f":"INPUT!AJ1035","v":3.7}]
[{"$f":"INPUT!A:A","v":45196.719930555555},{"$f":"INPUT!K1036","v":95},{"$f":"INPUT!O1036","v":54.3},{"$f":"INPUT!AH1036","v":61.9},{"$f":"INPUT!AJ1036","v":3.8}]
[{"$f":"INPUT!A:A","v":45196.720648148148},{"$f":"INPUT!K1037","v":95},{"$f":"INPUT!O1037","v":54.3},{"$f":"INPUT!AH1037","v":61.8},{"$f":"INPUT!AJ1037","v":4.4000000000000004}]
[{"$f":"INPUT!A:A","v":45196.721354166664},{"$f":"INPUT!K1038","v":95},{"$f":"INPUT!O1038","v":54.4},{"$f":"INPUT!AH1038","v":61.9},{"$f":"INPUT!AJ1038","v":4.4000000000000004}]
[{"$f":"INPUT!A:A","v":45196.722060185188},{"$f":"INPUT!K1039","v":95},{"$f":"INPUT!O1039","v":54.3},{"$f":"INPUT!AH1039","v":61.9},{"$f":"INPUT!AJ1039","v":3.7}]
[{"$f":"INPUT!A:A","v":45196.722766203704},{"$f":"INPUT!K1040","v":95},{"$f":"INPUT!O1040","v":54.3},{"$f":"INPUT!AH1040","v":61.9},{"$f":"INPUT!AJ1040","v":3.7}]
[{"$f":"INPUT!A:A","v":45196.723460648151},{"$f":"INPUT!K1041","v":95},{"$f":"INPUT!O1041","v":54.3},{"$f":"INPUT!AH1041","v":61.9},{"$f":"INPUT!AJ1041","v":3.7}]
[{"$f":"INPUT!A:A","v":45196.724166666667},{"$f":"INPUT!K1042","v":95},{"$f":"INPUT!O1042","v":54.3},{"$f":"INPUT!AH1042","v":61.9},{"$f":"INPUT!AJ1042","v":3.8}]
[{"$f":"INPUT!A:A","v":45196.724861111114},{"$f":"INPUT!K1043","v":95},{"$f":"INPUT!O1043","v":54.3},{"$f":"INPUT!AH1043","v":61.9},{"$f":"INPUT!AJ1043","v":3.9}]
[{"$f":"INPUT!A:A","v":45196.72556712963},{"$f":"INPUT!K1044","v":95},{"$f":"INPUT!O1044","v":54.3},{"$f":"INPUT!AH1044","v":61.9},{"$f":"INPUT!AJ1044","v":3.8}]
[{"$f":"INPUT!A:A","v":45196.726273148146},{"$f":"INPUT!K1045","v":95},{"$f":"INPUT!O1045","v":54.3},{"$f":"INPUT!AH1045","v":61.9},{"$f":"INPUT!AJ1045","v":4.0999999999999996}]
[{"$f":"INPUT!A:A","v":45196.726979166669},{"$f":"INPUT!K1046","v":95},{"$f":"INPUT!O1046","v":54.3},{"$f":"INPUT!AH1046","v":61.9},{"$f":"INPUT!AJ1046","v":4.3}]
[{"$f":"INPUT!A:A","v":45196.727696759262},{"$f":"INPUT!K1047","v":95},{"$f":"INPUT!O1047","v":54.3},{"$f":"INPUT!AH1047","v":61.9},{"$f":"INPUT!AJ1047","v":4.4000000000000004}]
[{"$f":"INPUT!A:A","v":45196.728391203702},{"$f":"INPUT!K1048","v":95},{"$f":"INPUT!O1048","v":54.4},{"$f":"INPUT!AH1048","v":61.9},{"$f":"INPUT!AJ1048","v":4.9000000000000004}]
[{"$f":"INPUT!A:A","v":45196.729085648149},{"$f":"INPUT!K1049","v":95},{"$f":"INPUT!O1049","v":54.4},{"$f":"INPUT!AH1049","v":61.8},{"$f":"INPUT!AJ1049","v":6.2}]
[{"$f":"INPUT!A:A","v":45196.729791666665},{"$f":"INPUT!K1050","v":95},{"$f":"INPUT!O1050","v":54.5},{"$f":"INPUT!AH1050","v":61.9},{"$f":"INPUT!AJ1050","v":5.6}]
[{"$f":"INPUT!A:A","v":45196.730497685188},{"$f":"INPUT!K1051","v":95},{"$f":"INPUT!O1051","v":54.4},{"$f":"INPUT!AH1051","v":61.9},{"$f":"INPUT!AJ1051","v":4}]
[{"$f":"INPUT!A:A","v":45196.731192129628},{"$f":"INPUT!K1052","v":95},{"$f":"INPUT!O1052","v":54.3},{"$f":"INPUT!AH1052","v":61.9},{"$f":"INPUT!AJ1052","v":3.7}]
[{"$f":"INPUT!A:A","v":45196.731898148151},{"$f":"INPUT!K1053","v":95},{"$f":"INPUT!O1053","v":54.3},{"$f":"INPUT!AH1053","v":61.9},{"$f":"INPUT!AJ1053","v":4}]
[{"$f":"INPUT!A:A","v":45196.732604166667},{"$f":"INPUT!K1054","v":95},{"$f":"INPUT!O1054","v":54.3},{"$f":"INPUT!AH1054","v":61.9},{"$f":"INPUT!AJ1054","v":4.0999999999999996}]
[{"$f":"INPUT!A:A","v":45196.733310185184},{"$f":"INPUT!K1055","v":95},{"$f":"INPUT!O1055","v":54.3},{"$f":"INPUT!AH1055","v":61.9},{"$f":"INPUT!AJ1055","v":4.0999999999999996}]
[{"$f":"INPUT!A:A","v":45196.734016203707},{"$f":"INPUT!K1056","v":95},{"$f":"INPUT!O1056","v":54.3},{"$f":"INPUT!AH1056","v":61.9},{"$f":"INPUT!AJ1056","v":4}]
[{"$f":"INPUT!A:A","v":45196.734722222223},{"$f":"INPUT!K1057","v":95},{"$f":"INPUT!O1057","v":54.3},{"$f":"INPUT!AH1057","v":61.9},{"$f":"INPUT!AJ1057","v":4.5999999999999996}]
[{"$f":"INPUT!A:A","v":45196.73542824074},{"$f":"INPUT!K1058","v":95},{"$f":"INPUT!O1058","v":54.3},{"$f":"INPUT!AH1058","v":61.8},{"$f":"INPUT!AJ1058","v":4.7}]
[{"$f":"INPUT!A:A","v":45196.736122685186},{"$f":"INPUT!K1059","v":95},{"$f":"INPUT!O1059","v":54.3},{"$f":"INPUT!AH1059","v":61.8},{"$f":"INPUT!AJ1059","v":4.7}]
[{"$f":"INPUT!A:A","v":45196.736828703702},{"$f":"INPUT!K1060","v":95},{"$f":"INPUT!O1060","v":54.4},{"$f":"INPUT!AH1060","v":61.9},{"$f":"INPUT!AJ1060","v":4.5999999999999996}]
[{"$f":"INPUT!A:A","v":45196.737534722219},{"$f":"INPUT!K1061","v":95},{"$f":"INPUT!O1061","v":54.4},{"$f":"INPUT!AH1061","v":61.9},{"$f":"INPUT!AJ1061","v":3.8}]
[{"$f":"INPUT!A:A","v":45196.738240740742},{"$f":"INPUT!K1062","v":95},{"$f":"INPUT!O1062","v":54.3},{"$f":"INPUT!AH1062","v":61.9},{"$f":"INPUT!AJ1062","v":3.8}]
[{"$f":"INPUT!A:A","v":45196.738935185182},{"$f":"INPUT!K1063","v":95},{"$f":"INPUT!O1063","v":54.3},{"$f":"INPUT!AH1063","v":61.9},{"$f":"INPUT!AJ1063","v":3.8}]
[{"$f":"INPUT!A:A","v":45196.739641203705},{"$f":"INPUT!K1064","v":95},{"$f":"INPUT!O1064","v":54.3},{"$f":"INPUT!AH1064","v":61.9},{"$f":"INPUT!AJ1064","v":4.3}]
[{"$f":"INPUT!A:A","v":45196.740335648145},{"$f":"INPUT!K1065","v":95},{"$f":"INPUT!O1065","v":54.4},{"$f":"INPUT!AH1065","v":61.9},{"$f":"INPUT!AJ1065","v":5.7}]
[{"$f":"INPUT!A:A","v":45196.741041666668},{"$f":"INPUT!K1066","v":95},{"$f":"INPUT!O1066","v":54.5},{"$f":"INPUT!AH1066","v":61.9},{"$f":"INPUT!AJ1066","v":5.5}]
[{"$f":"INPUT!A:A","v":45196.741759259261},{"$f":"INPUT!K1067","v":95},{"$f":"INPUT!O1067","v":54.5},{"$f":"INPUT!AH1067","v":61.9},{"$f":"INPUT!AJ1067","v":3.8}]
[{"$f":"INPUT!A:A","v":45196.742465277777},{"$f":"INPUT!K1068","v":95},{"$f":"INPUT!O1068","v":54.4},{"$f":"INPUT!AH1068","v":61.9},{"$f":"INPUT!AJ1068","v":3.8}]
[{"$f":"INPUT!A:A","v":45196.743159722224},{"$f":"INPUT!K1069","v":95},{"$f":"INPUT!O1069","v":54.4},{"$f":"INPUT!AH1069","v":61.9},{"$f":"INPUT!AJ1069","v":3.6}]
[{"$f":"INPUT!A:A","v":45196.74386574074},{"$f":"INPUT!K1070","v":95},{"$f":"INPUT!O1070","v":54.3},{"$f":"INPUT!AH1070","v":61.9},{"$f":"INPUT!AJ1070","v":3.6}]
[{"$f":"INPUT!A:A","v":45196.744571759256},{"$f":"INPUT!K1071","v":95},{"$f":"INPUT!O1071","v":54.3},{"$f":"INPUT!AH1071","v":61.9},{"$f":"INPUT!AJ1071","v":3.8}]
[{"$f":"INPUT!A:A","v":45196.745266203703},{"$f":"INPUT!K1072","v":95},{"$f":"INPUT!O1072","v":54.3},{"$f":"INPUT!AH1072","v":61.9},{"$f":"INPUT!AJ1072","v":3.9}]
[{"$f":"INPUT!A:A","v":45196.745972222219},{"$f":"INPUT!K1073","v":95},{"$f":"INPUT!O1073","v":54.3},{"$f":"INPUT!AH1073","v":61.9},{"$f":"INPUT!AJ1073","v":3.8}]
[{"$f":"INPUT!A:A","v":45196.746678240743},{"$f":"INPUT!K1074","v":95},{"$f":"INPUT!O1074","v":54.3},{"$f":"INPUT!AH1074","v":61.9},{"$f":"INPUT!AJ1074","v":3.8}]
[{"$f":"INPUT!A:A","v":45196.747384259259},{"$f":"INPUT!K1075","v":95},{"$f":"INPUT!O1075","v":54.3},{"$f":"INPUT!AH1075","v":61.9},{"$f":"INPUT!AJ1075","v":3.8}]
[{"$f":"INPUT!A:A","v":45196.748090277775},{"$f":"INPUT!K1076","v":95},{"$f":"INPUT!O1076","v":54.3},{"$f":"INPUT!AH1076","v":61.9},{"$f":"INPUT!AJ1076","v":3.8}]
[{"$f":"INPUT!A:A","v":45196.748807870368},{"$f":"INPUT!K1077","v":95},{"$f":"INPUT!O1077","v":54.3},{"$f":"INPUT!AH1077","v":61.9},{"$f":"INPUT!AJ1077","v":3.7}]
[{"$f":"INPUT!A:A","v":45196.749502314815},{"$f":"INPUT!K1078","v":95},{"$f":"INPUT!O1078","v":54.3},{"$f":"INPUT!AH1078","v":61.9},{"$f":"INPUT!AJ1078","v":3.7}]
[{"$f":"INPUT!A:A","v":45196.750208333331},{"$f":"INPUT!K1079","v":95},{"$f":"INPUT!O1079","v":54.3},{"$f":"INPUT!AH1079","v":61.9},{"$f":"INPUT!AJ1079","v":3.6}]
[{"$f":"INPUT!A:A","v":45196.750914351855},{"$f":"INPUT!K1080","v":95},{"$f":"INPUT!O1080","v":54.3},{"$f":"INPUT!AH1080","v":61.9},{"$f":"INPUT!AJ1080","v":3.6}]
[{"$f":"INPUT!A:A","v":45196.751620370371},{"$f":"INPUT!K1081","v":95},{"$f":"INPUT!O1081","v":54.3},{"$f":"INPUT!AH1081","v":61.9},{"$f":"INPUT!AJ1081","v":3.6}]
[{"$f":"INPUT!A:A","v":45196.752314814818},{"$f":"INPUT!K1082","v":95},{"$f":"INPUT!O1082","v":54.3},{"$f":"INPUT!AH1082","v":61.9},{"$f":"INPUT!AJ1082","v":3.7}]
[{"$f":"INPUT!A:A","v":45196.753020833334},{"$f":"INPUT!K1083","v":95},{"$f":"INPUT!O1083","v":54.3},{"$f":"INPUT!AH1083","v":61.9},{"$f":"INPUT!AJ1083","v":3.8}]
[{"$f":"INPUT!A:A","v":45196.75372685185},{"$f":"INPUT!K1084","v":95},{"$f":"INPUT!O1084","v":54.3},{"$f":"INPUT!AH1084","v":61.9},{"$f":"INPUT!AJ1084","v":4.8}]
[{"$f":"INPUT!A:A","v":45196.754432870373},{"$f":"INPUT!K1085","v":95},{"$f":"INPUT!O1085","v":54.3},{"$f":"INPUT!AH1085","v":61.8},{"$f":"INPUT!AJ1085","v":4.7}]
[{"$f":"INPUT!A:A","v":45196.755150462966},{"$f":"INPUT!K1086","v":95},{"$f":"INPUT!O1086","v":54.4},{"$f":"INPUT!AH1086","v":61.9},{"$f":"INPUT!AJ1086","v":4}]
[{"$f":"INPUT!A:A","v":45196.755856481483},{"$f":"INPUT!K1087","v":95},{"$f":"INPUT!O1087","v":54.4},{"$f":"INPUT!AH1087","v":61.9},{"$f":"INPUT!AJ1087","v":3.6}]
[{"$f":"INPUT!A:A","v":45196.756550925929},{"$f":"INPUT!K1088","v":95},{"$f":"INPUT!O1088","v":54.4},{"$f":"INPUT!AH1088","v":61.9},{"$f":"INPUT!AJ1088","v":3.6}]
[{"$f":"INPUT!A:A","v":45196.757256944446},{"$f":"INPUT!K1089","v":95},{"$f":"INPUT!O1089","v":54.3},{"$f":"INPUT!AH1089","v":61.9},{"$f":"INPUT!AJ1089","v":3.6}]
[{"$f":"INPUT!A:A","v":45196.757962962962},{"$f":"INPUT!K1090","v":95},{"$f":"INPUT!O1090","v":54.3},{"$f":"INPUT!AH1090","v":61.9},{"$f":"INPUT!AJ1090","v":3.5}]
[{"$f":"INPUT!A:A","v":45196.758657407408},{"$f":"INPUT!K1091","v":95},{"$f":"INPUT!O1091","v":54.3},{"$f":"INPUT!AH1091","v":61.9},{"$f":"INPUT!AJ1091","v":3.7}]
[{"$f":"INPUT!A:A","v":45196.759363425925},{"$f":"INPUT!K1092","v":95},{"$f":"INPUT!O1092","v":54.3},{"$f":"INPUT!AH1092","v":61.9},{"$f":"INPUT!AJ1092","v":4.4000000000000004}]
[{"$f":"INPUT!A:A","v":45196.760069444441},{"$f":"INPUT!K1093","v":94.9},{"$f":"INPUT!O1093","v":54.1},{"$f":"INPUT!AH1093","v":61.8},{"$f":"INPUT!AJ1093","v":4.3}]
[{"$f":"INPUT!A:A","v":45196.760775462964},{"$f":"INPUT!K1094","v":95},{"$f":"INPUT!O1094","v":54.1},{"$f":"INPUT!AH1094","v":61.5},{"$f":"INPUT!AJ1094","v":4.0999999999999996}]
[{"$f":"INPUT!A:A","v":45196.761469907404},{"$f":"INPUT!K1095","v":95},{"$f":"INPUT!O1095","v":54.2},{"$f":"INPUT!AH1095","v":61.3},{"$f":"INPUT!AJ1095","v":3.9}]
[{"$f":"INPUT!A:A","v":45196.762187499997},{"$f":"INPUT!K1096","v":95},{"$f":"INPUT!O1096","v":54.2},{"$f":"INPUT!AH1096","v":61.2},{"$f":"INPUT!AJ1096","v":3.8}]
[{"$f":"INPUT!A:A","v":45196.76289351852},{"$f":"INPUT!K1097","v":95},{"$f":"INPUT!O1097","v":54.1},{"$f":"INPUT!AH1097","v":61},{"$f":"INPUT!AJ1097","v":3.6}]
[{"$f":"INPUT!A:A","v":45196.763599537036},{"$f":"INPUT!K1098","v":95},{"$f":"INPUT!O1098","v":54.1},{"$f":"INPUT!AH1098","v":60.8},{"$f":"INPUT!AJ1098","v":3.6}]
[{"$f":"INPUT!A:A","v":45196.764305555553},{"$f":"INPUT!K1099","v":95},{"$f":"INPUT!O1099","v":54.1},{"$f":"INPUT!AH1099","v":60.6},{"$f":"INPUT!AJ1099","v":3.6}]
[{"$f":"INPUT!A:A","v":45196.764999999999},{"$f":"INPUT!K1100","v":95},{"$f":"INPUT!O1100","v":54},{"$f":"INPUT!AH1100","v":60.3},{"$f":"INPUT!AJ1100","v":3.3}]
[{"$f":"INPUT!A:A","v":45196.765706018516},{"$f":"INPUT!K1101","v":94.9},{"$f":"INPUT!O1101","v":54},{"$f":"INPUT!AH1101","v":60},{"$f":"INPUT!AJ1101","v":3.1}]
[{"$f":"INPUT!A:A","v":45196.766400462962},{"$f":"INPUT!K1102","v":94.9},{"$f":"INPUT!O1102","v":53.9},{"$f":"INPUT!AH1102","v":59.7},{"$f":"INPUT!AJ1102","v":3.2}]
[{"$f":"INPUT!A:A","v":45196.767106481479},{"$f":"INPUT!K1103","v":94.9},{"$f":"INPUT!O1103","v":53.9},{"$f":"INPUT!AH1103","v":59.2},{"$f":"INPUT!AJ1103","v":3.1}]
[{"$f":"INPUT!A:A","v":45196.767812500002},{"$f":"INPUT!K1104","v":94.9},{"$f":"INPUT!O1104","v":53.8},{"$f":"INPUT!AH1104","v":59},{"$f":"INPUT!AJ1104","v":3}]
[{"$f":"INPUT!A:A","v":45196.768518518518},{"$f":"INPUT!K1105","v":94.9},{"$f":"INPUT!O1105","v":53.7},{"$f":"INPUT!AH1105","v":59},{"$f":"INPUT!AJ1105","v":2.9}]
[{"$f":"INPUT!A:A","v":45196.769247685188},{"$f":"INPUT!K1106","v":94.8},{"$f":"INPUT!O1106","v":53.7},{"$f":"INPUT!AH1106","v":59},{"$f":"INPUT!AJ1106","v":2.9}]
[{"$f":"INPUT!A:A","v":45196.769953703704},{"$f":"INPUT!K1107","v":94.8},{"$f":"INPUT!O1107","v":53.6},{"$f":"INPUT!AH1107","v":59},{"$f":"INPUT!AJ1107","v":2.9}]
[{"$f":"INPUT!A:A","v":45196.770648148151},{"$f":"INPUT!K1108","v":94.8},{"$f":"INPUT!O1108","v":53.6},{"$f":"INPUT!AH1108","v":59},{"$f":"INPUT!AJ1108","v":2.9}]
[{"$f":"INPUT!A:A","v":45196.771354166667},{"$f":"INPUT!K1109","v":94.8},{"$f":"INPUT!O1109","v":53.5},{"$f":"INPUT!AH1109","v":59},{"$f":"INPUT!AJ1109","v":2.8}]
[{"$f":"INPUT!A:A","v":45196.772060185183},{"$f":"INPUT!K1110","v":94.7},{"$f":"INPUT!O1110","v":53.5},{"$f":"INPUT!AH1110","v":59},{"$f":"INPUT!AJ1110","v":2.7}]
[{"$f":"INPUT!A:A","v":45196.772766203707},{"$f":"INPUT!K1111","v":94.7},{"$f":"INPUT!O1111","v":53.4},{"$f":"INPUT!AH1111","v":59},{"$f":"INPUT!AJ1111","v":2.7}]
[{"$f":"INPUT!A:A","v":45196.773472222223},{"$f":"INPUT!K1112","v":94.7},{"$f":"INPUT!O1112","v":53.4},{"$f":"INPUT!AH1112","v":59},{"$f":"INPUT!AJ1112","v":2.7}]
[{"$f":"INPUT!A:A","v":45196.77416666667},{"$f":"INPUT!K1113","v":94.6},{"$f":"INPUT!O1113","v":53.3},{"$f":"INPUT!AH1113","v":59},{"$f":"INPUT!AJ1113","v":2.7}]
[{"$f":"INPUT!A:A","v":45196.774872685186},{"$f":"INPUT!K1114","v":94.6},{"$f":"INPUT!O1114","v":53.3},{"$f":"INPUT!AH1114","v":59},{"$f":"INPUT!AJ1114","v":2.7}]
[{"$f":"INPUT!A:A","v":45196.775578703702},{"$f":"INPUT!K1115","v":94.5},{"$f":"INPUT!O1115","v":53.3},{"$f":"INPUT!AH1115","v":59},{"$f":"INPUT!AJ1115","v":2.6}]
[{"$f":"INPUT!A:A","v":45196.776296296295},{"$f":"INPUT!K1116","v":94.4},{"$f":"INPUT!O1116","v":53.2},{"$f":"INPUT!AH1116","v":59},{"$f":"INPUT!AJ1116","v":2.6}]
[{"$f":"INPUT!A:A","v":45196.777002314811},{"$f":"INPUT!K1117","v":94.4},{"$f":"INPUT!O1117","v":53.2},{"$f":"INPUT!AH1117","v":59},{"$f":"INPUT!AJ1117","v":2.6}]
[{"$f":"INPUT!A:A","v":45196.777708333335},{"$f":"INPUT!K1118","v":94.4},{"$f":"INPUT!O1118","v":53.2},{"$f":"INPUT!AH1118","v":59},{"$f":"INPUT!AJ1118","v":2.5}]
[{"$f":"INPUT!A:A","v":45196.778402777774},{"$f":"INPUT!K1119","v":94.3},{"$f":"INPUT!O1119","v":53.2},{"$f":"INPUT!AH1119","v":59},{"$f":"INPUT!AJ1119","v":2.5}]
[{"$f":"INPUT!A:A","v":45196.779108796298},{"$f":"INPUT!K1120","v":94.2},{"$f":"INPUT!O1120","v":53.2},{"$f":"INPUT!AH1120","v":59},{"$f":"INPUT!AJ1120","v":6.8}]
[{"$f":"INPUT!A:A","v":45196.779814814814},{"$f":"INPUT!K1121","v":94.2},{"$f":"INPUT!O1121","v":53.1},{"$f":"INPUT!AH1121","v":59.1},{"$f":"INPUT!AJ1121","v":6.7}]
[{"$f":"INPUT!A:A","v":45196.78052083333},{"$f":"INPUT!K1122","v":94.1},{"$f":"INPUT!O1122","v":53.1},{"$f":"INPUT!AH1122","v":59},{"$f":"INPUT!AJ1122","v":2.5}]
[{"$f":"INPUT!A:A","v":45196.781215277777},{"$f":"INPUT!K1123","v":94.1},{"$f":"INPUT!O1123","v":53.1},{"$f":"INPUT!AH1123","v":59},{"$f":"INPUT!AJ1123","v":2.6}]
[{"$f":"INPUT!A:A","v":45196.781909722224},{"$f":"INPUT!K1124","v":94},{"$f":"INPUT!O1124","v":53.1},{"$f":"INPUT!AH1124","v":59},{"$f":"INPUT!AJ1124","v":2.5}]
[{"$f":"INPUT!A:A","v":45196.78261574074},{"$f":"INPUT!K1125","v":93.9},{"$f":"INPUT!O1125","v":53.1},{"$f":"INPUT!AH1125","v":59},{"$f":"INPUT!AJ1125","v":2.5}]
[{"$f":"INPUT!A:A","v":45196.783333333333},{"$f":"INPUT!K1126","v":93.9},{"$f":"INPUT!O1126","v":53.1},{"$f":"INPUT!AH1126","v":59},{"$f":"INPUT!AJ1126","v":2.6}]
[{"$f":"INPUT!A:A","v":45196.784039351849},{"$f":"INPUT!K1127","v":93.8},{"$f":"INPUT!O1127","v":53.1},{"$f":"INPUT!AH1127","v":59},{"$f":"INPUT!AJ1127","v":2.7}]
[{"$f":"INPUT!A:A","v":45196.784733796296},{"$f":"INPUT!K1128","v":93.8},{"$f":"INPUT!O1128","v":53.1},{"$f":"INPUT!AH1128","v":59},{"$f":"INPUT!AJ1128","v":2.7}]
[{"$f":"INPUT!A:A","v":45196.785439814812},{"$f":"INPUT!K1129","v":93.7},{"$f":"INPUT!O1129","v":53.1},{"$f":"INPUT!AH1129","v":59},{"$f":"INPUT!AJ1129","v":2.9}]
[{"$f":"INPUT!A:A","v":45196.786145833335},{"$f":"INPUT!K1130","v":93.6},{"$f":"INPUT!O1130","v":53.1},{"$f":"INPUT!AH1130","v":59},{"$f":"INPUT!AJ1130","v":2.8}]
[{"$f":"INPUT!A:A","v":45196.786840277775},{"$f":"INPUT!K1131","v":93.6},{"$f":"INPUT!O1131","v":53.1},{"$f":"INPUT!AH1131","v":59},{"$f":"INPUT!AJ1131","v":2.8}]
[{"$f":"INPUT!A:A","v":45196.787546296298},{"$f":"INPUT!K1132","v":93.5},{"$f":"INPUT!O1132","v":53.1},{"$f":"INPUT!AH1132","v":59},{"$f":"INPUT!AJ1132","v":2.9}]
[{"$f":"INPUT!A:A","v":45196.788252314815},{"$f":"INPUT!K1133","v":93.4},{"$f":"INPUT!O1133","v":53.1},{"$f":"INPUT!AH1133","v":59},{"$f":"INPUT!AJ1133","v":2.8}]
[{"$f":"INPUT!A:A","v":45196.788958333331},{"$f":"INPUT!K1134","v":93.3},{"$f":"INPUT!O1134","v":53.1},{"$f":"INPUT!AH1134","v":59},{"$f":"INPUT!AJ1134","v":2.5}]
[{"$f":"INPUT!A:A","v":45196.789652777778},{"$f":"INPUT!K1135","v":93.3},{"$f":"INPUT!O1135","v":53.1},{"$f":"INPUT!AH1135","v":59},{"$f":"INPUT!AJ1135","v":2.4}]
[{"$f":"INPUT!A:A","v":45196.790370370371},{"$f":"INPUT!K1136","v":93.2},{"$f":"INPUT!O1136","v":53.1},{"$f":"INPUT!AH1136","v":59},{"$f":"INPUT!AJ1136","v":2.2999999999999998}]
[{"$f":"INPUT!A:A","v":45196.791076388887},{"$f":"INPUT!K1137","v":93.1},{"$f":"INPUT!O1137","v":53.1},{"$f":"INPUT!AH1137","v":59},{"$f":"INPUT!AJ1137","v":2.2999999999999998}]
[{"$f":"INPUT!A:A","v":45196.79178240741},{"$f":"INPUT!K1138","v":93.1},{"$f":"INPUT!O1138","v":53.1},{"$f":"INPUT!AH1138","v":59},{"$f":"INPUT!AJ1138","v":2.4}]
[{"$f":"INPUT!A:A","v":45196.792488425926},{"$f":"INPUT!K1139","v":93},{"$f":"INPUT!O1139","v":53.2},{"$f":"INPUT!AH1139","v":59},{"$f":"INPUT!AJ1139","v":2.5}]
[{"$f":"INPUT!A:A","v":45196.793182870373},{"$f":"INPUT!K1140","v":92.9},{"$f":"INPUT!O1140","v":53.1},{"$f":"INPUT!AH1140","v":59},{"$f":"INPUT!AJ1140","v":2.5}]
[{"$f":"INPUT!A:A","v":45196.793888888889},{"$f":"INPUT!K1141","v":92.8},{"$f":"INPUT!O1141","v":53.1},{"$f":"INPUT!AH1141","v":59},{"$f":"INPUT!AJ1141","v":2.2999999999999998}]
[{"$f":"INPUT!A:A","v":45196.794594907406},{"$f":"INPUT!K1142","v":92.8},{"$f":"INPUT!O1142","v":53.1},{"$f":"INPUT!AH1142","v":59},{"$f":"INPUT!AJ1142","v":2.5}]
[{"$f":"INPUT!A:A","v":45196.795289351852},{"$f":"INPUT!K1143","v":92.6},{"$f":"INPUT!O1143","v":53.1},{"$f":"INPUT!AH1143","v":59},{"$f":"INPUT!AJ1143","v":2.6}]
[{"$f":"INPUT!A:A","v":45196.795995370368},{"$f":"INPUT!K1144","v":92.5},{"$f":"INPUT!O1144","v":53.1},{"$f":"INPUT!AH1144","v":59},{"$f":"INPUT!AJ1144","v":2.4}]
[{"$f":"INPUT!A:A","v":45196.796701388892},{"$f":"INPUT!K1145","v":92.4},{"$f":"INPUT!O1145","v":53.1},{"$f":"INPUT!AH1145","v":59},{"$f":"INPUT!AJ1145","v":5.4}]
[{"$f":"INPUT!A:A","v":45196.797418981485},{"$f":"INPUT!K1146","v":92.3},{"$f":"INPUT!O1146","v":53},{"$f":"INPUT!AH1146","v":59},{"$f":"INPUT!AJ1146","v":5.0999999999999996}]
[{"$f":"INPUT!A:A","v":45196.798125000001},{"$f":"INPUT!K1147","v":92.2},{"$f":"INPUT!O1147","v":53},{"$f":"INPUT!AH1147","v":59},{"$f":"INPUT!AJ1147","v":7.2}]
[{"$f":"INPUT!A:A","v":45196.798831018517},{"$f":"INPUT!K1148","v":92},{"$f":"INPUT!O1148","v":53},{"$f":"INPUT!AH1148","v":59.1},{"$f":"INPUT!AJ1148","v":5.9}]
[{"$f":"INPUT!A:A","v":45196.799537037034},{"$f":"INPUT!K1149","v":91.9},{"$f":"INPUT!O1149","v":53.1},{"$f":"INPUT!AH1149","v":59},{"$f":"INPUT!AJ1149","v":2.2000000000000002}]
[{"$f":"INPUT!A:A","v":45196.80023148148},{"$f":"INPUT!K1150","v":91.8},{"$f":"INPUT!O1150","v":53.1},{"$f":"INPUT!AH1150","v":59},{"$f":"INPUT!AJ1150","v":2.2999999999999998}]
[{"$f":"INPUT!A:A","v":45196.800937499997},{"$f":"INPUT!K1151","v":91.7},{"$f":"INPUT!O1151","v":53.1},{"$f":"INPUT!AH1151","v":59},{"$f":"INPUT!AJ1151","v":2.2000000000000002}]
[{"$f":"INPUT!A:A","v":45196.80164351852},{"$f":"INPUT!K1152","v":91.6},{"$f":"INPUT!O1152","v":53.1},{"$f":"INPUT!AH1152","v":59},{"$f":"INPUT!AJ1152","v":2.4}]
[{"$f":"INPUT!A:A","v":45196.802349537036},{"$f":"INPUT!K1153","v":91.5},{"$f":"INPUT!O1153","v":53.1},{"$f":"INPUT!AH1153","v":59},{"$f":"INPUT!AJ1153","v":2.6}]
[{"$f":"INPUT!A:A","v":45196.803043981483},{"$f":"INPUT!K1154","v":91.4},{"$f":"INPUT!O1154","v":53.1},{"$f":"INPUT!AH1154","v":59},{"$f":"INPUT!AJ1154","v":2.6}]
[{"$f":"INPUT!A:A","v":45196.803749999999},{"$f":"INPUT!K1155","v":91.3},{"$f":"INPUT!O1155","v":53.1},{"$f":"INPUT!AH1155","v":59},{"$f":"INPUT!AJ1155","v":2.5}]
[{"$f":"INPUT!A:A","v":45196.804467592592},{"$f":"INPUT!K1156","v":91.2},{"$f":"INPUT!O1156","v":53.1},{"$f":"INPUT!AH1156","v":59},{"$f":"INPUT!AJ1156","v":2.2000000000000002}]
[{"$f":"INPUT!A:A","v":45196.805173611108},{"$f":"INPUT!K1157","v":91.1},{"$f":"INPUT!O1157","v":53.1},{"$f":"INPUT!AH1157","v":59},{"$f":"INPUT!AJ1157","v":2.5}]
[{"$f":"INPUT!A:A","v":45196.805879629632},{"$f":"INPUT!K1158","v":91},{"$f":"INPUT!O1158","v":53.1},{"$f":"INPUT!AH1158","v":59},{"$f":"INPUT!AJ1158","v":2.6}]
[{"$f":"INPUT!A:A","v":45196.806574074071},{"$f":"INPUT!K1159","v":90.9},{"$f":"INPUT!O1159","v":53.1},{"$f":"INPUT!AH1159","v":59},{"$f":"INPUT!AJ1159","v":2.6}]
[{"$f":"INPUT!A:A","v":45196.807280092595},{"$f":"INPUT!K1160","v":90.8},{"$f":"INPUT!O1160","v":53.1},{"$f":"INPUT!AH1160","v":59},{"$f":"INPUT!AJ1160","v":2.6}]
[{"$f":"INPUT!A:A","v":45196.807986111111},{"$f":"INPUT!K1161","v":90.7},{"$f":"INPUT!O1161","v":53.1},{"$f":"INPUT!AH1161","v":59},{"$f":"INPUT!AJ1161","v":2.6}]
[{"$f":"INPUT!A:A","v":45196.808692129627},{"$f":"INPUT!K1162","v":90.6},{"$f":"INPUT!O1162","v":53.1},{"$f":"INPUT!AH1162","v":59},{"$f":"INPUT!AJ1162","v":2.5}]
[{"$f":"INPUT!A:A","v":45196.809398148151},{"$f":"INPUT!K1163","v":90.5},{"$f":"INPUT!O1163","v":53.1},{"$f":"INPUT!AH1163","v":59},{"$f":"INPUT!AJ1163","v":2.6}]
[{"$f":"INPUT!A:A","v":45196.810104166667},{"$f":"INPUT!K1164","v":90.4},{"$f":"INPUT!O1164","v":53.1},{"$f":"INPUT!AH1164","v":59},{"$f":"INPUT!AJ1164","v":8}]
[{"$f":"INPUT!A:A","v":45196.810810185183},{"$f":"INPUT!K1165","v":90.3},{"$f":"INPUT!O1165","v":53.1},{"$f":"INPUT!AH1165","v":59.1},{"$f":"INPUT!AJ1165","v":8}]
[{"$f":"INPUT!A:A","v":45196.811516203707},{"$f":"INPUT!K1166","v":90.2},{"$f":"INPUT!O1166","v":53.1},{"$f":"INPUT!AH1166","v":59},{"$f":"INPUT!AJ1166","v":2.5}]
[{"$f":"INPUT!A:A","v":45196.812222222223},{"$f":"INPUT!K1167","v":90.2},{"$f":"INPUT!O1167","v":53.1},{"$f":"INPUT!AH1167","v":59},{"$f":"INPUT!AJ1167","v":2.5}]
[{"$f":"INPUT!A:A","v":45196.812928240739},{"$f":"INPUT!K1168","v":90.1},{"$f":"INPUT!O1168","v":53.1},{"$f":"INPUT!AH1168","v":59},{"$f":"INPUT!AJ1168","v":2.5}]
[{"$f":"INPUT!A:A","v":45196.813634259262},{"$f":"INPUT!K1169","v":90},{"$f":"INPUT!O1169","v":53.1},{"$f":"INPUT!AH1169","v":59},{"$f":"INPUT!AJ1169","v":2.6}]
[{"$f":"INPUT!A:A","v":45196.814340277779},{"$f":"INPUT!K1170","v":89.9},{"$f":"INPUT!O1170","v":53.2},{"$f":"INPUT!AH1170","v":59},{"$f":"INPUT!AJ1170","v":2.6}]
[{"$f":"INPUT!A:A","v":45196.815046296295},{"$f":"INPUT!K1171","v":89.9},{"$f":"INPUT!O1171","v":53.2},{"$f":"INPUT!AH1171","v":59},{"$f":"INPUT!AJ1171","v":2.5}]
[{"$f":"INPUT!A:A","v":45196.815740740742},{"$f":"INPUT!K1172","v":89.8},{"$f":"INPUT!O1172","v":53.2},{"$f":"INPUT!AH1172","v":59},{"$f":"INPUT!AJ1172","v":2.6}]
[{"$f":"INPUT!A:A","v":45196.816435185188},{"$f":"INPUT!K1173","v":89.7},{"$f":"INPUT!O1173","v":53.2},{"$f":"INPUT!AH1173","v":59},{"$f":"INPUT!AJ1173","v":2.6}]
[{"$f":"INPUT!A:A","v":45196.817141203705},{"$f":"INPUT!K1174","v":89.6},{"$f":"INPUT!O1174","v":53.2},{"$f":"INPUT!AH1174","v":59},{"$f":"INPUT!AJ1174","v":2.5}]
[{"$f":"INPUT!A:A","v":45196.817858796298},{"$f":"INPUT!K1175","v":89.6},{"$f":"INPUT!O1175","v":53.2},{"$f":"INPUT!AH1175","v":59},{"$f":"INPUT!AJ1175","v":2.6}]
[{"$f":"INPUT!A:A","v":45196.818553240744},{"$f":"INPUT!K1176","v":89.5},{"$f":"INPUT!O1176","v":53.2},{"$f":"INPUT!AH1176","v":59},{"$f":"INPUT!AJ1176","v":2.6}]
[{"$f":"INPUT!A:A","v":45196.81925925926},{"$f":"INPUT!K1177","v":89.4},{"$f":"INPUT!O1177","v":53.2},{"$f":"INPUT!AH1177","v":59},{"$f":"INPUT!AJ1177","v":2.6}]
[{"$f":"INPUT!A:A","v":45196.819965277777},{"$f":"INPUT!K1178","v":89.3},{"$f":"INPUT!O1178","v":53.2},{"$f":"INPUT!AH1178","v":59},{"$f":"INPUT!AJ1178","v":2.6}]
[{"$f":"INPUT!A:A","v":45196.820671296293},{"$f":"INPUT!K1179","v":89.3},{"$f":"INPUT!O1179","v":53.2},{"$f":"INPUT!AH1179","v":59},{"$f":"INPUT!AJ1179","v":2.4}]
[{"$f":"INPUT!A:A","v":45196.82136574074},{"$f":"INPUT!K1180","v":89.2},{"$f":"INPUT!O1180","v":53.2},{"$f":"INPUT!AH1180","v":59},{"$f":"INPUT!AJ1180","v":2.6}]
[{"$f":"INPUT!A:A","v":45196.822071759256},{"$f":"INPUT!K1181","v":89.1},{"$f":"INPUT!O1181","v":53.2},{"$f":"INPUT!AH1181","v":59},{"$f":"INPUT!AJ1181","v":2.6}]
[{"$f":"INPUT!A:A","v":45196.822777777779},{"$f":"INPUT!K1182","v":89},{"$f":"INPUT!O1182","v":53.1},{"$f":"INPUT!AH1182","v":59},{"$f":"INPUT!AJ1182","v":2.5}]
[{"$f":"INPUT!A:A","v":45196.823472222219},{"$f":"INPUT!K1183","v":88.9},{"$f":"INPUT!O1183","v":53.2},{"$f":"INPUT!AH1183","v":59},{"$f":"INPUT!AJ1183","v":2.5}]
[{"$f":"INPUT!A:A","v":45196.824178240742},{"$f":"INPUT!K1184","v":88.8},{"$f":"INPUT!O1184","v":53.2},{"$f":"INPUT!AH1184","v":59},{"$f":"INPUT!AJ1184","v":2.6}]
[{"$f":"INPUT!A:A","v":45196.824907407405},{"$f":"INPUT!K1185","v":88.8},{"$f":"INPUT!O1185","v":53.2},{"$f":"INPUT!AH1185","v":59},{"$f":"INPUT!AJ1185","v":2.5}]
[{"$f":"INPUT!A:A","v":45196.825601851851},{"$f":"INPUT!K1186","v":88.7},{"$f":"INPUT!O1186","v":53.2},{"$f":"INPUT!AH1186","v":59},{"$f":"INPUT!AJ1186","v":2.5}]
[{"$f":"INPUT!A:A","v":45196.826307870368},{"$f":"INPUT!K1187","v":88.6},{"$f":"INPUT!O1187","v":53.2},{"$f":"INPUT!AH1187","v":59},{"$f":"INPUT!AJ1187","v":2.5}]
[{"$f":"INPUT!A:A","v":45196.827013888891},{"$f":"INPUT!K1188","v":88.5},{"$f":"INPUT!O1188","v":53.2},{"$f":"INPUT!AH1188","v":59},{"$f":"INPUT!AJ1188","v":2.7}]
[{"$f":"INPUT!A:A","v":45196.827719907407},{"$f":"INPUT!K1189","v":88.5},{"$f":"INPUT!O1189","v":53.2},{"$f":"INPUT!AH1189","v":59},{"$f":"INPUT!AJ1189","v":2.6}]
[{"$f":"INPUT!A:A","v":45196.828425925924},{"$f":"INPUT!K1190","v":88.4},{"$f":"INPUT!O1190","v":53.2},{"$f":"INPUT!AH1190","v":59},{"$f":"INPUT!AJ1190","v":2.5}]
[{"$f":"INPUT!A:A","v":45196.82912037037},{"$f":"INPUT!K1191","v":88.3},{"$f":"INPUT!O1191","v":53.2},{"$f":"INPUT!AH1191","v":59},{"$f":"INPUT!AJ1191","v":2.4}]
[{"$f":"INPUT!A:A","v":45196.829826388886},{"$f":"INPUT!K1192","v":88.2},{"$f":"INPUT!O1192","v":53.2},{"$f":"INPUT!AH1192","v":59},{"$f":"INPUT!AJ1192","v":2.6}]
[{"$f":"INPUT!A:A","v":45196.830520833333},{"$f":"INPUT!K1193","v":88.2},{"$f":"INPUT!O1193","v":53.2},{"$f":"INPUT!AH1193","v":59},{"$f":"INPUT!AJ1193","v":2.6}]
[{"$f":"INPUT!A:A","v":45196.831226851849},{"$f":"INPUT!K1194","v":88.1},{"$f":"INPUT!O1194","v":53.1},{"$f":"INPUT!AH1194","v":59},{"$f":"INPUT!AJ1194","v":2.5}]
[{"$f":"INPUT!A:A","v":45196.831944444442},{"$f":"INPUT!K1195","v":88},{"$f":"INPUT!O1195","v":53.1},{"$f":"INPUT!AH1195","v":59},{"$f":"INPUT!AJ1195","v":2.6}]
[{"$f":"INPUT!A:A","v":45196.832650462966},{"$f":"INPUT!K1196","v":87.9},{"$f":"INPUT!O1196","v":53.1},{"$f":"INPUT!AH1196","v":59},{"$f":"INPUT!AJ1196","v":2.6}]
[{"$f":"INPUT!A:A","v":45196.833344907405},{"$f":"INPUT!K1197","v":87.8},{"$f":"INPUT!O1197","v":53.1},{"$f":"INPUT!AH1197","v":59},{"$f":"INPUT!AJ1197","v":2.6}]
[{"$f":"INPUT!A:A","v":45196.834050925929},{"$f":"INPUT!K1198","v":87.7},{"$f":"INPUT!O1198","v":53.1},{"$f":"INPUT!AH1198","v":59},{"$f":"INPUT!AJ1198","v":2.6}]
[{"$f":"INPUT!A:A","v":45196.834756944445},{"$f":"INPUT!K1199","v":87.6},{"$f":"INPUT!O1199","v":53.1},{"$f":"INPUT!AH1199","v":59},{"$f":"INPUT!AJ1199","v":2.6}]
[{"$f":"INPUT!A:A","v":45196.835462962961},{"$f":"INPUT!K1200","v":87.5},{"$f":"INPUT!O1200","v":53.1},{"$f":"INPUT!AH1200","v":59},{"$f":"INPUT!AJ1200","v":2.6}]
[{"$f":"INPUT!A:A","v":45196.836168981485},{"$f":"INPUT!K1201","v":87.4},{"$f":"INPUT!O1201","v":53.1},{"$f":"INPUT!AH1201","v":59},{"$f":"INPUT!AJ1201","v":2.5}]
[{"$f":"INPUT!A:A","v":45196.836875000001},{"$f":"INPUT!K1202","v":87.3},{"$f":"INPUT!O1202","v":53.1},{"$f":"INPUT!AH1202","v":59},{"$f":"INPUT!AJ1202","v":2.6}]
[{"$f":"INPUT!A:A","v":45196.837569444448},{"$f":"INPUT!K1203","v":87.3},{"$f":"INPUT!O1203","v":53.1},{"$f":"INPUT!AH1203","v":59},{"$f":"INPUT!AJ1203","v":2.6}]
[{"$f":"INPUT!A:A","v":45196.838275462964},{"$f":"INPUT!K1204","v":87.2},{"$f":"INPUT!O1204","v":53.1},{"$f":"INPUT!AH1204","v":59},{"$f":"INPUT!AJ1204","v":2.6}]
[{"$f":"INPUT!A:A","v":45196.838993055557},{"$f":"INPUT!K1205","v":87.1},{"$f":"INPUT!O1205","v":53.1},{"$f":"INPUT!AH1205","v":59},{"$f":"INPUT!AJ1205","v":2.5}]
[{"$f":"INPUT!A:A","v":45196.839699074073},{"$f":"INPUT!K1206","v":87},{"$f":"INPUT!O1206","v":53.1},{"$f":"INPUT!AH1206","v":59},{"$f":"INPUT!AJ1206","v":2.5}]
[{"$f":"INPUT!A:A","v":45196.84039351852},{"$f":"INPUT!K1207","v":86.9},{"$f":"INPUT!O1207","v":53.1},{"$f":"INPUT!AH1207","v":59},{"$f":"INPUT!AJ1207","v":2.6}]
[{"$f":"INPUT!A:A","v":45196.841099537036},{"$f":"INPUT!K1208","v":86.8},{"$f":"INPUT!O1208","v":53.1},{"$f":"INPUT!AH1208","v":59},{"$f":"INPUT!AJ1208","v":2.6}]
[{"$f":"INPUT!A:A","v":45196.841805555552},{"$f":"INPUT!K1209","v":86.7},{"$f":"INPUT!O1209","v":53.1},{"$f":"INPUT!AH1209","v":59},{"$f":"INPUT!AJ1209","v":2.5}]
[{"$f":"INPUT!A:A","v":45196.842511574076},{"$f":"INPUT!K1210","v":86.6},{"$f":"INPUT!O1210","v":53.1},{"$f":"INPUT!AH1210","v":59},{"$f":"INPUT!AJ1210","v":2.6}]
[{"$f":"INPUT!A:A","v":45196.843217592592},{"$f":"INPUT!K1211","v":86.5},{"$f":"INPUT!O1211","v":53.1},{"$f":"INPUT!AH1211","v":59},{"$f":"INPUT!AJ1211","v":2.6}]
[{"$f":"INPUT!A:A","v":45196.843912037039},{"$f":"INPUT!K1212","v":86.4},{"$f":"INPUT!O1212","v":53.1},{"$f":"INPUT!AH1212","v":59},{"$f":"INPUT!AJ1212","v":2.6}]
[{"$f":"INPUT!A:A","v":45196.844618055555},{"$f":"INPUT!K1213","v":86.3},{"$f":"INPUT!O1213","v":53.1},{"$f":"INPUT!AH1213","v":59},{"$f":"INPUT!AJ1213","v":2.6}]
[{"$f":"INPUT!A:A","v":45196.845312500001},{"$f":"INPUT!K1214","v":86.2},{"$f":"INPUT!O1214","v":53.1},{"$f":"INPUT!AH1214","v":59},{"$f":"INPUT!AJ1214","v":2.5}]
[{"$f":"INPUT!A:A","v":45196.846041666664},{"$f":"INPUT!K1215","v":86.1},{"$f":"INPUT!O1215","v":53.1},{"$f":"INPUT!AH1215","v":59},{"$f":"INPUT!AJ1215","v":2.5}]
[{"$f":"INPUT!A:A","v":45196.846747685187},{"$f":"INPUT!K1216","v":86.1},{"$f":"INPUT!O1216","v":53.2},{"$f":"INPUT!AH1216","v":59},{"$f":"INPUT!AJ1216","v":2.6}]
[{"$f":"INPUT!A:A","v":45196.847453703704},{"$f":"INPUT!K1217","v":86},{"$f":"INPUT!O1217","v":53.2},{"$f":"INPUT!AH1217","v":59},{"$f":"INPUT!AJ1217","v":2.5}]
[{"$f":"INPUT!A:A","v":45196.84815972222},{"$f":"INPUT!K1218","v":85.9},{"$f":"INPUT!O1218","v":53.2},{"$f":"INPUT!AH1218","v":59},{"$f":"INPUT!AJ1218","v":2.6}]
[{"$f":"INPUT!A:A","v":45196.848865740743},{"$f":"INPUT!K1219","v":85.8},{"$f":"INPUT!O1219","v":53.1},{"$f":"INPUT!AH1219","v":59},{"$f":"INPUT!AJ1219","v":2.6}]
[{"$f":"INPUT!A:A","v":45196.849560185183},{"$f":"INPUT!K1220","v":85.7},{"$f":"INPUT!O1220","v":53.2},{"$f":"INPUT!AH1220","v":59},{"$f":"INPUT!AJ1220","v":2.5}]
[{"$f":"INPUT!A:A","v":45196.850266203706},{"$f":"INPUT!K1221","v":85.7},{"$f":"INPUT!O1221","v":53.2},{"$f":"INPUT!AH1221","v":59},{"$f":"INPUT!AJ1221","v":2.4}]
[{"$f":"INPUT!A:A","v":45196.850960648146},{"$f":"INPUT!K1222","v":85.6},{"$f":"INPUT!O1222","v":53.2},{"$f":"INPUT!AH1222","v":59},{"$f":"INPUT!AJ1222","v":2.5}]
[{"$f":"INPUT!A:A","v":45196.851666666669},{"$f":"INPUT!K1223","v":85.5},{"$f":"INPUT!O1223","v":53.2},{"$f":"INPUT!AH1223","v":59},{"$f":"INPUT!AJ1223","v":2.6}]
[{"$f":"INPUT!A:A","v":45196.852361111109},{"$f":"INPUT!K1224","v":85.5},{"$f":"INPUT!O1224","v":53.2},{"$f":"INPUT!AH1224","v":59},{"$f":"INPUT!AJ1224","v":2.5}]
[{"$f":"INPUT!A:A","v":45196.853078703702},{"$f":"INPUT!K1225","v":85.4},{"$f":"INPUT!O1225","v":53.2},{"$f":"INPUT!AH1225","v":59},{"$f":"INPUT!AJ1225","v":2.4}]
[{"$f":"INPUT!A:A","v":45196.853784722225},{"$f":"INPUT!K1226","v":85.3},{"$f":"INPUT!O1226","v":53.2},{"$f":"INPUT!AH1226","v":59},{"$f":"INPUT!AJ1226","v":2.5}]
[{"$f":"INPUT!A:A","v":45196.854479166665},{"$f":"INPUT!K1227","v":85.2},{"$f":"INPUT!O1227","v":53.2},{"$f":"INPUT!AH1227","v":59},{"$f":"INPUT!AJ1227","v":2.6}]
[{"$f":"INPUT!A:A","v":45196.855173611111},{"$f":"INPUT!K1228","v":85.2},{"$f":"INPUT!O1228","v":53.2},{"$f":"INPUT!AH1228","v":59},{"$f":"INPUT!AJ1228","v":2.5}]
[{"$f":"INPUT!A:A","v":45196.855879629627},{"$f":"INPUT!K1229","v":85.1},{"$f":"INPUT!O1229","v":53.2},{"$f":"INPUT!AH1229","v":59},{"$f":"INPUT!AJ1229","v":2.4}]
[{"$f":"INPUT!A:A","v":45196.856585648151},{"$f":"INPUT!K1230","v":85},{"$f":"INPUT!O1230","v":53.2},{"$f":"INPUT!AH1230","v":59},{"$f":"INPUT!AJ1230","v":2.5}]
[{"$f":"INPUT!A:A","v":45196.857291666667},{"$f":"INPUT!K1231","v":85},{"$f":"INPUT!O1231","v":53.2},{"$f":"INPUT!AH1231","v":59},{"$f":"INPUT!AJ1231","v":2.6}]
[{"$f":"INPUT!A:A","v":45196.857986111114},{"$f":"INPUT!K1232","v":84.9},{"$f":"INPUT!O1232","v":53.2},{"$f":"INPUT!AH1232","v":59},{"$f":"INPUT!AJ1232","v":2.5}]
[{"$f":"INPUT!A:A","v":45196.85869212963},{"$f":"INPUT!K1233","v":84.8},{"$f":"INPUT!O1233","v":53.2},{"$f":"INPUT!AH1233","v":59},{"$f":"INPUT!AJ1233","v":2.5}]
[{"$f":"INPUT!A:A","v":45196.859409722223},{"$f":"INPUT!K1234","v":84.8},{"$f":"INPUT!O1234","v":53.2},{"$f":"INPUT!AH1234","v":59},{"$f":"INPUT!AJ1234","v":2.6}]
[{"$f":"INPUT!A:A","v":45196.86010416667},{"$f":"INPUT!K1235","v":84.7},{"$f":"INPUT!O1235","v":53.2},{"$f":"INPUT!AH1235","v":59},{"$f":"INPUT!AJ1235","v":2.6}]
[{"$f":"INPUT!A:A","v":45196.860810185186},{"$f":"INPUT!K1236","v":84.6},{"$f":"INPUT!O1236","v":53.2},{"$f":"INPUT!AH1236","v":59},{"$f":"INPUT!AJ1236","v":2.5}]
[{"$f":"INPUT!A:A","v":45196.861516203702},{"$f":"INPUT!K1237","v":84.5},{"$f":"INPUT!O1237","v":53.2},{"$f":"INPUT!AH1237","v":59},{"$f":"INPUT!AJ1237","v":2.5}]
[{"$f":"INPUT!A:A","v":45196.862222222226},{"$f":"INPUT!K1238","v":84.4},{"$f":"INPUT!O1238","v":53.1},{"$f":"INPUT!AH1238","v":59},{"$f":"INPUT!AJ1238","v":2.6}]
[{"$f":"INPUT!A:A","v":45196.862916666665},{"$f":"INPUT!K1239","v":84.3},{"$f":"INPUT!O1239","v":53.1},{"$f":"INPUT!AH1239","v":59},{"$f":"INPUT!AJ1239","v":2.7}]
[{"$f":"INPUT!A:A","v":45196.863622685189},{"$f":"INPUT!K1240","v":84.3},{"$f":"INPUT!O1240","v":53.1},{"$f":"INPUT!AH1240","v":59},{"$f":"INPUT!AJ1240","v":2.4}]
[{"$f":"INPUT!A:A","v":45196.864328703705},{"$f":"INPUT!K1241","v":84.2},{"$f":"INPUT!O1241","v":53.1},{"$f":"INPUT!AH1241","v":59},{"$f":"INPUT!AJ1241","v":2.5}]
[{"$f":"INPUT!A:A","v":45196.865023148152},{"$f":"INPUT!K1242","v":84.1},{"$f":"INPUT!O1242","v":53.1},{"$f":"INPUT!AH1242","v":59},{"$f":"INPUT!AJ1242","v":2.5}]
[{"$f":"INPUT!A:A","v":45196.865729166668},{"$f":"INPUT!K1243","v":84},{"$f":"INPUT!O1243","v":53.2},{"$f":"INPUT!AH1243","v":59},{"$f":"INPUT!AJ1243","v":2.5}]
[{"$f":"INPUT!A:A","v":45196.866446759261},{"$f":"INPUT!K1244","v":84},{"$f":"INPUT!O1244","v":53.1},{"$f":"INPUT!AH1244","v":59},{"$f":"INPUT!AJ1244","v":2.5}]
[{"$f":"INPUT!A:A","v":45196.8671412037},{"$f":"INPUT!K1245","v":83.9},{"$f":"INPUT!O1245","v":53.1},{"$f":"INPUT!AH1245","v":59},{"$f":"INPUT!AJ1245","v":2.6}]
[{"$f":"INPUT!A:A","v":45196.867847222224},{"$f":"INPUT!K1246","v":83.8},{"$f":"INPUT!O1246","v":53.1},{"$f":"INPUT!AH1246","v":59},{"$f":"INPUT!AJ1246","v":2.5}]
[{"$f":"INPUT!A:A","v":45196.868541666663},{"$f":"INPUT!K1247","v":83.7},{"$f":"INPUT!O1247","v":53.1},{"$f":"INPUT!AH1247","v":59},{"$f":"INPUT!AJ1247","v":2.5}]
[{"$f":"INPUT!A:A","v":45196.869247685187},{"$f":"INPUT!K1248","v":83.6},{"$f":"INPUT!O1248","v":53.2},{"$f":"INPUT!AH1248","v":59},{"$f":"INPUT!AJ1248","v":2.6}]
[{"$f":"INPUT!A:A","v":45196.869942129626},{"$f":"INPUT!K1249","v":83.6},{"$f":"INPUT!O1249","v":53.2},{"$f":"INPUT!AH1249","v":59},{"$f":"INPUT!AJ1249","v":2.6}]
[{"$f":"INPUT!A:A","v":45196.870648148149},{"$f":"INPUT!K1250","v":83.5},{"$f":"INPUT!O1250","v":53.2},{"$f":"INPUT!AH1250","v":59},{"$f":"INPUT!AJ1250","v":2.6}]
[{"$f":"INPUT!A:A","v":45196.871354166666},{"$f":"INPUT!K1251","v":83.4},{"$f":"INPUT!O1251","v":53.2},{"$f":"INPUT!AH1251","v":59},{"$f":"INPUT!AJ1251","v":2.5}]
[{"$f":"INPUT!A:A","v":45196.872048611112},{"$f":"INPUT!K1252","v":83.4},{"$f":"INPUT!O1252","v":53.2},{"$f":"INPUT!AH1252","v":59},{"$f":"INPUT!AJ1252","v":2.6}]
[{"$f":"INPUT!A:A","v":45196.872754629629},{"$f":"INPUT!K1253","v":83.3},{"$f":"INPUT!O1253","v":53.1},{"$f":"INPUT!AH1253","v":59},{"$f":"INPUT!AJ1253","v":2.6}]
[{"$f":"INPUT!A:A","v":45196.873472222222},{"$f":"INPUT!K1254","v":83.2},{"$f":"INPUT!O1254","v":53.2},{"$f":"INPUT!AH1254","v":59},{"$f":"INPUT!AJ1254","v":2.5}]
[{"$f":"INPUT!A:A","v":45196.874166666668},{"$f":"INPUT!K1255","v":83.1},{"$f":"INPUT!O1255","v":53.2},{"$f":"INPUT!AH1255","v":59},{"$f":"INPUT!AJ1255","v":2.5}]
[{"$f":"INPUT!A:A","v":45196.874872685185},{"$f":"INPUT!K1256","v":83.1},{"$f":"INPUT!O1256","v":53.2},{"$f":"INPUT!AH1256","v":59},{"$f":"INPUT!AJ1256","v":2.5}]
[{"$f":"INPUT!A:A","v":45196.875578703701},{"$f":"INPUT!K1257","v":83},{"$f":"INPUT!O1257","v":53.2},{"$f":"INPUT!AH1257","v":59},{"$f":"INPUT!AJ1257","v":2.5}]
[{"$f":"INPUT!A:A","v":45196.876284722224},{"$f":"INPUT!K1258","v":82.9},{"$f":"INPUT!O1258","v":53.2},{"$f":"INPUT!AH1258","v":59},{"$f":"INPUT!AJ1258","v":2.5}]
[{"$f":"INPUT!A:A","v":45196.876979166664},{"$f":"INPUT!K1259","v":82.9},{"$f":"INPUT!O1259","v":53.2},{"$f":"INPUT!AH1259","v":59},{"$f":"INPUT!AJ1259","v":2.6}]
[{"$f":"INPUT!A:A","v":45196.877685185187},{"$f":"INPUT!K1260","v":82.8},{"$f":"INPUT!O1260","v":53.2},{"$f":"INPUT!AH1260","v":59},{"$f":"INPUT!AJ1260","v":2.6}]
[{"$f":"INPUT!A:A","v":45196.878379629627},{"$f":"INPUT!K1261","v":82.7},{"$f":"INPUT!O1261","v":53.2},{"$f":"INPUT!AH1261","v":59},{"$f":"INPUT!AJ1261","v":2.6}]
[{"$f":"INPUT!A:A","v":45196.87908564815},{"$f":"INPUT!K1262","v":82.7},{"$f":"INPUT!O1262","v":53.2},{"$f":"INPUT!AH1262","v":59},{"$f":"INPUT!AJ1262","v":2.5}]
[{"$f":"INPUT!A:A","v":45196.879780092589},{"$f":"INPUT!K1263","v":82.6},{"$f":"INPUT!O1263","v":53.2},{"$f":"INPUT!AH1263","v":59},{"$f":"INPUT!AJ1263","v":2.5}]
[{"$f":"INPUT!A:A","v":45196.880497685182},{"$f":"INPUT!K1264","v":82.5},{"$f":"INPUT!O1264","v":53.2},{"$f":"INPUT!AH1264","v":59},{"$f":"INPUT!AJ1264","v":2.6}]
[{"$f":"INPUT!A:A","v":45196.881192129629},{"$f":"INPUT!K1265","v":82.4},{"$f":"INPUT!O1265","v":53.2},{"$f":"INPUT!AH1265","v":59},{"$f":"INPUT!AJ1265","v":2.5}]
[{"$f":"INPUT!A:A","v":45196.881898148145},{"$f":"INPUT!K1266","v":82.4},{"$f":"INPUT!O1266","v":53.2},{"$f":"INPUT!AH1266","v":59},{"$f":"INPUT!AJ1266","v":2.4}]
[{"$f":"INPUT!A:A","v":45196.882604166669},{"$f":"INPUT!K1267","v":82.3},{"$f":"INPUT!O1267","v":53.1},{"$f":"INPUT!AH1267","v":59},{"$f":"INPUT!AJ1267","v":2.4}]
[{"$f":"INPUT!A:A","v":45196.883298611108},{"$f":"INPUT!K1268","v":82.2},{"$f":"INPUT!O1268","v":53.1},{"$f":"INPUT!AH1268","v":59},{"$f":"INPUT!AJ1268","v":2.4}]
[{"$f":"INPUT!A:A","v":45196.884004629632},{"$f":"INPUT!K1269","v":82.1},{"$f":"INPUT!O1269","v":53.2},{"$f":"INPUT!AH1269","v":59},{"$f":"INPUT!AJ1269","v":2.2999999999999998}]
[{"$f":"INPUT!A:A","v":45196.884699074071},{"$f":"INPUT!K1270","v":82.1},{"$f":"INPUT!O1270","v":53.2},{"$f":"INPUT!AH1270","v":59},{"$f":"INPUT!AJ1270","v":2.2999999999999998}]
[{"$f":"INPUT!A:A","v":45196.885405092595},{"$f":"INPUT!K1271","v":82},{"$f":"INPUT!O1271","v":53.2},{"$f":"INPUT!AH1271","v":59},{"$f":"INPUT!AJ1271","v":2.4}]
[{"$f":"INPUT!A:A","v":45196.886099537034},{"$f":"INPUT!K1272","v":81.900000000000006},{"$f":"INPUT!O1272","v":53.2},{"$f":"INPUT!AH1272","v":59},{"$f":"INPUT!AJ1272","v":2.4}]
[{"$f":"INPUT!A:A","v":45196.886805555558},{"$f":"INPUT!K1273","v":81.900000000000006},{"$f":"INPUT!O1273","v":53.2},{"$f":"INPUT!AH1273","v":59},{"$f":"INPUT!AJ1273","v":2.2999999999999998}]
[{"$f":"INPUT!A:A","v":45196.887511574074},{"$f":"INPUT!K1274","v":81.8},{"$f":"INPUT!O1274","v":53.2},{"$f":"INPUT!AH1274","v":59},{"$f":"INPUT!AJ1274","v":2.2999999999999998}]
[{"$f":"INPUT!A:A","v":45196.88821759259},{"$f":"INPUT!K1275","v":81.7},{"$f":"INPUT!O1275","v":53.2},{"$f":"INPUT!AH1275","v":59},{"$f":"INPUT!AJ1275","v":2.2999999999999998}]
[{"$f":"INPUT!A:A","v":45196.888923611114},{"$f":"INPUT!K1276","v":81.7},{"$f":"INPUT!O1276","v":53.2},{"$f":"INPUT!AH1276","v":59},{"$f":"INPUT!AJ1276","v":2.2999999999999998}]
[{"$f":"INPUT!A:A","v":45196.88962962963},{"$f":"INPUT!K1277","v":81.599999999999994},{"$f":"INPUT!O1277","v":53.2},{"$f":"INPUT!AH1277","v":59},{"$f":"INPUT!AJ1277","v":2.2999999999999998}]
[{"$f":"INPUT!A:A","v":45196.890324074076},{"$f":"INPUT!K1278","v":81.5},{"$f":"INPUT!O1278","v":53.2},{"$f":"INPUT!AH1278","v":59},{"$f":"INPUT!AJ1278","v":2.4}]
[{"$f":"INPUT!A:A","v":45196.891030092593},{"$f":"INPUT!K1279","v":81.5},{"$f":"INPUT!O1279","v":53.2},{"$f":"INPUT!AH1279","v":59},{"$f":"INPUT!AJ1279","v":2.4}]
[{"$f":"INPUT!A:A","v":45196.891736111109},{"$f":"INPUT!K1280","v":81.400000000000006},{"$f":"INPUT!O1280","v":53.2},{"$f":"INPUT!AH1280","v":59},{"$f":"INPUT!AJ1280","v":2.2999999999999998}]
[{"$f":"INPUT!A:A","v":45196.892442129632},{"$f":"INPUT!K1281","v":81.3},{"$f":"INPUT!O1281","v":53.2},{"$f":"INPUT!AH1281","v":59},{"$f":"INPUT!AJ1281","v":2.2999999999999998}]
[{"$f":"INPUT!A:A","v":45196.893148148149},{"$f":"INPUT!K1282","v":81.3},{"$f":"INPUT!O1282","v":53.2},{"$f":"INPUT!AH1282","v":59},{"$f":"INPUT!AJ1282","v":2.4}]
[{"$f":"INPUT!A:A","v":45196.893854166665},{"$f":"INPUT!K1283","v":81.2},{"$f":"INPUT!O1283","v":53.2},{"$f":"INPUT!AH1283","v":59},{"$f":"INPUT!AJ1283","v":2.4}]
[{"$f":"INPUT!A:A","v":45196.894571759258},{"$f":"INPUT!K1284","v":81.099999999999994},{"$f":"INPUT!O1284","v":53.2},{"$f":"INPUT!AH1284","v":59},{"$f":"INPUT!AJ1284","v":2.2999999999999998}]
[{"$f":"INPUT!A:A","v":45196.895277777781},{"$f":"INPUT!K1285","v":81.099999999999994},{"$f":"INPUT!O1285","v":53.2},{"$f":"INPUT!AH1285","v":59},{"$f":"INPUT!AJ1285","v":2.2000000000000002}]
[{"$f":"INPUT!A:A","v":45196.895983796298},{"$f":"INPUT!K1286","v":81},{"$f":"INPUT!O1286","v":53.2},{"$f":"INPUT!AH1286","v":59},{"$f":"INPUT!AJ1286","v":2.4}]
[{"$f":"INPUT!A:A","v":45196.896678240744},{"$f":"INPUT!K1287","v":80.900000000000006},{"$f":"INPUT!O1287","v":53.2},{"$f":"INPUT!AH1287","v":59},{"$f":"INPUT!AJ1287","v":2.4}]
[{"$f":"INPUT!A:A","v":45196.89738425926},{"$f":"INPUT!K1288","v":80.900000000000006},{"$f":"INPUT!O1288","v":53.2},{"$f":"INPUT!AH1288","v":59},{"$f":"INPUT!AJ1288","v":2.2999999999999998}]
[{"$f":"INPUT!A:A","v":45196.898078703707},{"$f":"INPUT!K1289","v":80.8},{"$f":"INPUT!O1289","v":53.2},{"$f":"INPUT!AH1289","v":59},{"$f":"INPUT!AJ1289","v":2.2000000000000002}]
[{"$f":"INPUT!A:A","v":45196.898784722223},{"$f":"INPUT!K1290","v":80.8},{"$f":"INPUT!O1290","v":53.2},{"$f":"INPUT!AH1290","v":59},{"$f":"INPUT!AJ1290","v":2.2999999999999998}]
[{"$f":"INPUT!A:A","v":45196.89949074074},{"$f":"INPUT!K1291","v":80.7},{"$f":"INPUT!O1291","v":53.2},{"$f":"INPUT!AH1291","v":59},{"$f":"INPUT!AJ1291","v":2.2999999999999998}]
[{"$f":"INPUT!A:A","v":45196.900196759256},{"$f":"INPUT!K1292","v":80.599999999999994},{"$f":"INPUT!O1292","v":53.2},{"$f":"INPUT!AH1292","v":59},{"$f":"INPUT!AJ1292","v":2.2000000000000002}]
[{"$f":"INPUT!A:A","v":45196.900891203702},{"$f":"INPUT!K1293","v":80.599999999999994},{"$f":"INPUT!O1293","v":53.2},{"$f":"INPUT!AH1293","v":59},{"$f":"INPUT!AJ1293","v":2.2999999999999998}]
[{"$f":"INPUT!A:A","v":45196.901608796295},{"$f":"INPUT!K1294","v":80.5},{"$f":"INPUT!O1294","v":53.2},{"$f":"INPUT!AH1294","v":59},{"$f":"INPUT!AJ1294","v":2.4}]
[{"$f":"INPUT!A:A","v":45196.902303240742},{"$f":"INPUT!K1295","v":80.5},{"$f":"INPUT!O1295","v":53.2},{"$f":"INPUT!AH1295","v":59},{"$f":"INPUT!AJ1295","v":2.2999999999999998}]
[{"$f":"INPUT!A:A","v":45196.903009259258},{"$f":"INPUT!K1296","v":80.400000000000006},{"$f":"INPUT!O1296","v":53.2},{"$f":"INPUT!AH1296","v":59},{"$f":"INPUT!AJ1296","v":2.2999999999999998}]
[{"$f":"INPUT!A:A","v":45196.903703703705},{"$f":"INPUT!K1297","v":80.400000000000006},{"$f":"INPUT!O1297","v":53.2},{"$f":"INPUT!AH1297","v":59},{"$f":"INPUT!AJ1297","v":2.2999999999999998}]
[{"$f":"INPUT!A:A","v":45196.904409722221},{"$f":"INPUT!K1298","v":80.3},{"$f":"INPUT!O1298","v":53.2},{"$f":"INPUT!AH1298","v":59},{"$f":"INPUT!AJ1298","v":2.4}]
[{"$f":"INPUT!A:A","v":45196.905115740738},{"$f":"INPUT!K1299","v":80.2},{"$f":"INPUT!O1299","v":53.2},{"$f":"INPUT!AH1299","v":59},{"$f":"INPUT!AJ1299","v":2.2999999999999998}]
[{"$f":"INPUT!A:A","v":45196.905821759261},{"$f":"INPUT!K1300","v":80.099999999999994},{"$f":"INPUT!O1300","v":53.2},{"$f":"INPUT!AH1300","v":59},{"$f":"INPUT!AJ1300","v":2.4}]
[{"$f":"INPUT!A:A","v":45196.9065162037},{"$f":"INPUT!K1301","v":80.099999999999994},{"$f":"INPUT!O1301","v":53.2},{"$f":"INPUT!AH1301","v":59},{"$f":"INPUT!AJ1301","v":2.4}]
[{"$f":"INPUT!A:A","v":45196.907222222224},{"$f":"INPUT!K1302","v":80},{"$f":"INPUT!O1302","v":53.2},{"$f":"INPUT!AH1302","v":59},{"$f":"INPUT!AJ1302","v":2.4}]
[{"$f":"INPUT!A:A","v":45196.90792824074},{"$f":"INPUT!K1303","v":79.900000000000006},{"$f":"INPUT!O1303","v":53.2},{"$f":"INPUT!AH1303","v":59},{"$f":"INPUT!AJ1303","v":2.2000000000000002}]
[{"$f":"INPUT!A:A","v":45196.908645833333},{"$f":"INPUT!K1304","v":79.900000000000006},{"$f":"INPUT!O1304","v":53.2},{"$f":"INPUT!AH1304","v":59},{"$f":"INPUT!AJ1304","v":2.2000000000000002}]
[{"$f":"INPUT!A:A","v":45196.909351851849},{"$f":"INPUT!K1305","v":79.8},{"$f":"INPUT!O1305","v":53.2},{"$f":"INPUT!AH1305","v":59},{"$f":"INPUT!AJ1305","v":2.2999999999999998}]
[{"$f":"INPUT!A:A","v":45196.910057870373},{"$f":"INPUT!K1306","v":79.8},{"$f":"INPUT!O1306","v":53.2},{"$f":"INPUT!AH1306","v":59},{"$f":"INPUT!AJ1306","v":2.2999999999999998}]
[{"$f":"INPUT!A:A","v":45196.910752314812},{"$f":"INPUT!K1307","v":79.7},{"$f":"INPUT!O1307","v":53.2},{"$f":"INPUT!AH1307","v":59},{"$f":"INPUT!AJ1307","v":2.2000000000000002}]
[{"$f":"INPUT!A:A","v":45196.911458333336},{"$f":"INPUT!K1308","v":79.7},{"$f":"INPUT!O1308","v":53.2},{"$f":"INPUT!AH1308","v":59},{"$f":"INPUT!AJ1308","v":2.2999999999999998}]
[{"$f":"INPUT!A:A","v":45196.912164351852},{"$f":"INPUT!K1309","v":79.599999999999994},{"$f":"INPUT!O1309","v":53.2},{"$f":"INPUT!AH1309","v":59},{"$f":"INPUT!AJ1309","v":2.2999999999999998}]
[{"$f":"INPUT!A:A","v":45196.912870370368},{"$f":"INPUT!K1310","v":79.5},{"$f":"INPUT!O1310","v":53.2},{"$f":"INPUT!AH1310","v":59},{"$f":"INPUT!AJ1310","v":2.2999999999999998}]
[{"$f":"INPUT!A:A","v":45196.913564814815},{"$f":"INPUT!K1311","v":79.5},{"$f":"INPUT!O1311","v":53.2},{"$f":"INPUT!AH1311","v":59},{"$f":"INPUT!AJ1311","v":2.2000000000000002}]
[{"$f":"INPUT!A:A","v":45196.914270833331},{"$f":"INPUT!K1312","v":79.400000000000006},{"$f":"INPUT!O1312","v":53.2},{"$f":"INPUT!AH1312","v":59},{"$f":"INPUT!AJ1312","v":2.2999999999999998}]
[{"$f":"INPUT!A:A","v":45196.914988425924},{"$f":"INPUT!K1313","v":79.3},{"$f":"INPUT!O1313","v":53.1},{"$f":"INPUT!AH1313","v":59},{"$f":"INPUT!AJ1313","v":2.2999999999999998}]
[{"$f":"INPUT!A:A","v":45196.915694444448},{"$f":"INPUT!K1314","v":79.3},{"$f":"INPUT!O1314","v":53.2},{"$f":"INPUT!AH1314","v":59},{"$f":"INPUT!AJ1314","v":2.2999999999999998}]
[{"$f":"INPUT!A:A","v":45196.916388888887},{"$f":"INPUT!K1315","v":79.2},{"$f":"INPUT!O1315","v":53.2},{"$f":"INPUT!AH1315","v":59},{"$f":"INPUT!AJ1315","v":2.2999999999999998}]
[{"$f":"INPUT!A:A","v":45196.917094907411},{"$f":"INPUT!K1316","v":79.2},{"$f":"INPUT!O1316","v":53.2},{"$f":"INPUT!AH1316","v":59},{"$f":"INPUT!AJ1316","v":2.2999999999999998}]
[{"$f":"INPUT!A:A","v":45196.917800925927},{"$f":"INPUT!K1317","v":79.099999999999994},{"$f":"INPUT!O1317","v":53.2},{"$f":"INPUT!AH1317","v":59},{"$f":"INPUT!AJ1317","v":2.4}]
[{"$f":"INPUT!A:A","v":45196.918495370373},{"$f":"INPUT!K1318","v":79},{"$f":"INPUT!O1318","v":53.2},{"$f":"INPUT!AH1318","v":59},{"$f":"INPUT!AJ1318","v":2.2000000000000002}]
[{"$f":"INPUT!A:A","v":45196.91920138889},{"$f":"INPUT!K1319","v":79},{"$f":"INPUT!O1319","v":53.2},{"$f":"INPUT!AH1319","v":59},{"$f":"INPUT!AJ1319","v":2.2999999999999998}]
[{"$f":"INPUT!A:A","v":45196.919907407406},{"$f":"INPUT!K1320","v":78.900000000000006},{"$f":"INPUT!O1320","v":53.2},{"$f":"INPUT!AH1320","v":59},{"$f":"INPUT!AJ1320","v":2.2999999999999998}]
[{"$f":"INPUT!A:A","v":45196.920601851853},{"$f":"INPUT!K1321","v":78.900000000000006},{"$f":"INPUT!O1321","v":53.2},{"$f":"INPUT!AH1321","v":59},{"$f":"INPUT!AJ1321","v":2.2999999999999998}]
[{"$f":"INPUT!A:A","v":45196.921296296299},{"$f":"INPUT!K1322","v":78.8},{"$f":"INPUT!O1322","v":53.1},{"$f":"INPUT!AH1322","v":59},{"$f":"INPUT!AJ1322","v":2.2999999999999998}]
[{"$f":"INPUT!A:A","v":45196.922025462962},{"$f":"INPUT!K1323","v":78.7},{"$f":"INPUT!O1323","v":53.2},{"$f":"INPUT!AH1323","v":59},{"$f":"INPUT!AJ1323","v":2.2999999999999998}]
[{"$f":"INPUT!A:A","v":45196.922731481478},{"$f":"INPUT!K1324","v":78.7},{"$f":"INPUT!O1324","v":53.1},{"$f":"INPUT!AH1324","v":59},{"$f":"INPUT!AJ1324","v":2.2000000000000002}]
[{"$f":"INPUT!A:A","v":45196.923425925925},{"$f":"INPUT!K1325","v":78.599999999999994},{"$f":"INPUT!O1325","v":53.1},{"$f":"INPUT!AH1325","v":59},{"$f":"INPUT!AJ1325","v":2.2999999999999998}]
[{"$f":"INPUT!A:A","v":45196.924131944441},{"$f":"INPUT!K1326","v":78.5},{"$f":"INPUT!O1326","v":53.1},{"$f":"INPUT!AH1326","v":59},{"$f":"INPUT!AJ1326","v":2.2999999999999998}]
[{"$f":"INPUT!A:A","v":45196.924826388888},{"$f":"INPUT!K1327","v":78.400000000000006},{"$f":"INPUT!O1327","v":53.1},{"$f":"INPUT!AH1327","v":59},{"$f":"INPUT!AJ1327","v":2.2999999999999998}]
[{"$f":"INPUT!A:A","v":45196.925532407404},{"$f":"INPUT!K1328","v":78.400000000000006},{"$f":"INPUT!O1328","v":53.1},{"$f":"INPUT!AH1328","v":59},{"$f":"INPUT!AJ1328","v":2.2000000000000002}]
[{"$f":"INPUT!A:A","v":45196.926238425927},{"$f":"INPUT!K1329","v":78.3},{"$f":"INPUT!O1329","v":53.1},{"$f":"INPUT!AH1329","v":59},{"$f":"INPUT!AJ1329","v":2.2999999999999998}]
[{"$f":"INPUT!A:A","v":45196.926932870374},{"$f":"INPUT!K1330","v":78.2},{"$f":"INPUT!O1330","v":53.1},{"$f":"INPUT!AH1330","v":59},{"$f":"INPUT!AJ1330","v":2.2999999999999998}]
[{"$f":"INPUT!A:A","v":45196.92763888889},{"$f":"INPUT!K1331","v":78.2},{"$f":"INPUT!O1331","v":53.1},{"$f":"INPUT!AH1331","v":59},{"$f":"INPUT!AJ1331","v":2.2999999999999998}]
[{"$f":"INPUT!A:A","v":45196.928333333337},{"$f":"INPUT!K1332","v":78.099999999999994},{"$f":"INPUT!O1332","v":53.1},{"$f":"INPUT!AH1332","v":59},{"$f":"INPUT!AJ1332","v":2.2999999999999998}]
[{"$f":"INPUT!A:A","v":45196.929050925923},{"$f":"INPUT!K1333","v":78},{"$f":"INPUT!O1333","v":53.1},{"$f":"INPUT!AH1333","v":59},{"$f":"INPUT!AJ1333","v":2.2999999999999998}]
[{"$f":"INPUT!A:A","v":45196.929756944446},{"$f":"INPUT!K1334","v":78},{"$f":"INPUT!O1334","v":53.1},{"$f":"INPUT!AH1334","v":59},{"$f":"INPUT!AJ1334","v":2.2999999999999998}]
[{"$f":"INPUT!A:A","v":45196.930462962962},{"$f":"INPUT!K1335","v":77.900000000000006},{"$f":"INPUT!O1335","v":53.1},{"$f":"INPUT!AH1335","v":59},{"$f":"INPUT!AJ1335","v":2.2999999999999998}]
[{"$f":"INPUT!A:A","v":45196.931157407409},{"$f":"INPUT!K1336","v":77.8},{"$f":"INPUT!O1336","v":53.1},{"$f":"INPUT!AH1336","v":59},{"$f":"INPUT!AJ1336","v":2.2999999999999998}]
[{"$f":"INPUT!A:A","v":45196.931851851848},{"$f":"INPUT!K1337","v":77.8},{"$f":"INPUT!O1337","v":53.1},{"$f":"INPUT!AH1337","v":59},{"$f":"INPUT!AJ1337","v":2.2999999999999998}]
[{"$f":"INPUT!A:A","v":45196.932557870372},{"$f":"INPUT!K1338","v":77.7},{"$f":"INPUT!O1338","v":53.1},{"$f":"INPUT!AH1338","v":59},{"$f":"INPUT!AJ1338","v":2.4}]
[{"$f":"INPUT!A:A","v":45196.933263888888},{"$f":"INPUT!K1339","v":77.599999999999994},{"$f":"INPUT!O1339","v":53.1},{"$f":"INPUT!AH1339","v":59},{"$f":"INPUT!AJ1339","v":2.2999999999999998}]
[{"$f":"INPUT!A:A","v":45196.933958333335},{"$f":"INPUT!K1340","v":77.599999999999994},{"$f":"INPUT!O1340","v":53.1},{"$f":"INPUT!AH1340","v":59},{"$f":"INPUT!AJ1340","v":2.2999999999999998}]
[{"$f":"INPUT!A:A","v":45196.934664351851},{"$f":"INPUT!K1341","v":77.5},{"$f":"INPUT!O1341","v":53.1},{"$f":"INPUT!AH1341","v":59},{"$f":"INPUT!AJ1341","v":2.2999999999999998}]
[{"$f":"INPUT!A:A","v":45196.935370370367},{"$f":"INPUT!K1342","v":77.400000000000006},{"$f":"INPUT!O1342","v":53.1},{"$f":"INPUT!AH1342","v":59},{"$f":"INPUT!AJ1342","v":2.4}]
[{"$f":"INPUT!A:A","v":45196.93608796296},{"$f":"INPUT!K1343","v":77.400000000000006},{"$f":"INPUT!O1343","v":53.1},{"$f":"INPUT!AH1343","v":59},{"$f":"INPUT!AJ1343","v":2.2999999999999998}]
[{"$f":"INPUT!A:A","v":45196.936793981484},{"$f":"INPUT!K1344","v":77.3},{"$f":"INPUT!O1344","v":53.1},{"$f":"INPUT!AH1344","v":59},{"$f":"INPUT!AJ1344","v":2.2999999999999998}]
[{"$f":"INPUT!A:A","v":45196.937488425923},{"$f":"INPUT!K1345","v":77.2},{"$f":"INPUT!O1345","v":53.1},{"$f":"INPUT!AH1345","v":59},{"$f":"INPUT!AJ1345","v":2.2999999999999998}]
[{"$f":"INPUT!A:A","v":45196.938194444447},{"$f":"INPUT!K1346","v":77.2},{"$f":"INPUT!O1346","v":53.1},{"$f":"INPUT!AH1346","v":59},{"$f":"INPUT!AJ1346","v":2.2999999999999998}]
[{"$f":"INPUT!A:A","v":45196.938900462963},{"$f":"INPUT!K1347","v":77.099999999999994},{"$f":"INPUT!O1347","v":53.1},{"$f":"INPUT!AH1347","v":59},{"$f":"INPUT!AJ1347","v":2.2000000000000002}]
[{"$f":"INPUT!A:A","v":45196.93959490741},{"$f":"INPUT!K1348","v":77},{"$f":"INPUT!O1348","v":53.1},{"$f":"INPUT!AH1348","v":59},{"$f":"INPUT!AJ1348","v":2.2000000000000002}]
[{"$f":"INPUT!A:A","v":45196.940300925926},{"$f":"INPUT!K1349","v":77},{"$f":"INPUT!O1349","v":53.1},{"$f":"INPUT!AH1349","v":59},{"$f":"INPUT!AJ1349","v":2.2000000000000002}]
[{"$f":"INPUT!A:A","v":45196.941006944442},{"$f":"INPUT!K1350","v":76.900000000000006},{"$f":"INPUT!O1350","v":53.1},{"$f":"INPUT!AH1350","v":59},{"$f":"INPUT!AJ1350","v":2.2999999999999998}]
[{"$f":"INPUT!A:A","v":45196.941712962966},{"$f":"INPUT!K1351","v":76.8},{"$f":"INPUT!O1351","v":53.1},{"$f":"INPUT!AH1351","v":59},{"$f":"INPUT!AJ1351","v":2.2999999999999998}]
[{"$f":"INPUT!A:A","v":45196.942418981482},{"$f":"INPUT!K1352","v":76.8},{"$f":"INPUT!O1352","v":53.2},{"$f":"INPUT!AH1352","v":59},{"$f":"INPUT!AJ1352","v":2.2999999999999998}]
[{"$f":"INPUT!A:A","v":45196.943136574075},{"$f":"INPUT!K1353","v":76.7},{"$f":"INPUT!O1353","v":53.2},{"$f":"INPUT!AH1353","v":59},{"$f":"INPUT!AJ1353","v":2.2000000000000002}]
[{"$f":"INPUT!A:A","v":45196.943842592591},{"$f":"INPUT!K1354","v":76.7},{"$f":"INPUT!O1354","v":53.1},{"$f":"INPUT!AH1354","v":59},{"$f":"INPUT!AJ1354","v":2.2999999999999998}]
[{"$f":"INPUT!A:A","v":45196.944548611114},{"$f":"INPUT!K1355","v":76.599999999999994},{"$f":"INPUT!O1355","v":53.1},{"$f":"INPUT!AH1355","v":59},{"$f":"INPUT!AJ1355","v":2.2999999999999998}]
[{"$f":"INPUT!A:A","v":45196.945254629631},{"$f":"INPUT!K1356","v":76.5},{"$f":"INPUT!O1356","v":53.2},{"$f":"INPUT!AH1356","v":59},{"$f":"INPUT!AJ1356","v":2.2999999999999998}]
[{"$f":"INPUT!A:A","v":45196.945949074077},{"$f":"INPUT!K1357","v":76.5},{"$f":"INPUT!O1357","v":53.1},{"$f":"INPUT!AH1357","v":59},{"$f":"INPUT!AJ1357","v":2.2999999999999998}]
[{"$f":"INPUT!A:A","v":45196.946655092594},{"$f":"INPUT!K1358","v":76.400000000000006},{"$f":"INPUT!O1358","v":53.1},{"$f":"INPUT!AH1358","v":59},{"$f":"INPUT!AJ1358","v":2.2999999999999998}]
[{"$f":"INPUT!A:A","v":45196.94736111111},{"$f":"INPUT!K1359","v":76.400000000000006},{"$f":"INPUT!O1359","v":53.2},{"$f":"INPUT!AH1359","v":59},{"$f":"INPUT!AJ1359","v":2.2999999999999998}]
[{"$f":"INPUT!A:A","v":45196.948067129626},{"$f":"INPUT!K1360","v":76.3},{"$f":"INPUT!O1360","v":53.2},{"$f":"INPUT!AH1360","v":59},{"$f":"INPUT!AJ1360","v":2.2999999999999998}]
[{"$f":"INPUT!A:A","v":45196.948773148149},{"$f":"INPUT!K1361","v":76.2},{"$f":"INPUT!O1361","v":53.2},{"$f":"INPUT!AH1361","v":59},{"$f":"INPUT!AJ1361","v":2.2999999999999998}]
[{"$f":"INPUT!A:A","v":45196.949479166666},{"$f":"INPUT!K1362","v":76.2},{"$f":"INPUT!O1362","v":53.2},{"$f":"INPUT!AH1362","v":59},{"$f":"INPUT!AJ1362","v":2.2999999999999998}]
[{"$f":"INPUT!A:A","v":45196.950185185182},{"$f":"INPUT!K1363","v":76.099999999999994},{"$f":"INPUT!O1363","v":53.1},{"$f":"INPUT!AH1363","v":59},{"$f":"INPUT!AJ1363","v":2.2999999999999998}]
[{"$f":"INPUT!A:A","v":45196.950891203705},{"$f":"INPUT!K1364","v":76.099999999999994},{"$f":"INPUT!O1364","v":53.1},{"$f":"INPUT!AH1364","v":59},{"$f":"INPUT!AJ1364","v":2.4}]
[{"$f":"INPUT!A:A","v":45196.951597222222},{"$f":"INPUT!K1365","v":76},{"$f":"INPUT!O1365","v":53.1},{"$f":"INPUT!AH1365","v":59},{"$f":"INPUT!AJ1365","v":2.4}]
[{"$f":"INPUT!A:A","v":45196.952291666668},{"$f":"INPUT!K1366","v":75.900000000000006},{"$f":"INPUT!O1366","v":53.1},{"$f":"INPUT!AH1366","v":59},{"$f":"INPUT!AJ1366","v":2.2999999999999998}]
[{"$f":"INPUT!A:A","v":45196.952997685185},{"$f":"INPUT!K1367","v":75.8},{"$f":"INPUT!O1367","v":53.1},{"$f":"INPUT!AH1367","v":59},{"$f":"INPUT!AJ1367","v":2.2999999999999998}]
[{"$f":"INPUT!A:A","v":45196.953703703701},{"$f":"INPUT!K1368","v":75.8},{"$f":"INPUT!O1368","v":53.1},{"$f":"INPUT!AH1368","v":59},{"$f":"INPUT!AJ1368","v":1.8}]
[{"$f":"INPUT!A:A","v":45196.954398148147},{"$f":"INPUT!K1369","v":75.7},{"$f":"INPUT!O1369","v":53.1},{"$f":"INPUT!AH1369","v":59},{"$f":"INPUT!AJ1369","v":1.9}]
[{"$f":"INPUT!A:A","v":45196.955104166664},{"$f":"INPUT!K1370","v":75.599999999999994},{"$f":"INPUT!O1370","v":53.1},{"$f":"INPUT!AH1370","v":59},{"$f":"INPUT!AJ1370","v":1.9}]
[{"$f":"INPUT!A:A","v":45196.955810185187},{"$f":"INPUT!K1371","v":75.599999999999994},{"$f":"INPUT!O1371","v":53.1},{"$f":"INPUT!AH1371","v":59},{"$f":"INPUT!AJ1371","v":1.8}]
[{"$f":"INPUT!A:A","v":45196.956504629627},{"$f":"INPUT!K1372","v":75.5},{"$f":"INPUT!O1372","v":53.1},{"$f":"INPUT!AH1372","v":59},{"$f":"INPUT!AJ1372","v":1.8}]
[{"$f":"INPUT!A:A","v":45196.95722222222},{"$f":"INPUT!K1373","v":75.5},{"$f":"INPUT!O1373","v":53.1},{"$f":"INPUT!AH1373","v":59},{"$f":"INPUT!AJ1373","v":1.9}]
[{"$f":"INPUT!A:A","v":45196.957928240743},{"$f":"INPUT!K1374","v":75.400000000000006},{"$f":"INPUT!O1374","v":53.1},{"$f":"INPUT!AH1374","v":59},{"$f":"INPUT!AJ1374","v":1.8}]
[{"$f":"INPUT!A:A","v":45196.958634259259},{"$f":"INPUT!K1375","v":75.3},{"$f":"INPUT!O1375","v":53.1},{"$f":"INPUT!AH1375","v":59},{"$f":"INPUT!AJ1375","v":2.2999999999999998}]
[{"$f":"INPUT!A:A","v":45196.959328703706},{"$f":"INPUT!K1376","v":75.3},{"$f":"INPUT!O1376","v":53.1},{"$f":"INPUT!AH1376","v":59},{"$f":"INPUT!AJ1376","v":2.4}]
[{"$f":"INPUT!A:A","v":45196.960034722222},{"$f":"INPUT!K1377","v":75.2},{"$f":"INPUT!O1377","v":53.2},{"$f":"INPUT!AH1377","v":59},{"$f":"INPUT!AJ1377","v":2.2999999999999998}]
[{"$f":"INPUT!A:A","v":45196.960740740738},{"$f":"INPUT!K1378","v":75.2},{"$f":"INPUT!O1378","v":53.2},{"$f":"INPUT!AH1378","v":59},{"$f":"INPUT!AJ1378","v":2.2999999999999998}]
[{"$f":"INPUT!A:A","v":45196.961446759262},{"$f":"INPUT!K1379","v":75.099999999999994},{"$f":"INPUT!O1379","v":53.2},{"$f":"INPUT!AH1379","v":59},{"$f":"INPUT!AJ1379","v":2.2999999999999998}]
[{"$f":"INPUT!A:A","v":45196.962152777778},{"$f":"INPUT!K1380","v":75.099999999999994},{"$f":"INPUT!O1380","v":53.2},{"$f":"INPUT!AH1380","v":59},{"$f":"INPUT!AJ1380","v":2.4}]
[{"$f":"INPUT!A:A","v":45196.962858796294},{"$f":"INPUT!K1381","v":75},{"$f":"INPUT!O1381","v":53.2},{"$f":"INPUT!AH1381","v":59},{"$f":"INPUT!AJ1381","v":2.4}]
[{"$f":"INPUT!A:A","v":45196.963564814818},{"$f":"INPUT!K1382","v":75},{"$f":"INPUT!O1382","v":53.1},{"$f":"INPUT!AH1382","v":59},{"$f":"INPUT!AJ1382","v":2.2999999999999998}]
[{"$f":"INPUT!A:A","v":45196.964259259257},{"$f":"INPUT!K1383","v":74.900000000000006},{"$f":"INPUT!O1383","v":53.2},{"$f":"INPUT!AH1383","v":59},{"$f":"INPUT!AJ1383","v":2.2999999999999998}]
[{"$f":"INPUT!A:A","v":45196.964965277781},{"$f":"INPUT!K1384","v":74.8},{"$f":"INPUT!O1384","v":53.2},{"$f":"INPUT!AH1384","v":59},{"$f":"INPUT!AJ1384","v":2.4}]
[{"$f":"INPUT!A:A","v":45196.965671296297},{"$f":"INPUT!K1385","v":74.8},{"$f":"INPUT!O1385","v":53.2},{"$f":"INPUT!AH1385","v":59},{"$f":"INPUT!AJ1385","v":2.2000000000000002}]
[{"$f":"INPUT!A:A","v":45196.966377314813},{"$f":"INPUT!K1386","v":74.7},{"$f":"INPUT!O1386","v":53.1},{"$f":"INPUT!AH1386","v":59},{"$f":"INPUT!AJ1386","v":2.2999999999999998}]
[{"$f":"INPUT!A:A","v":45196.967083333337},{"$f":"INPUT!K1387","v":74.7},{"$f":"INPUT!O1387","v":53.1},{"$f":"INPUT!AH1387","v":59},{"$f":"INPUT!AJ1387","v":2.2999999999999998}]
[{"$f":"INPUT!A:A","v":45196.967777777776},{"$f":"INPUT!K1388","v":74.599999999999994},{"$f":"INPUT!O1388","v":53.1},{"$f":"INPUT!AH1388","v":59},{"$f":"INPUT!AJ1388","v":2.4}]
[{"$f":"INPUT!A:A","v":45196.9684837963},{"$f":"INPUT!K1389","v":74.599999999999994},{"$f":"INPUT!O1389","v":53.1},{"$f":"INPUT!AH1389","v":59},{"$f":"INPUT!AJ1389","v":2.2999999999999998}]
[{"$f":"INPUT!A:A","v":45196.969178240739},{"$f":"INPUT!K1390","v":74.5},{"$f":"INPUT!O1390","v":53.2},{"$f":"INPUT!AH1390","v":59},{"$f":"INPUT!AJ1390","v":2.2999999999999998}]
[{"$f":"INPUT!A:A","v":45196.969884259262},{"$f":"INPUT!K1391","v":74.400000000000006},{"$f":"INPUT!O1391","v":53.2},{"$f":"INPUT!AH1391","v":59},{"$f":"INPUT!AJ1391","v":2.2999999999999998}]
[{"$f":"INPUT!A:A","v":45196.970613425925},{"$f":"INPUT!K1392","v":74.400000000000006},{"$f":"INPUT!O1392","v":53.1},{"$f":"INPUT!AH1392","v":59},{"$f":"INPUT!AJ1392","v":2.2000000000000002}]
[{"$f":"INPUT!A:A","v":45196.971319444441},{"$f":"INPUT!K1393","v":74.3},{"$f":"INPUT!O1393","v":53.1},{"$f":"INPUT!AH1393","v":59},{"$f":"INPUT!AJ1393","v":2.2000000000000002}]
[{"$f":"INPUT!A:A","v":45196.972013888888},{"$f":"INPUT!K1394","v":74.3},{"$f":"INPUT!O1394","v":53.1},{"$f":"INPUT!AH1394","v":59},{"$f":"INPUT!AJ1394","v":2.2999999999999998}]
[{"$f":"INPUT!A:A","v":45196.972719907404},{"$f":"INPUT!K1395","v":74.2},{"$f":"INPUT!O1395","v":53.1},{"$f":"INPUT!AH1395","v":59},{"$f":"INPUT!AJ1395","v":2.2999999999999998}]
[{"$f":"INPUT!A:A","v":45196.973425925928},{"$f":"INPUT!K1396","v":74.099999999999994},{"$f":"INPUT!O1396","v":53.1},{"$f":"INPUT!AH1396","v":59},{"$f":"INPUT!AJ1396","v":2.2999999999999998}]
[{"$f":"INPUT!A:A","v":45196.974120370367},{"$f":"INPUT!K1397","v":74.099999999999994},{"$f":"INPUT!O1397","v":53.1},{"$f":"INPUT!AH1397","v":59},{"$f":"INPUT!AJ1397","v":2.2999999999999998}]
[{"$f":"INPUT!A:A","v":45196.974814814814},{"$f":"INPUT!K1398","v":74},{"$f":"INPUT!O1398","v":53.1},{"$f":"INPUT!AH1398","v":59},{"$f":"INPUT!AJ1398","v":2.4}]
[{"$f":"INPUT!A:A","v":45196.97552083333},{"$f":"INPUT!K1399","v":73.900000000000006},{"$f":"INPUT!O1399","v":53.1},{"$f":"INPUT!AH1399","v":59},{"$f":"INPUT!AJ1399","v":2.2999999999999998}]
[{"$f":"INPUT!A:A","v":45196.976226851853},{"$f":"INPUT!K1400","v":73.900000000000006},{"$f":"INPUT!O1400","v":53.1},{"$f":"INPUT!AH1400","v":59},{"$f":"INPUT!AJ1400","v":2.2999999999999998}]
[{"$f":"INPUT!A:A","v":45196.97693287037},{"$f":"INPUT!K1401","v":73.8},{"$f":"INPUT!O1401","v":53.1},{"$f":"INPUT!AH1401","v":59},{"$f":"INPUT!AJ1401","v":2.2999999999999998}]
[{"$f":"INPUT!A:A","v":45196.977638888886},{"$f":"INPUT!K1402","v":73.8},{"$f":"INPUT!O1402","v":53.1},{"$f":"INPUT!AH1402","v":59},{"$f":"INPUT!AJ1402","v":2.4}]
[{"$f":"INPUT!A:A","v":45196.978344907409},{"$f":"INPUT!K1403","v":73.7},{"$f":"INPUT!O1403","v":53.1},{"$f":"INPUT!AH1403","v":59},{"$f":"INPUT!AJ1403","v":2.4}]
[{"$f":"INPUT!A:A","v":45196.979050925926},{"$f":"INPUT!K1404","v":73.7},{"$f":"INPUT!O1404","v":53.1},{"$f":"INPUT!AH1404","v":59},{"$f":"INPUT!AJ1404","v":2.2999999999999998}]
[{"$f":"INPUT!A:A","v":45196.979756944442},{"$f":"INPUT!K1405","v":73.599999999999994},{"$f":"INPUT!O1405","v":53.1},{"$f":"INPUT!AH1405","v":59},{"$f":"INPUT!AJ1405","v":2.2999999999999998}]
[{"$f":"INPUT!A:A","v":45196.980462962965},{"$f":"INPUT!K1406","v":73.5},{"$f":"INPUT!O1406","v":53.1},{"$f":"INPUT!AH1406","v":59},{"$f":"INPUT!AJ1406","v":2.2999999999999998}]
[{"$f":"INPUT!A:A","v":45196.981168981481},{"$f":"INPUT!K1407","v":73.5},{"$f":"INPUT!O1407","v":53.1},{"$f":"INPUT!AH1407","v":59},{"$f":"INPUT!AJ1407","v":2.2999999999999998}]
[{"$f":"INPUT!A:A","v":45196.981874999998},{"$f":"INPUT!K1408","v":73.400000000000006},{"$f":"INPUT!O1408","v":53.1},{"$f":"INPUT!AH1408","v":59},{"$f":"INPUT!AJ1408","v":2.2999999999999998}]
[{"$f":"INPUT!A:A","v":45196.982581018521},{"$f":"INPUT!K1409","v":73.400000000000006},{"$f":"INPUT!O1409","v":53.1},{"$f":"INPUT!AH1409","v":59},{"$f":"INPUT!AJ1409","v":2.2999999999999998}]
[{"$f":"INPUT!A:A","v":45196.983275462961},{"$f":"INPUT!K1410","v":73.3},{"$f":"INPUT!O1410","v":53.1},{"$f":"INPUT!AH1410","v":59},{"$f":"INPUT!AJ1410","v":2.2999999999999998}]
[{"$f":"INPUT!A:A","v":45196.983981481484},{"$f":"INPUT!K1411","v":73.3},{"$f":"INPUT!O1411","v":53.1},{"$f":"INPUT!AH1411","v":59},{"$f":"INPUT!AJ1411","v":2.2999999999999998}]
[{"$f":"INPUT!A:A","v":45196.984699074077},{"$f":"INPUT!K1412","v":73.2},{"$f":"INPUT!O1412","v":53.1},{"$f":"INPUT!AH1412","v":59},{"$f":"INPUT!AJ1412","v":2.2999999999999998}]
[{"$f":"INPUT!A:A","v":45196.985405092593},{"$f":"INPUT!K1413","v":73.099999999999994},{"$f":"INPUT!O1413","v":53.1},{"$f":"INPUT!AH1413","v":59},{"$f":"INPUT!AJ1413","v":2.2999999999999998}]
[{"$f":"INPUT!A:A","v":45196.98609953704},{"$f":"INPUT!K1414","v":73.099999999999994},{"$f":"INPUT!O1414","v":53.1},{"$f":"INPUT!AH1414","v":59},{"$f":"INPUT!AJ1414","v":2.2999999999999998}]
[{"$f":"INPUT!A:A","v":45196.986805555556},{"$f":"INPUT!K1415","v":73},{"$f":"INPUT!O1415","v":53.1},{"$f":"INPUT!AH1415","v":59},{"$f":"INPUT!AJ1415","v":2.2999999999999998}]
[{"$f":"INPUT!A:A","v":45196.987511574072},{"$f":"INPUT!K1416","v":73},{"$f":"INPUT!O1416","v":53.1},{"$f":"INPUT!AH1416","v":59},{"$f":"INPUT!AJ1416","v":2.2999999999999998}]
[{"$f":"INPUT!A:A","v":45196.988206018519},{"$f":"INPUT!K1417","v":72.900000000000006},{"$f":"INPUT!O1417","v":53.1},{"$f":"INPUT!AH1417","v":59},{"$f":"INPUT!AJ1417","v":2.4}]
[{"$f":"INPUT!A:A","v":45196.988912037035},{"$f":"INPUT!K1418","v":72.8},{"$f":"INPUT!O1418","v":53.1},{"$f":"INPUT!AH1418","v":59},{"$f":"INPUT!AJ1418","v":2.2999999999999998}]
[{"$f":"INPUT!A:A","v":45196.989618055559},{"$f":"INPUT!K1419","v":72.8},{"$f":"INPUT!O1419","v":53.1},{"$f":"INPUT!AH1419","v":59},{"$f":"INPUT!AJ1419","v":2.2000000000000002}]
[{"$f":"INPUT!A:A","v":45196.990324074075},{"$f":"INPUT!K1420","v":72.7},{"$f":"INPUT!O1420","v":53.1},{"$f":"INPUT!AH1420","v":59},{"$f":"INPUT!AJ1420","v":2.2999999999999998}]
[{"$f":"INPUT!A:A","v":45196.991018518522},{"$f":"INPUT!K1421","v":72.599999999999994},{"$f":"INPUT!O1421","v":53.1},{"$f":"INPUT!AH1421","v":59},{"$f":"INPUT!AJ1421","v":2.2999999999999998}]
[{"$f":"INPUT!A:A","v":45196.991736111115},{"$f":"INPUT!K1422","v":72.599999999999994},{"$f":"INPUT!O1422","v":53.1},{"$f":"INPUT!AH1422","v":59},{"$f":"INPUT!AJ1422","v":2.2999999999999998}]
[{"$f":"INPUT!A:A","v":45196.992430555554},{"$f":"INPUT!K1423","v":72.5},{"$f":"INPUT!O1423","v":53.1},{"$f":"INPUT!AH1423","v":59},{"$f":"INPUT!AJ1423","v":2.2000000000000002}]
[{"$f":"INPUT!A:A","v":45196.993136574078},{"$f":"INPUT!K1424","v":72.400000000000006},{"$f":"INPUT!O1424","v":53.1},{"$f":"INPUT!AH1424","v":59},{"$f":"INPUT!AJ1424","v":2.2999999999999998}]
[{"$f":"INPUT!A:A","v":45196.993831018517},{"$f":"INPUT!K1425","v":72.3},{"$f":"INPUT!O1425","v":53.1},{"$f":"INPUT!AH1425","v":59},{"$f":"INPUT!AJ1425","v":2.2999999999999998}]
[{"$f":"INPUT!A:A","v":45196.994537037041},{"$f":"INPUT!K1426","v":72.3},{"$f":"INPUT!O1426","v":53.1},{"$f":"INPUT!AH1426","v":59},{"$f":"INPUT!AJ1426","v":2.2000000000000002}]
[{"$f":"INPUT!A:A","v":45196.995243055557},{"$f":"INPUT!K1427","v":72.2},{"$f":"INPUT!O1427","v":53.1},{"$f":"INPUT!AH1427","v":59},{"$f":"INPUT!AJ1427","v":2.4}]
[{"$f":"INPUT!A:A","v":45196.995949074073},{"$f":"INPUT!K1428","v":72.099999999999994},{"$f":"INPUT!O1428","v":53.1},{"$f":"INPUT!AH1428","v":59},{"$f":"INPUT!AJ1428","v":2.4}]
[{"$f":"INPUT!A:A","v":45196.996655092589},{"$f":"INPUT!K1429","v":72},{"$f":"INPUT!O1429","v":53.1},{"$f":"INPUT!AH1429","v":59},{"$f":"INPUT!AJ1429","v":2.2999999999999998}]
[{"$f":"INPUT!A:A","v":45196.997361111113},{"$f":"INPUT!K1430","v":71.900000000000006},{"$f":"INPUT!O1430","v":53.1},{"$f":"INPUT!AH1430","v":59},{"$f":"INPUT!AJ1430","v":2.2999999999999998}]
[{"$f":"INPUT!A:A","v":45196.998067129629},{"$f":"INPUT!K1431","v":71.8},{"$f":"INPUT!O1431","v":53.1},{"$f":"INPUT!AH1431","v":59},{"$f":"INPUT!AJ1431","v":2.4}]
[{"$f":"INPUT!A:A","v":45196.998773148145},{"$f":"INPUT!K1432","v":71.8},{"$f":"INPUT!O1432","v":53.1},{"$f":"INPUT!AH1432","v":59},{"$f":"INPUT!AJ1432","v":2.2999999999999998}]
[{"$f":"INPUT!A:A","v":45196.999479166669},{"$f":"INPUT!K1433","v":71.7},{"$f":"INPUT!O1433","v":53.1},{"$f":"INPUT!AH1433","v":59},{"$f":"INPUT!AJ1433","v":2.2000000000000002}]

{"sheet":"Sheet3","index":3,"n_rows":0,"n_cols":0,"rows_kept":0,"cut":false,"hidden":false,"merged":[]}